BEGIN:VCALENDAR
VERSION:2.0
PRODID:-//უნივერსიტეტის ღონისძიებების პორტალი - ECPv6.2.8.2//NONSGML v1.0//EN
CALSCALE:GREGORIAN
METHOD:PUBLISH
X-ORIGINAL-URL:https://events.iliauni.edu.ge
X-WR-CALDESC:Events for უნივერსიტეტის ღონისძიებების პორტალი
REFRESH-INTERVAL;VALUE=DURATION:PT1H
X-Robots-Tag:noindex
X-PUBLISHED-TTL:PT1H
BEGIN:VTIMEZONE
TZID:Asia/Dubai
BEGIN:STANDARD
TZOFFSETFROM:+0400
TZOFFSETTO:+0400
TZNAME:+04
DTSTART:20240101T000000
END:STANDARD
END:VTIMEZONE
BEGIN:VEVENT
DTSTART;TZID=Asia/Dubai:20240704T100000
DTEND;TZID=Asia/Dubai:20240805T103000
DTSTAMP:20260422T055902
CREATED:20240626T073202Z
LAST-MODIFIED:20241122T110937Z
UID:10005482-1720087200-1722853800@events.iliauni.edu.ge
SUMMARY:საზღვრებს მიღმა: კორეულ-ქართული ახალგაზრდული ბანაკი 2024
DESCRIPTION:4-8 ივლისს ილიას სახელმწიფო უნივერსიტეტში კორეის ინჰას უნივერსიტეტისა და ილიას სახელმწიფო უნივერსიტეტის კორეის კვლევების ცენტრის ინიციატივით\, გ. წერეთლის აღმოსავლეთმცოდნეობის ინსტიტუტისა და ილიაუნის კორეული კულტურის სტუდენტური კლუბის მონაწილეობით გაიმართება 5-დღიანი სტუდენტური კონფერენცია/ბანაკი. \n4 და 5 ივლისს თბილისში გაიმართება აკადემიური კონფერენცია. \nდამსწრე საზოგადოებას საშუალება ექნება\, მოუსმინოს და შეკითხვები დაუსვას კორეელ და ქართველ მომხსენებლებს\, გაეცნოს საქართველო-კორეის ურთიერთობებთან დაკავშირებულ სხვადასხვა სფეროს მნიშვნელოვან საკითხებს.. \nღონისძიებას გახსნის ილიას სახელმწიფო უნივერსიტეტის რექტორი ნინო დობორჯგინიძე. \nპროგრამის სანახავად იხილეთ ბმული: https://events.iliauni.edu.ge/wp-content/uploads/2024/06/83896.pdf \nღონისძიების სპონსორები:  \n\nილიას სახელმწიფო უნივერსიტეტი\nინჰას უნივერსიტეტი\nკორეის რესპუბლიკის საელჩოს ოფისი საქართველოში\nგ. წერეთლის აღმოსავლეთმცოდნეობის ინსტიტუტი\nუცხო ენების სასწავლო ცენტრიMillennium House\nრესტორანი „სეული“\nრესტორანი KOREA\nმეღვინეობა „აკიდო“\nმეღვინეობა Muzze\nქართული ჩიფსი „ფრიქსი • FRIXX“\nOttogi Georgia\nAlterSocks • ალტერსოქსი\n\nსამუშაო ენა: ინგლისური \nდრო: \n\n4 ივლისი\, 10:00 საათი ადგილმდებარეობა: ილიას სახელმწიფო უნივერსიტეტის G106 აუდიტორია\, გ. წერეთლის ქ. N3\n5 ივლისი\, 10:30 საათი ადგილმდებარეობა: ილიას სახელმწიფო უნივერსიტეტის T106 აუდიტორია\, გ. წერეთლის ქ. N3\n\nდასწრება თავისუფალია.
URL:https://events.iliauni.edu.ge/event/sazghvrebs-mighma-koreul-qarthuli-akhalgazrduli-banaki-2024/
CATEGORIES:კონფერენციები,ღონისძიებები
ATTACH;FMTTYPE=image/png:https://events.iliauni.edu.ge/wp-content/uploads/2024/06/nese.png
END:VEVENT
BEGIN:VEVENT
DTSTART;TZID=Asia/Dubai:20240710T080000
DTEND;TZID=Asia/Dubai:20240712T170000
DTSTAMP:20260422T055902
CREATED:20240705T102805Z
LAST-MODIFIED:20241122T110937Z
UID:10005494-1720598400-1720803600@events.iliauni.edu.ge
SUMMARY:საზაფხულო ტრენინგი იმპლემენტაციურ მეცნიერებასა და ბიოსტატისტიკაში
DESCRIPTION:10\, 11 და 12 ივლისს\, ილიას სახელმწიფო უნივერსიტეტში\, საბუნებისმეტყველო მეცნიერებებისა და მედიცინის ფაკულტეტის ბაზაზე Georgian Implementation Science Fogarty Training (GIFT) პროგრამის ფარგლებში ჩატარდება საზაფხულო ინტენსიური ტრენინგი აშშ-ს იელის უნივერსიტეტის საზოგადოებრივი ჯანდაცვის სკოლის წამყვანი პროფესორების მიერ. \nტრენინგის მიზანია დაინტერესებულ პირებს დაეხმაროს იმპლემენტაციურ მეცნიერებასა და ბიოსტატისტიკაში თეორიული და პრაქტიკული უნარების განვითარებაში. \nვისთვის არის ტრენინგი: საზოგადოებრივი ჯანდაცვის მაგისტრატურის და დოქტორანტურის სტუდენტებისთვის\, დასაქმებული საზოგადოებრივი ჯანდაცვის სპეციალისტებისთვის\, პედაგოგებისთვის\, ლექტორებისა და პროფესორებისთვის \nადგილების რაოდენობა შეზღუდულია – მაქსიმუმ 100 მონაწილე (სამუშაო მიმართულებებად დაყოფით 40-40-20). \nტრენინგში მონაწილეობა უფასოა\, გაიცემა დასწრების სერტიფიკატები. \nტრენინგის დღის წესრიგი იხილეთ: https://events.iliauni.edu.ge/wp-content/uploads/2024/07/83580.pdf \nტრენინგზე დასასწრებად გაიარეთ რეგისტრაცია: https://form.jotform.com/240945889308067 \nტრენინგზე მსურველთა რეგისტრაცია დაიხურება 2024 წლის 1 ივლისს. ვინაიდან მონაწილეთა რაოდენობა შეზღუდულია\, პირველი 100 რეგისტრირებული მონაწილე მიიღებს ტრენინგზე დასწრების შესაძლებლობას. რეგისტრირებული მონაწილეები მიიღებენ დეტალებს ტრენინგამდე რამდენიმე დღით ადრე. \nკითხვების შემთხვევაში მიმართეთ: irma.kirtadze@iliauni.edu.ge \nსამუშაო ენა: ინგლისური \nდრო: 10\, 11 და 12 ივლისი
URL:https://events.iliauni.edu.ge/event/sazaphkhulo-treningi-implementatsiur-metsnierebasa-da-biostatistikashi/
CATEGORIES:კონფერენციები
ATTACH;FMTTYPE=image/jpeg:https://events.iliauni.edu.ge/wp-content/uploads/2024/07/453445f31dc627c4e83cb85a6bbd8a22_83496.jpg
END:VEVENT
BEGIN:VEVENT
DTSTART;TZID=Asia/Dubai:20240711T130000
DTEND;TZID=Asia/Dubai:20240711T140000
DTSTAMP:20260422T055902
CREATED:20240708T105001Z
LAST-MODIFIED:20241122T110938Z
UID:10005498-1720702800-1720706400@events.iliauni.edu.ge
SUMMARY:ონლაინვებინარი ერასმუს მუნდუსის ერთობლივი სამაგისტრო პროგრამის შესახებ
DESCRIPTION:11 ივლისს\, 13:00 საათზე\, საქართველოში Erasmus+-ის ეროვნული ოფისის კოორდინატორი მარიამ სულაშვილი გამართავს ვებინარს ერასმუს მუნდუსის ერთობლივი სამაგისტრო პროგრამის შესახებ. \nმომხსენებელი განიხილავს შემდეგ საკითხებს: \n\nპროგრამის მიმოხილვა;\nშესაძლებლობები სტუდენტებისთვის;\nმონაწილეობის წინაპირობები და განაცხადის შევსების პროცედურა;\nკითხვა-პასუხი.\n\nმონაწილეობა შეუძლია ნებისმიერ მსურველს. რეგისტრაცია აუცილებელია. \nდაინტერესებულმა პირებმა უნდა შეავსონ სარეგისტრაციო ფორმა. \nდამატებითი ინფორმაციისთვის იხილეთ თანდართული განრიგი: https://events.iliauni.edu.ge/wp-content/uploads/2024/07/84164.pdf \nშენიშვნა: ვებინარი ჩაიწერება. \nფორმატი: ონლაინ (Google Meets) \nსამუშაო ენა: ქართული \nდრო: 11 ივლისი\, 13:00-14:00 (საქართველოს დროით)
URL:https://events.iliauni.edu.ge/event/onlainvebinari-erasmus-mundusis-erthoblivi-samagistro-programis-shesakheb/
CATEGORIES:ღონისძიებები
ATTACH;FMTTYPE=image/jpeg:https://events.iliauni.edu.ge/wp-content/uploads/2024/07/006c66cc28479c6a5fcfbff355afa827_84165.jpg
END:VEVENT
END:VCALENDAR