BEGIN:VCALENDAR
VERSION:2.0
PRODID:-//უნივერსიტეტის ღონისძიებების პორტალი - ECPv6.2.8.2//NONSGML v1.0//EN
CALSCALE:GREGORIAN
METHOD:PUBLISH
X-ORIGINAL-URL:https://events.iliauni.edu.ge
X-WR-CALDESC:Events for უნივერსიტეტის ღონისძიებების პორტალი
REFRESH-INTERVAL;VALUE=DURATION:PT1H
X-Robots-Tag:noindex
X-PUBLISHED-TTL:PT1H
BEGIN:VTIMEZONE
TZID:Asia/Dubai
BEGIN:STANDARD
TZOFFSETFROM:+0400
TZOFFSETTO:+0400
TZNAME:+04
DTSTART:20240101T000000
END:STANDARD
END:VTIMEZONE
BEGIN:VEVENT
DTSTART;TZID=Asia/Dubai:20240627T150000
DTEND;TZID=Asia/Dubai:20240628T173000
DTSTAMP:20260422T062304
CREATED:20240624T080135Z
LAST-MODIFIED:20240624T080135Z
UID:10005478-1719500400-1719595800@events.iliauni.edu.ge
SUMMARY:მეცნიერებათა და ხელოვნების ფაკულტეტის სტუდენტურ კონფერენციათა სერია ჰუმანიტარულ და სოციალურ მეცნიერებებში
DESCRIPTION:27-28 ივნისს\, 15:00 საათზე\, ილიას სახელმწიფო უნივერსიტეტის წიგნის სახლში „ლიგამუსი“ მეცნიერებათა და ხელოვნების ფაკულტეტი გამართავს სტუდენტურ კონფერენციას ჰუმანიტარულ და სოციალურ მეცნიერებებში. \nკონფერენციაზე იმუშავებს შემდეგი სექციები: \n\nსოციალურ მეცნიერებათა სექცია – რეგისტრაცია დაიწყება 14:30 საათზე\, კონფერენცია – 15:00 საათზე.\nჰუმანიტარულ მეცნიერებათა სექცია – რეგისტრაცია დაიწყება 14:30 საათზე\, კონფერენცია – 15:00 საათზე.\n\nკონფერენციაზე მოხსენებით გამოვლენ ილიას სახელმწიფო უნივერსიტეტის საბაკალავრო პროგრამების სტუდენტები\, რომელთაც გამოგზავნილი აქვთ შესაბამისი თემატური რეზიუმეები. \nკონფერენციას დაესწრებიან და მომხსენებლებს შეაფასებენ ილიას სახელმწიფო უნივერსიტეტის შესაბამისი მიმართულების პროფესორები. \nკონფერენციაზე დასასწრებად გთხოვთ\, შეავსოთ მოკლე სარეგისტრაციო ფორმა: \n\nhttps://forms.gle/B43ZvhxrSvSWQXLJA\n\nდრო: 27-28 ივნისი\, 15:00 საათი \nადგილმდებარეობა: წიგნის სახლი „ლიგამუსი“ (ი. ჭავჭავაძის გამზ. N32)\, ილიას სახელმწიფო უნივერსიტეტი \nდასწრება თავისუფალია.
URL:https://events.iliauni.edu.ge/event/metsnierebatha-da-khelovnebis-phakultetis-studentur-konpherentsiatha-seria-humanitarul-da-sotsialur-metsnierebebshi/
CATEGORIES:კონფერენციები,მეცნიერებათა და ხელოვნების ფაკულტეტი
ATTACH;FMTTYPE=image/png:https://events.iliauni.edu.ge/wp-content/uploads/2024/06/konph2_web.png
END:VEVENT
BEGIN:VEVENT
DTSTART;TZID=Asia/Dubai:20240628T160000
DTEND;TZID=Asia/Dubai:20240628T180000
DTSTAMP:20260422T062304
CREATED:20240626T072113Z
LAST-MODIFIED:20240626T133900Z
UID:10005481-1719590400-1719597600@events.iliauni.edu.ge
SUMMARY:პროფესორ მიხაილ ზილმბერმინტის საჯარო ლექციები
DESCRIPTION:28 ივნისს\, 16:00 საათზე\, ილიას სახელმწიფო უნივერსიტეტის G106 აუდიტორიაში საქართველოს ენდოკრინოლოგიისა და მეტაბოლიზმის ასოციაციასთან თანამშრომლობით ჯონს ჰოპკინსის უნივერსიტეტის წამყვანი ენდოკრინოლოგი\, პროფესორი მიხაილ ზილმბერმინტი წაიკითხავს საჯარო ლექციებს: \n\nენდოკრინული ჰოსპიტალისტი: დიაბეტის მოვლის ხარისხის გაუმჯობესება;\n\n\nჰოსპიტალიზებულ პაციენტებში დიაბეტის მართვა (გასაკვირად მარტივად).\n\nსამუშაო ენა: ინგლისური \nდრო: 28 ივნისი\, 16:00-18:00 საათი ადგილმდებარეობა: ილიას სახელმწიფო უნივერსიტეტის G106 აუდიტორია\, გ. წერეთლის ქ. N1 \nდასწრება თავისუფალია.
URL:https://events.iliauni.edu.ge/event/prophesor-mikhail-zilmbermintis-sajaro-leqtsiebi/
CATEGORIES:საბუნებისმეტყველო მეცნიერებებისა და მედიცინის ფაკულტეტი,საჯარო ლექციები
ATTACH;FMTTYPE=image/png:https://events.iliauni.edu.ge/wp-content/uploads/2024/06/web-sabun-spikeriani.png
END:VEVENT
BEGIN:VEVENT
DTSTART;TZID=Asia/Dubai:20240628T170000
DTEND;TZID=Asia/Dubai:20240628T190000
DTSTAMP:20260422T062304
CREATED:20240627T110946Z
LAST-MODIFIED:20240628T093052Z
UID:10005485-1719594000-1719601200@events.iliauni.edu.ge
SUMMARY:ტექნოლოგიის სკოლის ასოცირებული პროფესორები ზურაბ რატიანი და ელინა ბაქრაძე წაიკითხავენ საჯარო ლექციებს
DESCRIPTION:28 ივნისს ილიას სახელმწიფო უნივერსიტეტის T302 აუდიტორიაში ტექნოლოგიის სკოლის გაზაფხულის სემესტრის ყოველკვირეული სემინარის ფარგლებში ტექნოლოგიის სკოლის ასოცირებული პროფესორები ზურაბ რატიანი და ელინა ბაქრაძე წაიკითხავენ საჯარო ლექციებს. \n17:00 საათზე პროფესორი ზურაბ რატიანი – ლექციას „კვანტური კომპიუტერების ფიზიკური მოდელები“. \n\nგანიხილავს კვანტური კომპიუტერის კომპონენტების ერთ-ერთი შესაძლო ფიზიკურ- რეალიზაციას.\n\n17:40 საათზე პროფესორი ელინა ბაქრაძე წაიკითხავს ლექციას „წყლისა და ატმოსფერული ჰაერის ხარისხობრივი მონიტორინგი და გამოწვევები”. \n\nმსმენელი გაეცნობა ინფორმაციას საქართველოში გარემოს (წყლის\, ჰაერის\, ნიადაგის) დაბინძურების მონიტორინგის შესახებ.\n\nსამუშაო ენა: ქართული \nდრო: 28 ივნისი\, 17:00 საათი\, 17:40 საათი ადგილმდებარეობა: ილიას სახელმწიფო უნივერსიტეტის T302 აუდიტორია\, ქ. ჩოლოყაშვილის გამზ. N3/5 \nდასწრება თავისუფალია.
URL:https://events.iliauni.edu.ge/event/teqnologiis-skolis-asotsirebuli-prophesorebi-zurab-ratiani-da-elina-baqradze-tsaikithkhaven-sajaro-leqtsiebs/
CATEGORIES:ბიზნესის, ტექნოლოგიისა და განათლების ფაკულტეტი,საჯარო ლექციები
ATTACH;FMTTYPE=image/png:https://events.iliauni.edu.ge/wp-content/uploads/2024/06/ad6547fb0ae70dccc4cc15920eb96323_83913.png
END:VEVENT
END:VCALENDAR