BEGIN:VCALENDAR
VERSION:2.0
PRODID:-//უნივერსიტეტის ღონისძიებების პორტალი - ECPv6.2.8.2//NONSGML v1.0//EN
CALSCALE:GREGORIAN
METHOD:PUBLISH
X-WR-CALNAME:უნივერსიტეტის ღონისძიებების პორტალი
X-ORIGINAL-URL:https://events.iliauni.edu.ge
X-WR-CALDESC:Events for უნივერსიტეტის ღონისძიებების პორტალი
REFRESH-INTERVAL;VALUE=DURATION:PT1H
X-Robots-Tag:noindex
X-PUBLISHED-TTL:PT1H
BEGIN:VTIMEZONE
TZID:Asia/Dubai
BEGIN:STANDARD
TZOFFSETFROM:+0400
TZOFFSETTO:+0400
TZNAME:+04
DTSTART:20240101T000000
END:STANDARD
END:VTIMEZONE
BEGIN:VEVENT
DTSTART;TZID=Asia/Dubai:20240420T100000
DTEND;TZID=Asia/Dubai:20240421T180000
DTSTAMP:20260422T213512
CREATED:20240416T084238Z
LAST-MODIFIED:20240417T110317Z
UID:10005420-1713607200-1713722400@events.iliauni.edu.ge
SUMMARY:საგანმანათლებლო ფორუმი „კლიმატის ცვლილების ბუნებრივი/კოსმოსური და ადამიანური ფაქტორები“
DESCRIPTION:20-21 აპრილს ილიას სახელმწიფო უნივერსიტეტში დედამიწის დღესთან დაკავშირებით გაიმართება საგანმანათლებლო ფორუმი „კლიმატის ცვლილების ბუნებრივი/კოსმოსური და ადამიანური ფაქტორები“. \nდედამიწის დღე (https://www.earthday.org/earth-day-2024/)\, რომელიც 1970 წლიდან ყოველი წლის 22 აპრილს აღინიშნება\, ეძღვნება ცნობადობის ამაღლებას დედამიწის დაბინძურებისა და კლიმატის ცვლილების შესახებ. \nფორუმზე საქართველოს წამყვანი სპეციალისტები განიხილავენ კლიმატის ცვლილების გამომწვევ მიზეზებს\, მათ გავლენას ადამიანსა და გარემოზე\, იმსჯელებენ ცვლილებასთან დაკავშირებულ საფრთხეებსა და რისკებზე. \nფორუმზე სტუდენტებსა და უფროსკლასელებს შორის\, რომელთაც  კონკურსისთვის მოამზადეს პრეზენტაციები კლიმატის ცვლილების შესახებ\, გამოვლინდებიან გამარჯვებულები. \nფორუმის განრიგი იხილეთ ბმულზე https://shorturl.at/aiKU9 \nმისამართი: ილიას სახელმწიფო უნივერსიტეტის G106 აუდიტორია\, გ. წერეთლის ქ. N1 \nდრო: 20-21 აპრილი\, 10:00 – 18:00
URL:https://events.iliauni.edu.ge/event/saganmanathleblo-phorumi-klimatis-tsvlilebis-bunebrivi-kosmosuri-da-adamianuri-phaqtorebi/
CATEGORIES:საბუნებისმეტყველო მეცნიერებებისა და მედიცინის ფაკულტეტი
ATTACH;FMTTYPE=image/png:https://events.iliauni.edu.ge/wp-content/uploads/2024/04/WEB-BANNER-CENN-2.png
END:VEVENT
BEGIN:VEVENT
DTSTART;TZID=Asia/Dubai:20240421T150000
DTEND;TZID=Asia/Dubai:20240421T170000
DTSTAMP:20260422T213512
CREATED:20240417T084139Z
LAST-MODIFIED:20240417T084139Z
UID:10005424-1713711600-1713718800@events.iliauni.edu.ge
SUMMARY:„ჯვარედინი დაკითხვის ხელოვნება” – შეხვედრა ადვოკატ ტარიელ კაკაბაძესთან
DESCRIPTION:21 აპრილს\, 15:00 საათზე\, ილიას სახელმწიფო უნივერსიტეტის B201 აუდიტორიაში ილიაუნის სამართლის სკოლისა და კომპანია „ენკომის“ ორგანიზებით გაიმართება შეხვედრა ადვოკატ ტარიელ კაკაბაძესთან თემაზე  „ჯვარედინი დაკითხვის ხელოვნება”. \nმონაწილეობა შეუძლია ნებისმიერი საფეხურის  (ბაკალავრიატი\, მაგისტრატურა\, დოქტორანტურა) სტუდენტს. \nშეხვედრის ბოლოს გაიცემა სერტიფიკატი. \nდამსწრეთა რაოდენობა შეზღუდულია. \nრეგისტრაცია მიმდინარეობს 20 აპრილის 22:00 საათამდე. \nდასწრებას შეძლებენ მხოლოდ შერჩეული პირები. მათ დაუკავშირდებიან სააპლიკაციო ეტაპის წარმატებით გავლის შემთხვევაში. \nრეგისტრაცია შეგიძლიათ გაიაროთ ბმულზე: https://shorturl.at/tFP03 \nსამუშაო ენა: ქართული \nდრო: 21 აპრილი\, 15:00 საათი \nადგილმდებარეობა: ილიას სახელმწიფო უნივერსიტეტის B201 აუდიტორია\, ი. ჭავჭავაძის გამზ. N32
URL:https://events.iliauni.edu.ge/event/jvaredini-dakithkhvis-khelovneba-shekhvedra-advokat-tariel-kakabadzesthan/
CATEGORIES:სამართლის სკოლა,ღონისძიებები
ATTACH;FMTTYPE=image/png:https://events.iliauni.edu.ge/wp-content/uploads/2024/04/web-1.png
END:VEVENT
END:VCALENDAR