BEGIN:VCALENDAR
VERSION:2.0
PRODID:-//უნივერსიტეტის ღონისძიებების პორტალი - ECPv6.2.8.2//NONSGML v1.0//EN
CALSCALE:GREGORIAN
METHOD:PUBLISH
X-WR-CALNAME:უნივერსიტეტის ღონისძიებების პორტალი
X-ORIGINAL-URL:https://events.iliauni.edu.ge
X-WR-CALDESC:Events for უნივერსიტეტის ღონისძიებების პორტალი
REFRESH-INTERVAL;VALUE=DURATION:PT1H
X-Robots-Tag:noindex
X-PUBLISHED-TTL:PT1H
BEGIN:VTIMEZONE
TZID:Asia/Dubai
BEGIN:STANDARD
TZOFFSETFROM:+0400
TZOFFSETTO:+0400
TZNAME:+04
DTSTART:20240101T000000
END:STANDARD
END:VTIMEZONE
BEGIN:VEVENT
DTSTART;TZID=Asia/Dubai:20240403T150000
DTEND;TZID=Asia/Dubai:20240405T150000
DTSTAMP:20260422T114723
CREATED:20240327T105638Z
LAST-MODIFIED:20240327T111831Z
UID:10005400-1712156400-1712329200@events.iliauni.edu.ge
SUMMARY:„კვლევის ეთიკა და კეთილსინდისიერება“ – ონლაინტრენინგი
DESCRIPTION:3-5 აპრილს ილიას სახელმწიფო უნივერსიტეტში სადოქტორო საფეხურის სტუდენტებისთვის\, ახალგაზრდა მკვლევრებისა და აკადემიური პერსონალისთვის გაიმართება ონლაინშეხვედრების სერია კვლევის კეთილსინდისიერების შესახებ. \nტრენინგი შემუშავებულია ევროკომისიის მიერ დაფინანსებული პროექტის „კვლევის პასუხისმგებლობით წარმართვა – კვლევის კეთილსინდისიერება და ეთიკა ქართულ უნივერსიტეტებში (ETHICS)“ ფარგლებში. პროექტის ძირითადი მიზანი უნივერსიტეტებში კვლევის ეთიკისა და კეთილსინდისიერების მექანიზმების\, პროცედურებისა და სერვისების გაუმჯობესებაა. \n\nგანრიგი და განსახილველი საკითხები: \n3 აპრილი\, 15:00 საათი – „კვლევის ეთიკა და კეთილსინდისიერება: ევროპული და ინსტიტუციური სამართლებრივი ჩარჩო“ \n\nთეონა დიასამიძე\, სამეცნიერო კვლევების კოორდინაციის სამსახურის სპეციალისტი\n\n4 აპრილი\, 14:00 საათი – „აკადემიური გადაცდომების თავიდან აცილება და მართვა კვლევით სფეროში“ \n\nნინო რჩეულიშვილი\, მეცნიერებათა და ხელოვნების ფაკულტეტის ასისტენტ-პროფესორი\n\n4 აპრილი\, 16:00 საათი – „პუბლიკაციის გამოქვეყნების და საავტორო ეთიკა – პოლიტიკის განსაზღვრა“ \n\nთამარ ბასიშვილი\, საბუნებისმეტყველო მეცნიერებებისა და მედიცინის ფაკულტეტის ასოცირებული პროფესორი\n\n5 აპრილი\, 15:00 საათი – „კეთილსინდისიერების პრინციპები კვლევაში და ხელოვნური ინტელექტის გამოყენებასთან დაკავშირებული გამოწვევები“ \n\nგიგა ხოსიტაშვილი\, ბიზნესის\, ტექნოლოგიებისა და განათლების ფაკულტეტის ასისტენტ-პროფესორი\n\nშესაძლებელია როგორც ერთ\, ასევე რამდენიმე შეხვედრაზე დასწრება. \n\nშეხვედრები გაიმართება ონლაინ და აუცილებელია წინასწარ რეგისტრაციაბმულზე https://shorturl.at/tBL69 \nდეტალურ ინსტრუქციას მიიღებთ რეგისტრაციის დროს მითითებულ ელექტრონულ ფოსტაზე. \n 
URL:https://events.iliauni.edu.ge/event/kvlevis-ethika-da-kethilsindisiereba-onlaintreningi/
CATEGORIES:სემინარები
ATTACH;FMTTYPE=image/png:https://events.iliauni.edu.ge/wp-content/uploads/2024/03/ethika_web_new.png
END:VEVENT
END:VCALENDAR