BEGIN:VCALENDAR
VERSION:2.0
PRODID:-//უნივერსიტეტის ღონისძიებების პორტალი - ECPv6.2.8.2//NONSGML v1.0//EN
CALSCALE:GREGORIAN
METHOD:PUBLISH
X-ORIGINAL-URL:https://events.iliauni.edu.ge
X-WR-CALDESC:Events for უნივერსიტეტის ღონისძიებების პორტალი
REFRESH-INTERVAL;VALUE=DURATION:PT1H
X-Robots-Tag:noindex
X-PUBLISHED-TTL:PT1H
BEGIN:VTIMEZONE
TZID:Asia/Dubai
BEGIN:STANDARD
TZOFFSETFROM:+0400
TZOFFSETTO:+0400
TZNAME:+04
DTSTART:20240101T000000
END:STANDARD
END:VTIMEZONE
BEGIN:VEVENT
DTSTART;TZID=Asia/Dubai:20240401T160000
DTEND;TZID=Asia/Dubai:20240401T170000
DTSTAMP:20260422T072344
CREATED:20240331T071157Z
LAST-MODIFIED:20240403T071223Z
UID:10005413-1711987200-1711990800@events.iliauni.edu.ge
SUMMARY:„ჯაშუში“ დოკუმენტური ფილმის ჩვენება და დისკუსია
DESCRIPTION:1-ელ აპრილს\, 16:00 საათზე\, წიგნის სახლში „ლიგამუსი“ მედიის განვითარების ფონდი (MDF)\, The WHY Foundation-ის (TWF) მხარდაჭერითა და ილიას სახელმწიფო უნივერსიტეტთან პარტნიორობით გამართავს დოკუმენტური ფილმის „ჯაშუში“ ჩვენებასა და დისკუსიას. \nდისკუსიას გაუძღვება ილიას სახელმწიფო უნივერსიტეტის  უმაღლესი კვლევების ცენტრის დირექტორი\, პროფესორი გიგა ზედანია\, შეხვედრას მოდერაციას გაუწევს მედიის განვითარების ფონდის აღმასრულებელი დირექტორი თამარ კინწურაშვილი. \nბოსე ლინდქვისტის დოკუმენტური ფილმი  „ჯაშუში” (Undercover in the alt-right) გვიყვება 25 წლის შვედ სტუდენტ\, პატრიკ ჰემერსონზე\, რომელმაც გადაწყვიტა სადისერტაციო თეზისის კვლევის მიზეზით ულტრამემარჯვენე ჯგუფის წევრად ჩანერგილიყო. ის ლონდონიდან ვაშინგტონში გაემგზავრა და შეუერთდა ნეონაცისტებს\, რათა ამ გზით უფრო მეტი გაეგო მათ ცხოვრებასა და მიზნებზე. \nჯგუფში შეღწევა მარტივი  პროცესი არ ყოფილა\, ამისთვის პატრიკს თვეები დასჭირდა. ასევე ძალიან რთული იყო  მათი იდეების (მისთვის სრულიად მიუღებელი) მოსმენა და გამეორება. „გინდა იყვირო\, რამე გააკეთო – წახვიდე\, მაგრამ ამას ვერ იზამ. უნდა იჯდე და გაიღიმო\,” – იხსენებს პატრიკი. \nმისი რეალური მიზნების გამჟღავნების შემდეგ პატრიკი მუქარის ადრესატიც გახდა\, მიუხედავად ამისა\, ფიქრობს\, რომ  ახლა კომფორტულია იმ ადამიანების საქმიანობის შორიდან კვლევა\, რომლებთანაც ადრე ახლო კონტაქტი ჰქონდა. \nღონისძიება ეწყობა პროექტის „ვილაპარაკოთ დემოკრატიაზე: DemDoc ახალგაზრდებისთვის“  მხარდაჭერით. მას მედიის განვითარების ფონდი (MDF) The WHY Foundation-თან (TWF) პარტნიორობითა და The New Democracy Fund (NDF)-ის მხარდაჭერით ახორციელებს. პროექტი მიზნად ისახავს\, ხელი შეუწყოს ქართველი ახალგაზრდების მონაწილეობას ქვეყნის დემოკრატიულ\, სოციალურ-ეკონომიკურ და მდგრადი განვითარების პროცესებში. \nსამუშაო ენა: ქართული \nდრო: 1-ელი აპრილი\, 16:00 საათი \nადგილმდებარეობა: წიგნის სახლი „ლიგამუსი“\, ი. ჭავჭავაძის გამზ. N32 \nდასწრება თავისუფალია.
URL:https://events.iliauni.edu.ge/event/jashushi-dokumenturi-philmis-chveneba-da-diskusia/
CATEGORIES:ღონისძიებები
ATTACH;FMTTYPE=image/png:https://events.iliauni.edu.ge/wp-content/uploads/2024/04/8672405641784cacbf70491a69dfbeda_83047.png
END:VEVENT
BEGIN:VEVENT
DTSTART;TZID=Asia/Dubai:20240401T170000
DTEND;TZID=Asia/Dubai:20240401T190000
DTSTAMP:20260422T072344
CREATED:20240326T072232Z
LAST-MODIFIED:20240326T072232Z
UID:10005394-1711990800-1711998000@events.iliauni.edu.ge
SUMMARY:„ლევან კახთა მეფის (1518/20-1574) საქტიტორო წარწერები ათონის ფილოთეოსის მონასტერში" - ეკა ჭყოიძის საჯარო მოხსენება
DESCRIPTION:1-ელ აპრილს\, 17:00 საათზე\, შუა საუკუნეების კვლევის ცენტრის მუდმივმოქმედ სემინარზე ილიას სახელმწიფო უნივერსიტეტის მეცნიერებათა და ხელოვნების ფაკულტეტის ასოცირებული პროფესორი ეკა ჭყოიძე წაიკითხავს მოხსენებას „ლევან კახთა მეფის (1518/20-1574) საქტიტორო წარწერები ათონის ფილოთეოსის მონასტერში”. \nათონის მთის ერთ-ერთი მონასტრისთვის ლევან კახთა მეფის გულუხვ შეწირულობაზე მოწმობს მისი და მისი მემკვიდრის\, ალექსანდრეს (შემდგომში კახეთის მეფე ალექსანდრე II (1574-1601) ფრესკა ფილოთეოსის მონასტრის სატრაპეზოში. \nფრესკას ახლავს შესაბამისი წარწერები\, რომლებიც ქართული სამეცნიერო წრეებისთვის ნაკლებადაა ცნობილი. \nმოხსენებაში განხილული იქნება ეს ფრესკა\, მისი წარწერები და მათი მნიშვნელობა\, კახეთის სამეფოს მნიშვნელობა საერთაშორისო კონტექსტში. \nსამუშაო ენა: ქართული \nდრო: 1-ელი აპრილი\, 17:00 საათი \nადგილმდებარეობა: ილიას სახელმწიფო უნივერსიტეტის E306 აუდიტორია\, ქ. ჩოლოყაშვილის გამზ. N3/5 \nდასწრება თავისუფალია.
URL:https://events.iliauni.edu.ge/event/levan-kakhtha-mephis-1518-20-1574-saqtitoro-tsartserebi-athonis-philotheosis-monastershi-eka-tchqhoidzis-sajaro-mokhseneba/
CATEGORIES:მეცნიერებათა და ხელოვნების ფაკულტეტი,სემინარები
ATTACH;FMTTYPE=image/png:https://events.iliauni.edu.ge/wp-content/uploads/2024/03/kakhtha-mephe-web.png
END:VEVENT
END:VCALENDAR