BEGIN:VCALENDAR
VERSION:2.0
PRODID:-//უნივერსიტეტის ღონისძიებების პორტალი - ECPv6.2.8.2//NONSGML v1.0//EN
CALSCALE:GREGORIAN
METHOD:PUBLISH
X-WR-CALNAME:უნივერსიტეტის ღონისძიებების პორტალი
X-ORIGINAL-URL:https://events.iliauni.edu.ge
X-WR-CALDESC:Events for უნივერსიტეტის ღონისძიებების პორტალი
REFRESH-INTERVAL;VALUE=DURATION:PT1H
X-Robots-Tag:noindex
X-PUBLISHED-TTL:PT1H
BEGIN:VTIMEZONE
TZID:Asia/Dubai
BEGIN:STANDARD
TZOFFSETFROM:+0400
TZOFFSETTO:+0400
TZNAME:+04
DTSTART:20240101T000000
END:STANDARD
END:VTIMEZONE
BEGIN:VEVENT
DTSTART;TZID=Asia/Dubai:20240329T100000
DTEND;TZID=Asia/Dubai:20240329T120000
DTSTAMP:20260422T091428
CREATED:20240328T083150Z
LAST-MODIFIED:20240328T083237Z
UID:10005405-1711706400-1711713600@events.iliauni.edu.ge
SUMMARY:„ინდური ტაბლა და მისი ენა“ – ანუკა კონტრიძის ვორკშოპი
DESCRIPTION:29 მარტს\, 19:00 საათზე\, ილიაუნის თეატრში ილიაუნის მუსიკის ცენტრის ინიციატივით ანუკა კონტრიძე გამართავს ვორკშოპს/პრეზენტაციას. \nანუკა კონტრიძე 1982 წელს დაიბადა თბილისში. არის აღმოსავლეთმცოდნე\, სინოლოგი. \nინდურ ტაბლას ეუფლება 21 წლიდან. სწავლობდა ინდოეთში\, შრი ლანკაში\, გერმანიასა და შვეიცარიაში ტაბლის ოსტატებთან – ს.ვ. რანდუვასთან\, შანკარ ლალ ჩატერჯსა და სვაპან ჩაუდჰურთან. თანამშრომლობდა და თანამშრომლობს ბენდებთან საქართველოში და მის ფარგლებს გარეთ. ამჟამად ცხოვრობს ქ. მიუნხენში. უკრავს რამდენიმე ბენდთან სხვადასხვა მიმართულებით. წლების განმავლობაში რუმინული ემბიენთ ჯგუფის “Thy Veils” მოწვეული წევრია\, ასევე “Metachronic Rashomon” დისტანციური ტრიოს წევრი რეზო კიკნაძესა და ნიკა დავითაშვილთან ერთად. ბოლო რამდენიმე წელია ესწრება ტაბლის დიდოსტატ პანდიტ სვაპან ჩაუდჰურის ყოველწლიურ სემინარებს ბაზელში. დროდადრო მართავს ვორკშოპებს ტაბლის შესახებ თბილისსა და მიუნხენში. \nსამუშაო ენა: ქართული \nდრო: 29 მარტი\, 19:00 საათი \nადგილმდებარეობა: ილიას სახელმწიფო უნივერსიტეტი\, A კორპუსი (შიდა ეზო)\, ი. ჭავჭავაძის გამზ. N32 \nდასწრება თავისუფალია.
URL:https://events.iliauni.edu.ge/event/induri-tabla-da-misi-ena-anuka-kontridzis-vorkshopi/
CATEGORIES:მეცნიერებათა და ხელოვნების ფაკულტეტი,ღონისძიებები
ATTACH;FMTTYPE=image/png:https://events.iliauni.edu.ge/wp-content/uploads/2024/03/MUS-CENTRE-WEBBB.png
END:VEVENT
BEGIN:VEVENT
DTSTART;TZID=Asia/Dubai:20240329T120000
DTEND;TZID=Asia/Dubai:20240329T140000
DTSTAMP:20260422T091428
CREATED:20240329T100630Z
LAST-MODIFIED:20240329T100630Z
UID:10005407-1711713600-1711720800@events.iliauni.edu.ge
SUMMARY:საქართველოს ფუტსალის თასი\, 1/4 ფინალი. MFC ILIAUNI VS ARMIA
DESCRIPTION:29 მარტს\, პარასკევს\, გაიმართება საქართველოს ფუტსალის თასის გათამაშების მეოთხედფინალური მატჩები. ილიაუნის ფუტსალის პირველი გუნდი მეოთხედფინალურ მატჩს თავდაცვის სამინისტროს გუნდთან „არმია“ გამართავს. \nწინა ეტაპი ჩვენმა გუნდმა წარმატებით გადალახა (t.ly/F75mb) და ანგარიშით 4-3 დაამარცხა წალენჯიხელები. თავის მხრივ\, „არმია“ მერვედფინალში ფუტსალის ლიგის მესამე ლიგის გუნდს „ჯიპა” შეხვდა და ადვილად გადალახა აღნიშნული ბარიერი (6-0). \nილიაუნისა და არმიელთა დაპირისპირებას დიდი ისტორია და გამოცდილება აქვს. ჩვენი შეხვედრები ყოველთვის დაძაბულობითა და სანახაობით გამოირჩეოდა. აღსანიშნავია\, რომ იმ წელს\, როდესაც ილიაუნის უმაღლესი ლიგის გუნდმა საქართველოს ფუტსალის თასი მოიგო (2021 წ.)\, არმიელები მეორე დივიზიონში ასპარეზობდნენ და „ფუტსალის ლიგა 2”-ის ფინალში ჩვენს ფარმკლუბს\, MFC ILIAUNI 2-ს\, დაუპირისპირდნენ. ჩვენდა სასიხარულოდ\, 2020/21 წლების სეზონის „ლიგა 2”-ის ჩემპიონები ჩვენ გავხდით – მოწინააღმდეგე სამმატჩიან ორთაბრძოლაში დავამარცხეთ\, „არმიამ“ კი უმაღლესი დივიზიონის საგზური მოიპოვა და მას შემდეგ პირველ ლიგაში ასპარეზობს. \nმიმდინარე ფუტსალის რეგულარულ სეზონში არმიელებს სამჯერ შევხვდით\, ერთხელ ჩვენ ვიმარჯვეთ\, ერთხელ – მოწინააღმდეგემ და ერთი ფრეც ვითამაშეთ: \n\nII ტური: MFC ILIAUNI 7:7 ARMIA   (ოქმი: t.ly/asPcf) \nIX  ტური: ARMIA 4:1 MFC ILIAUNI (ოქმი: t.ly/-zaRE)\nXVI ტური: MFC ILIAUNI 5:4 ARMIA (ოქმი: t.ly/Fowtc)\n\nსაინტერესო სტატისტიკა აქვს გიორგი ქურხულს\, რომელმაც არმიელებთან 3 მატჩში 5 გოლის გატანა შეძლო. \nმატჩი დაძაბული და სანახაობრივი იქნება. \nილიაუნის განსაკუთრებულად სჭირდება თქვენი\, გულშემატკივრების\, მხარდაჭერა\, ამიტომ გელით ყველას! \n29 მარტი\, 12:00 საათი\, არენა 2\, უნივერსიტეტის ქუჩა N6 \nშეხვედრები ლიგის ოფიციალურ ფეისბუქ და იუთუბარხებზე პირდაპირი ტრანსლაციით გაშუქდება.
URL:https://events.iliauni.edu.ge/event/saqarthvelos-phutsalis-thasi-1-4-phinali-mfc-iliauni-vs-armia/
CATEGORIES:სპორტული ღონისძიებები
ATTACH;FMTTYPE=image/png:https://events.iliauni.edu.ge/wp-content/uploads/2024/03/b8ba9652b6b66493d2aa2e2ff6de60a1_83041.png
END:VEVENT
BEGIN:VEVENT
DTSTART;TZID=Asia/Dubai:20240329T160000
DTEND;TZID=Asia/Dubai:20240329T170000
DTSTAMP:20260422T091428
CREATED:20240318T095041Z
LAST-MODIFIED:20240318T095041Z
UID:10005387-1711728000-1711731600@events.iliauni.edu.ge
SUMMARY:ფილმის „ერთი პატარძალი\, შვიდი ძროხა ან ერთი ყუთი ჰეროინი“ ჩვენება და დისკუსია
DESCRIPTION:29 მარტს\, 16:00 საათზე\, ილიას სახელმწიფო უნივერსიტეტის სამართლის სკოლის ადამიანის უფლებათა მიმართულება და ადამიანის უფლებათა კინოკლუბი გიწვევთ ქალთა ისტორიის თვის ფარგლებში ორგანიზებული ფილმის „ერთი პატარძალი\, შვიდი ძროხა ან ერთი ყუთი ჰეროინი“ ჩვენებასა და დისკუსიაზე. \nფილმი ეხება სუდანში\, ვიეტნამსა და ავღანეთში გოგოების იძულებით ქორწინებას. ილიაუნის სამართლის სკოლის ადამიანის უფლებათა კინოკლუბი ფილმის ჩვენებას გამართავს The Why Foundation-თან თანამშრომლობით. \nმომხსენებელი \nთამუნა გაბოძე\, ორგანიზაციის „პარტნიორობა ადამიანის უფლებებისთვის“ ხელმძღვანელი \nმოდერატორი \nთამარ ჩხიკვაძე\, ილიაუნის სამართლის სკოლის 1-ელი კურსის სტუდენტი \nსამუშაო ენა: ქართული \nთარიღი: 29 მარტი\, 16:00 საათი \nადგილმდებარეობა: წიგნის სახლი „ლიგამუსი“\, ილიას სახელმწიფო უნივერსიტეტი (ი. ჭავჭავაძის გამზ. N32)
URL:https://events.iliauni.edu.ge/event/philmis-erthi-patardzali-shvidi-dzrokha-an-erthi-qhuthi-heroini-chveneba-da-diskusia/
CATEGORIES:დისკუსიები,სამართლის სკოლა
ATTACH;FMTTYPE=image/png:https://events.iliauni.edu.ge/wp-content/uploads/2024/03/9dcda8215ca35d2e6a5bdd4ebda676bb_82844-1.png
END:VEVENT
BEGIN:VEVENT
DTSTART;TZID=Asia/Dubai:20240329T170000
DTEND;TZID=Asia/Dubai:20240329T180000
DTSTAMP:20260422T091428
CREATED:20240327T114345Z
LAST-MODIFIED:20240327T130329Z
UID:10005403-1711731600-1711735200@events.iliauni.edu.ge
SUMMARY:ჯავა პრომო ივენთი ილიაუნის სტუდენტებისთვის
DESCRIPTION:29 მარტს\, 17:00 საათზე\, ილიას სახელმწიფო უნივერსიტეტის T102 საკონფერენციო დარბაზში EPAM-ის წარმომადგენლები გამართავენ  ჯავა პრომო ღონისძიებას ილიაუნის სტუდენტებისთვის\, რომლებიც ისწრაფვიან\, გახდნენ Java-ის ინჟინრები ან სურთ\, მეტი გაიგონ ამ სფეროს შესახებ. \nდარგის ექსპერტები ისაუბრებენ Java-ის განვითარებაში გამოყენებულ უახლეს ტენდენციებზე\, ხელსაწყოებსა და ტექნოლოგიებზე\, რომლებითაც ხელმძღვანელობენ სხვადასხვა პროექტსა და კონფიგურაციაში დიდი გამოცდილების მქონე Java-ის ექსპერტები\,  გააცნობენ როგორც უახლეს ინფორმაციას java-ის ინჟინერიის მდგომარეობის შესახებ\, ასევე პროფესიულ რჩევებს. \nსამუშაო ენა: ქართული \nდრო: 29 მარტი\, 17:00 საათი \nადგილმდებარეობა: ილიას სახელმწიფო უნივერსიტეტის T102 საკონფერენციო დარბაზი\, ქ. ჩოლოყაშვილის გამზ. N3/5 \nდასწრება თავისუფალია.
URL:https://events.iliauni.edu.ge/event/java-promo-iventhi-iliaunis-studentebisthvis/
CATEGORIES:ბიზნესის, ტექნოლოგიისა და განათლების ფაკულტეტი,ღონისძიებები
ATTACH;FMTTYPE=image/png:https://events.iliauni.edu.ge/wp-content/uploads/2024/03/WEB-BANNER-JAVA-1.png
END:VEVENT
END:VCALENDAR