BEGIN:VCALENDAR
VERSION:2.0
PRODID:-//უნივერსიტეტის ღონისძიებების პორტალი - ECPv6.2.8.2//NONSGML v1.0//EN
CALSCALE:GREGORIAN
METHOD:PUBLISH
X-WR-CALNAME:უნივერსიტეტის ღონისძიებების პორტალი
X-ORIGINAL-URL:https://events.iliauni.edu.ge
X-WR-CALDESC:Events for უნივერსიტეტის ღონისძიებების პორტალი
REFRESH-INTERVAL;VALUE=DURATION:PT1H
X-Robots-Tag:noindex
X-PUBLISHED-TTL:PT1H
BEGIN:VTIMEZONE
TZID:Asia/Dubai
BEGIN:STANDARD
TZOFFSETFROM:+0400
TZOFFSETTO:+0400
TZNAME:+04
DTSTART:20240101T000000
END:STANDARD
END:VTIMEZONE
BEGIN:VEVENT
DTSTART;TZID=Asia/Dubai:20240318T170000
DTEND;TZID=Asia/Dubai:20240318T180000
DTSTAMP:20260422T213429
CREATED:20240307T094453Z
LAST-MODIFIED:20240312T070234Z
UID:10005377-1710781200-1710784800@events.iliauni.edu.ge
SUMMARY:„სითბური არამდგრადობიდან კორონულ წვიმამდე“ – პროფესორ რამონ ოლივერის ონლაინმოხსენება
DESCRIPTION:8 მარტს\, 17:00 საათზე\, ილიას სახელმწიფო უნივერსიტეტის კოსმოსური კვლევების ცენტრის ასტრონომიისა და ასტროფიზიკის დეპარტამენტის ონლაინსემინარების ფარგლებში პროფესორი რამონ ოლივერი წაიკითხავს მოხსენებას „სითბური არამდგრადობიდან კორონულ წვიმამდე“ (From thermal instability to coronal rain – Ramon Oliver). \nმომხსენებელი ისაუბრებს კორონული წვიმის მოვლენაზე\, რომელიც მზის ცხელ კორონაში ცივი ნივთიერების უცაბედი წარმონაქმნია\, მიმოიხილავს უსასრულო და ერთგვაროვან გარემოში ტალღების გავრცელების მათემატიკურ მოდელს სითბოს მიღებისა და კარგვის წევრთა გათვალისწინებით\,ამ მოდელის გათვალისწინებით კი აღწერს სითბურ არამდგრადობას\, რომელიც იწვევს ცივი ნივთიერების წარმოქმნას. დასასრულ ერთმანეთთან დააკავშირებს კორონულ წვიმასა და სითბურ არამდგრადობას. \nმომხსენებლის შესახებ \nრამონ ოლივერი ბალეარის კუნძულების უნივერსიტეტის (ესპანეთი) ფიზიკის ფაკულტეტის სრული პროფესორი და მზის ჯგუფის ხელმძღვანელია. მას მრავალწლიანი მჭიდრო სამეცნიერო თანამშრომლობა აკავშირებს ილიას სახელმწიფო უნივერსიტეტის კოსმოსური კვლევების ცენტრის პროფესორებთან. იგი არის შოთა რუსთაველის სამეცნიერო ფონდის ფუნდამენტური კვლევების ახალი პროექტის (მაგნიტური ჯეტები მზის ატმოსფეროში) უცხოელი კონსულტანტი. \nფორმატი: ონლაინ\, შეხვედრა ზუმში \nბმული: https://uni-graz.zoom.us/j/6435542130?pwd=L3hiTlBIM2s3RnpLMDV1azhUUThtdz09 \nსამუშაო ენა: ინგლისური \nდრო: 8 მარტი\, 17:00 საათი \nდასწრება თავისუფალია.
URL:https://events.iliauni.edu.ge/event/sithburi-aramdgradobidan-koronul-tsvimamde-prophesor-ramon-oliveris-onlainmokhseneba/
CATEGORIES:სემინარები
ATTACH;FMTTYPE=image/png:https://events.iliauni.edu.ge/wp-content/uploads/2024/03/3e47b5d3bf87e66b3308e9663f809216_82742.png
END:VEVENT
END:VCALENDAR