BEGIN:VCALENDAR
VERSION:2.0
PRODID:-//უნივერსიტეტის ღონისძიებების პორტალი - ECPv6.2.8.2//NONSGML v1.0//EN
CALSCALE:GREGORIAN
METHOD:PUBLISH
X-ORIGINAL-URL:https://events.iliauni.edu.ge
X-WR-CALDESC:Events for უნივერსიტეტის ღონისძიებების პორტალი
REFRESH-INTERVAL;VALUE=DURATION:PT1H
X-Robots-Tag:noindex
X-PUBLISHED-TTL:PT1H
BEGIN:VTIMEZONE
TZID:Asia/Dubai
BEGIN:STANDARD
TZOFFSETFROM:+0400
TZOFFSETTO:+0400
TZNAME:+04
DTSTART:20240101T000000
END:STANDARD
END:VTIMEZONE
BEGIN:VEVENT
DTSTART;TZID=Asia/Dubai:20240228T150000
DTEND;TZID=Asia/Dubai:20240228T173000
DTSTAMP:20260422T144432
CREATED:20240226T132221Z
LAST-MODIFIED:20240226T132318Z
UID:10005363-1709132400-1709141400@events.iliauni.edu.ge
SUMMARY:საჯარო ლექცია „მომკლავს მე უშენობა...“ (ანუ რკინის საოცარი თავგადასავალი ქიმიურ სამყაროში)
DESCRIPTION:რა მნიშვნელობა აქვს რკინას ჩვენი სიცოცხლისთვის? \nსაჯარო ლექცია „მომკლავს მე უშენობა…“ (ანუ რკინის საოცარი თავგადასავალი ქიმიურ სამყაროში) უპასუხებს რკინის სასიცოცხლო მნიშვნელობასთან დაკავშირებულ შეკითხვებს. \nპროფესორი ქეთევან კუპატაძე განიხილავს რკინის\, აუცილებელი ქიმიური ელემენტის\, მნიშვნელობას ალქიმიკოსების\, ქიმიკოსებისა და მხატვრების საქმიანობაში. \nღონისძიება ითვალისწინებს პრაქტიკულ ნაწილსაც – ჩატარდება ქიმიური ექსპერიმენტები\, რომლებიც დამსწრეთ ქიმიურ პროცესებზე დაკვირვებისა და კითხვები დასმის საშუალებას მისცემს\, რათა მეტი გაიგონ რკინის მნიშვნელობასა და მის გავლენაზე ყოველდღიურ ცხოვრებაში. \nსამიზნე აუდიტორია: მოსწავლეები და მასწავლებლები \nდრო: 28 თებერვალი\, 15:00 საათი \nლექციაზე დასასწრებად გაიარეთ რეგისტრაცია: https://shorturl.at/bpW15
URL:https://events.iliauni.edu.ge/event/sajaro-leqtsia-momklavs-me-ushenoba-anu-rkinis-saotsari-thavgadasavali-qimiur-samqharoshi/
CATEGORIES:ღონისძიებები
ATTACH;FMTTYPE=image/png:https://events.iliauni.edu.ge/wp-content/uploads/2024/02/b924571533edcd84e4523e4da947ecba_82222.png
END:VEVENT
END:VCALENDAR