BEGIN:VCALENDAR
VERSION:2.0
PRODID:-//უნივერსიტეტის ღონისძიებების პორტალი - ECPv6.2.8.2//NONSGML v1.0//EN
CALSCALE:GREGORIAN
METHOD:PUBLISH
X-ORIGINAL-URL:https://events.iliauni.edu.ge
X-WR-CALDESC:Events for უნივერსიტეტის ღონისძიებების პორტალი
REFRESH-INTERVAL;VALUE=DURATION:PT1H
X-Robots-Tag:noindex
X-PUBLISHED-TTL:PT1H
BEGIN:VTIMEZONE
TZID:Asia/Dubai
BEGIN:STANDARD
TZOFFSETFROM:+0400
TZOFFSETTO:+0400
TZNAME:+04
DTSTART:20240101T000000
END:STANDARD
END:VTIMEZONE
BEGIN:VEVENT
DTSTART;TZID=Asia/Dubai:20240226T080000
DTEND;TZID=Asia/Dubai:20240226T170000
DTSTAMP:20260422T114808
CREATED:20240226T131606Z
LAST-MODIFIED:20240226T131606Z
UID:10005361-1708934400-1708966800@events.iliauni.edu.ge
SUMMARY:ღია კარის დღე - მედიცინის სკოლა
DESCRIPTION:27 თებერვალს\, 16:00 საათზე\, ილიას სახელმწიფო უნივერსიტეტის G106 აუდიტორიაში მედიცინის პროგრამით დაინტერესებული აბიტურიენტებისა და უფროსკლასელებისთვის გაიმართება ღია კარის დღე. \nდიპლომირებული მედიკოსის ერთსაფეხურიანი ინგლისურენოვანი საგანმანათლებლო პროგრამა უზრუნველყოფს შესაბამისი ცოდნისა და კომპეტენციის კვალიფიციური მედიკოსის მომზადებას\, რომელიც კონკურენტული იქნება საერთაშორისო დონეზე და შეძლებს ეფექტურ მუშაობას ჯანდაცვის როგორც სახელმწიფო\, ასევე კერძო სექტორში. \nინგლისურენოვანი სასწავლო მასალით სტუდენტები და ლექტორები მაქსიმალურად იყენებენ თანამედროვე ინგლისურენოვან სასწავლო რესურსს\, ეზიარებიან დარგის უახლეს მიღწევებსა და გამოცდილებებს. \nპროგრამაზე ჩაბარების მსურველ და სხვა დაინტერესებულ პირებს ილიას სახელმწიფო უნივერსიტეტის შესაძლებლობათა შესახებ ინფორმაციას გაგიზიარებენ ილიაუნის მედიცინის პროგრამის პროფესორები და სტუდენტები\, გექნებათ შესაძლებლობა\, დასვათ შეკითხვები და მიიღოთ ამომწურავი პასუხები. \nმეტს გაიგებთ კეთილმოწყობილი აუდიტორიების\, კომპიუტერული კლასების\, კომპიუტერული სასწავლო პროგრამების\, სასწავლო ლაბორატორიების სამეცნიერო ბაზებისა და სხვა რესურსების შესახებ. \nდრო: 16:00 – 17:00 საათი \nადგილი: ილიას სახელმწიფო უნივერსიტეტის G106 აუდიტორია\, გ. წერეთლის ქ. N1 \nინფორმაცია ღია კარის დღის სრული პროგრამის შესახებ შეგიძლიათ იხილოთ აქ https://shorturl.at/himuI \nღია კარის დღეზე დასასწრებად დარეგისტრირდით ბმულზე https://forms.gle/bhKEto1YvBBbMyx3A \nშენი საინტერესო ცხოვრება იწყება აქ!
URL:https://events.iliauni.edu.ge/event/ghia-karis-dghe-meditsinis-skola/
CATEGORIES:ღონისძიებები
ATTACH;FMTTYPE=image/png:https://events.iliauni.edu.ge/wp-content/uploads/2024/02/018af9a5b0eca054bcfe371e0282d1dc_82458.png
END:VEVENT
END:VCALENDAR