BEGIN:VCALENDAR
VERSION:2.0
PRODID:-//უნივერსიტეტის ღონისძიებების პორტალი - ECPv6.2.8.2//NONSGML v1.0//EN
CALSCALE:GREGORIAN
METHOD:PUBLISH
X-ORIGINAL-URL:https://events.iliauni.edu.ge
X-WR-CALDESC:Events for უნივერსიტეტის ღონისძიებების პორტალი
REFRESH-INTERVAL;VALUE=DURATION:PT1H
X-Robots-Tag:noindex
X-PUBLISHED-TTL:PT1H
BEGIN:VTIMEZONE
TZID:Asia/Dubai
BEGIN:STANDARD
TZOFFSETFROM:+0400
TZOFFSETTO:+0400
TZNAME:+04
DTSTART:20240101T000000
END:STANDARD
END:VTIMEZONE
BEGIN:VEVENT
DTSTART;TZID=Asia/Dubai:20240217T180000
DTEND;TZID=Asia/Dubai:20240217T200000
DTSTAMP:20260422T055337
CREATED:20240226T131848Z
LAST-MODIFIED:20240226T131848Z
UID:10005362-1708192800-1708200000@events.iliauni.edu.ge
SUMMARY:საფორტეპიანო მუსიკის კონცერტი
DESCRIPTION:17 თებერვალს\, 18:00 საათზე\, ილიას სახელმწიფო უნივერსიტეტის B201 აუდიტორიაში ილიაუნის მუსიკის ცენტრის საკლავიშო ხელოვნების მიმართულების სტუდენტები გამართავენ საანგარიშო კონცერტს. \nიოჰან სებასტიან ბახის\, რობერტ შუმანის\, ფრანც შუბერტის\, ფრედერიკ შოპენის\, ერიკ სატისა და ნიკოლოზ შენგელიას ნაწარმოებებს შეასრულებენ პროფესორ ნინო მამრაძის კლასის სტუდენტები: რეზი წიტაიშვილი\, თამარ თარაევა\, სოფო ტარტარაშვილი\, ლუკა ნიკოლაძე და კომპოზიტორი და პიანისტი ნიკოლოზ შენგელია. \nდრო: 17 თებერვალი\, 18:00 საათი \nადგილმდებარეობა: ილიას სახელმწიფო უნივერსიტეტის B201 აუდიტორია\, ი. ჭავჭავაძის გამზირი N32 \nდასწრება თავისუფალია.
URL:https://events.iliauni.edu.ge/event/saphortepiano-musikis-kontserti-2/
CATEGORIES:ღონისძიებები
ATTACH;FMTTYPE=image/png:https://events.iliauni.edu.ge/wp-content/uploads/2024/02/8f9816d6ae558b35aac43742070ee1ef_82390.png
END:VEVENT
END:VCALENDAR