BEGIN:VCALENDAR
VERSION:2.0
PRODID:-//უნივერსიტეტის ღონისძიებების პორტალი - ECPv6.2.8.2//NONSGML v1.0//EN
CALSCALE:GREGORIAN
METHOD:PUBLISH
X-ORIGINAL-URL:https://events.iliauni.edu.ge
X-WR-CALDESC:Events for უნივერსიტეტის ღონისძიებების პორტალი
REFRESH-INTERVAL;VALUE=DURATION:PT1H
X-Robots-Tag:noindex
X-PUBLISHED-TTL:PT1H
BEGIN:VTIMEZONE
TZID:Asia/Dubai
BEGIN:STANDARD
TZOFFSETFROM:+0400
TZOFFSETTO:+0400
TZNAME:+04
DTSTART:20230101T000000
END:STANDARD
END:VTIMEZONE
BEGIN:VEVENT
DTSTART;TZID=Asia/Dubai:20230523T110000
DTEND;TZID=Asia/Dubai:20230523T110000
DTSTAMP:20260423T025510
CREATED:20230522T064700Z
LAST-MODIFIED:20240201T111903Z
UID:10000051-1684839600-1684839600@events.iliauni.edu.ge
SUMMARY:შეხვედრა ოქსფორდის უნივერსიტეტის პროფესორ რიჩარდ სვინბერნთან
DESCRIPTION:23 მაისს\, 11:00 საათზე\, წიგნის სახლში „ლიგამუსი“ გაიმართება ოქსფორდის უნივერსიტეტის ემერიტუს-პროფესორის\, რიჩარდ სვინბერნის შეხვედრა სტუდენტებსა და პროფესორებთან. \nშეხვედრაზე პროფესორი სვინბერნი ისაუბრებს თავის წიგნზე Faith and Reason („რწმენა და აზროვნება“)\, რომელსაც ილიას სახელმწიფო უნივერსიტეტის გამომცემლობა ამზადებს გამოსაცემად. \nშეხვედრა განსაკუთრებით საინტერესო იქნება ფილოსოფიისა და რელიგიის საკითხებით დაინტერესებული სტუდენტებისთვის. \nშეხვედრის დასასრულ პროფესორ რიჩარდ სვინბერნს მიენიჭება ილიას სახელმწიფო უნივერსიტეტის საპატიო პროფესორის წოდება. \nავტორის შესახებ \nრიჩარდ სვინბერნმა აკადემიური ცხოვრება დაიწყო ოქსფორდის უნივერსიტეტში\, სწავლობდა ფილოსოფიასა და თეოლოგიას. მის განსაკუთრებულ ინტერესს წარმოადგენდა საკითხი – გამართლებულია თუ არა ღმერთის რწმენა\, უფრო ზუსტად\, რწმენა ქრისტიანული რელიგიის სწავლებისა. იგი ქრისტიანული ტრადიციით აღიზარდა. 1995 წელს დატოვა ანგლიკანური ეკლესია და მიიღო მართლმადიდებლობა. \nსვინბერნმა წლები მიუძღვნა ფიზიკური და ბიოლოგიური მეცნიერებების ისტორიას\, რაც მისი ფილოსოფიური რეფლექსიის წყარო იყო. \n1963 წლიდან ჰალის უნივერსიტეტში კითხულობდა ლექციებს ფილოსოფიაში. 1972 წლიდან კილის უნივერსიტეტის ფილოსოფიის პროფესორია. ამ პერიოდში მისი აკადემიური ინტერესი იყო რელიგიის ფილოსოფია. 1985-დან 2002 წლამდე ქრისტიანული რელიგიის ფილოსოფიის პროფესორი იყო ოქსფორდის უნივერსიტეტში. 1993 წელს აირჩიეს ბრიტანეთის აკადემიის წევრად. ლექციების წასაკითხად მიწვეული იყო მსოფლიოს ბევრ უნივერსიტეტში. \n1968 წელს დაიბეჭდა მისი პირველი წიგნი „სივრცე და დრო“. 1971 წელს გამოვიდა „სასწაულის ცნება“. 1981-1997 წლებში დაიბეჭდა მისი ტრილოგია – „რწმენა და აზროვნება“\, „ღმერთის არსებობა“\, „თეიზმის კოჰერენტულობა. პასუხისმგებლობა და ცოდვების გამოსყიდვა“ (1989)\, „გამოცხადება“ (1992)\, „ქრისტიანული ღმერთი“ (1994)\, „განგება და ბოროტების პრობლემა“ (1998)\, „ეპისტემური გამართლება“ (2001)\, „განკაცებული ღმერთის აღდგომა“ (2003)\, „გონება\, ტვინი და თავისუფალი ნება“ (2013). 2023 წლის ბოლოს გამოვა მისი „დებატები“ ჯეიმს სტერბასთან სათაურით „დაუშვებდა კი კეთილი ღმერთი ამდენ ტანჯვას?“ \nრიჩარდ სვინბერნი ავტორია პოპულარული წიგნებისა: „არსებობს თუ არა ღმერთი?“ (1996)\, „იყო თუ არ იესო ღმერთი?“ (2008). \nრიჩარდ სვინბერნს საპატიო დოქტორის წოდება მიანიჭეს ლიუბლიანის კათოლიკურმა უნივერსიტეტმა (2015)\, ბუქარესტის დიმიტრი კანტემირის ქრისტიანულმა უნივერსიტეტმა (2016)\, ლიხტენშტაინის ფილოსოფიის საერთაშორისო აკადემიამ (2017). \nსამუშაო ენა: ქართული\, ინგლისური \nდრო: 23 მაისი\, 11:00 საათი \nადგილმდებარეობა: წიგნის სახლი „ლიგამუსი“\, ი.ჭავჭავაძის გამზ. N32 \nდასწრება თავისუფალია. \n2023 წელი \n  \n\n			\n				\n			\n		\n\n[wpai_display_imported_files_here]
URL:https://events.iliauni.edu.ge/event/shekhvedra-oqsphordis-universitetis-prophesor-richard-svinbernthan/
CATEGORIES:ღონისძიებები
ATTACH;FMTTYPE=image/png:https://events.iliauni.edu.ge/wp-content/uploads/2023/05/76118.png
END:VEVENT
BEGIN:VEVENT
DTSTART;TZID=Asia/Dubai:20230523T150000
DTEND;TZID=Asia/Dubai:20230523T150000
DTSTAMP:20260423T025510
CREATED:20230517T160033Z
LAST-MODIFIED:20240201T111855Z
UID:10000048-1684854000-1684854000@events.iliauni.edu.ge
SUMMARY:კორეული ტრადიციული თამაშები
DESCRIPTION:23 მაისს\, 15:00 საათზე\, ილიას სახელმწიფო უნივერსიტეტი გიწვევთ კორეულ ტრადიციულ თამაშებში მონაწილეობის მისაღებად. \nთქვენ საშუალება გექნებათ\,  გაეცნოთ კორეულ ტრადიციულ სამოსს\, მოირგოთ ის და მონაწილეობა მიიღოთ ისეთ თამაშებში\, როგორებიცაა:  სეოიე (კალიგრაფია)\, ტუჰო\, ჩეგიჩაგი\, ტაკჯი. \nღონისძიებაზე დასწრება შესაძლებელია წინასწარი რეგისტრაციით (დაესწრება პირველად რეგისტრირებული 50 მონაწილე). \nრეგისტრაციისთვის მიჰყევით ბმულს: https://forms.gle/NTghxywagkVnfwkh8 \n\nჰანბოკი \nჰანბოკი\, ტრადიციული კორეული სამოსი\, შეიძლება მოჰყვეს ?? კორეის სამი სამეფოს პერიოდს (1-ელი საუკუნე ძვ. წ. – ახ. წ. VII საუკუნე). თუმცა\, დღესდღეობით გაცვეთილი ჰანბოკი ჩოსონის დინასტიაში ძველი ჰანბოკის ნიმუშია და ხშირად ტრადიციულ დღესასწაულებსა თუ ოფიციალურ ღონისძიებებზე იცვამენ. \nსოიე \nკორეული კალიგრაფია\, ასევე ცნობილი\, როგორც სოიე\, მხატვრული წერის კორეული ტრადიციაა. ჩინური კალიგრაფიიდან მიღებული ხელოვნების ეს ფორმა მოგვიანებით დაინერგა კორეასა და იაპონიაში და ასახავს ქაღალდზე მხატვრული წერის ტრადიციას ჰანჯასა (ჩინური სიმბოლოები) და ჰანგულში\, მშობლიურ კორეულ ანბანში. \nტაკჯი \nტაკჯი\, ტრადიციული კორეული სათამაშო\, დამზადებულია დაკეცილი ქაღალდის ფილებისგან. ის შეიძლება ითამაშოთ მარტივად\, მიზანი იატაკზე მოთავსებული მოწინააღმდეგის ტაკჯის გადატრიალებაა თქვენი ნასროლი ტაკჯით. \nტუჰო \nტუჰოს ძირითადად სამეფო ოჯახები ან იანბანის (ჯოსონის პერიოდის დიდებულები) ოჯახები თამაშობდნენ ხშირად სახლის ეზოში. მიზანი ქოთანში ისრების შორიდან ჩაგდებაა. მოთამაშეები იყოფიან ორ გუნდად. იგებს ის გუნდი\, რომელიც ქოთანში მეტ ისარს ჩააგდებს. \n\nდრო: 23 მაისი\, 15:016:00 \nპირველად რეგისტრირებული 50 მონაწილე მოკლე ტექსტური შეტყობინებით მიიღებს ღონისძიების მისამართს. \n2023 წელი \n\n			\n				\n			\n		\n\n[wpai_display_imported_files_here]
URL:https://events.iliauni.edu.ge/event/koreuli-traditsiuli-thamashebi-2/
CATEGORIES:ღონისძიებები
ATTACH;FMTTYPE=image/png:https://events.iliauni.edu.ge/wp-content/uploads/2023/05/76226.png
END:VEVENT
BEGIN:VEVENT
DTSTART;TZID=Asia/Dubai:20230523T170000
DTEND;TZID=Asia/Dubai:20230523T170000
DTSTAMP:20260423T025510
CREATED:20230517T155750Z
LAST-MODIFIED:20240201T111846Z
UID:10000044-1684861200-1684861200@events.iliauni.edu.ge
SUMMARY:შეხვედრა კომპანია SOLVIT-ის წარმომადგენლებთან
DESCRIPTION:23 მაისს\,17:00 საათზე\, კომპანია SOLVIT-ის წარმომადგენლები ილიას სახელმწიფო უნივერსიტეტის ტექნოლოგიის სკოლის სტუდენტებთან გამართავენ შეხვედრას და გააცნობენ მათ ინფორმაციას ვაკანსიების\, სტაჟირებებისა და პროექტების შესახებ. \nკომპანია SOLVIT 2013 წელს დაარსდა და მას შემდეგ ახორციელებს IT სერვისებს საქართველოსა და საერთაშორისო ბაზარზე. SOLVIT არის გუნდი\, რომელიც ორიენტირებულია ინოვაციური და ეფექტური ბიზნესის გადაწყვეტილებების მიღებაზე\, თვალს ადევნებს უახლეს ტექნოლოგიურ ტენდენციებს და კომპანიებს სთავაზობს მათზე მორგებულ ინდივიდუალურ და ინოვაციურ მიდგომებს. \nკომპანიის ძლიერი მხარეა ადამიანები\, რომლებიც არა მხოლოდ კარგ გუნდს ქმნიან\, არამედ საუკეთესო პროფესიონალები არიან. სწორედ ამიტომ 2013 წლიდან SOLVIT-მა შეძლო ბევრი ინოვაციური და რთული პროექტის წარმატებით განხორციელება. \nსამუშაო ენა: ქართული \nდრო: 23 მაისი\, 17:00 საათი \nადგილმდებარეობა: T102 აუდიტორია\, ილიას სახელმწიფო უნივერსიტეტი\, ქ. ჩოლოყაშვილის გამზ. N3/5 \nდასწრება თავისუფალია. \n2023 წელი \n\n			\n				\n			\n		\n\n[wpai_display_imported_files_here]
URL:https://events.iliauni.edu.ge/event/shekhvedra-kompania-solvit-is-tsarmomadgenlebthan/
CATEGORIES:ღონისძიებები
ATTACH;FMTTYPE=image/png:https://events.iliauni.edu.ge/wp-content/uploads/2023/05/76225.png
END:VEVENT
BEGIN:VEVENT
DTSTART;TZID=Asia/Dubai:20230523T200000
DTEND;TZID=Asia/Dubai:20230523T200000
DTSTAMP:20260423T025510
CREATED:20230427T082906Z
LAST-MODIFIED:20240201T111958Z
UID:10000058-1684872000-1684872000@events.iliauni.edu.ge
SUMMARY:სპექტაკლი „ჟლეტის ღმერთი“
DESCRIPTION:შავი კომედია 1 მოქმედებად \nრა შეიძლება მოხდეს\, როდესაც თინეიჯერი ბიჭების მშობლები ერთმანეთს თავიანთი შვილების ყოფა–ქცევის განსახილველად ხვდებიან? არაფერი განსაკუთრებული\, იტყვით თქვენ. შეიკრიბებიან\, დალევენ ჩაის\, ან ყავას\, ან ალკოჰოლს და ზრდილობიანად წარმართავენ ცივილურ\, გაწონასწორებულ საუბარს იმის თაობაზე\, თუ როგორი ახალგაზრდა თაობა მოდის\, როგორ იცვლება დროება და როგორი განსხვავებული ბავშვები იყვნენ თვითონ\, არა? დიახ\, სწორედ ასე იწყება იასმინა რეზას პიესა „ჟლეტის ღმერთი“\, თუმცა… გარწმუნებთ\, პატარა ბიჭები ყველგან და ყველა დროში ერთნაირად იცელქებენ\, აი\, მათი მშობლების ქცევის წინასწარ გათვლა კი სრულიად შეუძლებელია. \n\nთარგმანი: ქეთი კვანტალიანი\nრეჟისორი: დავით ჭაბაშვილი\n\nმხატვარი: გოჩა აგაშენაშვილი\nტექნიკური რეჟისორი: მაკა მეტრეველი\n\nმონაწილეობენ: \n\nგიორგი ბახუტაშვილი\nნატა ბერეჟიანი\nგაგა შიშინაშვილი\nმაია ხორნაული\n\nპრემიერა შედგა 2014 წლის 7 თებერვალს \nსპექტაკლის ხანგრძლივობა – 1 საათი და 15 წუთი ანტრაქტის გარეშე \nყველა საავტორო უფლება დაცულია \nსპექტაკლი დაიდგა თბილისის მერიის კულტურული ღონისძიებების ცენტრის ფინანსური ხელშეწყობით. \n\nიხილეთ ფოტო გალერეა\nიხილეთ ვიდეო\n\nდრო: 21\,23\, მაისი\, 20:00 საათი \nადგილმდებარეობა: ილიას სახელმწიფო უნივერსიტეტის თეატრი\, ილია ჭავჭავაძის გამზირი N32 (უკანა ეზო) \n2023 წელი \n\n			\n				\n			\n		\n\n[wpai_display_imported_files_here]
URL:https://events.iliauni.edu.ge/event/speqtakli-zhletis-ghmerthi-2/
CATEGORIES:ღონისძიებები
ATTACH;FMTTYPE=image/png:https://events.iliauni.edu.ge/wp-content/uploads/2023/04/75788.png
END:VEVENT
END:VCALENDAR