BEGIN:VCALENDAR
VERSION:2.0
PRODID:-//უნივერსიტეტის ღონისძიებების პორტალი - ECPv6.2.8.2//NONSGML v1.0//EN
CALSCALE:GREGORIAN
METHOD:PUBLISH
X-WR-CALNAME:უნივერსიტეტის ღონისძიებების პორტალი
X-ORIGINAL-URL:https://events.iliauni.edu.ge
X-WR-CALDESC:Events for უნივერსიტეტის ღონისძიებების პორტალი
REFRESH-INTERVAL;VALUE=DURATION:PT1H
X-Robots-Tag:noindex
X-PUBLISHED-TTL:PT1H
BEGIN:VTIMEZONE
TZID:Asia/Dubai
BEGIN:STANDARD
TZOFFSETFROM:+0400
TZOFFSETTO:+0400
TZNAME:+04
DTSTART:20230101T000000
END:STANDARD
END:VTIMEZONE
BEGIN:VEVENT
DTSTART;TZID=Asia/Dubai:20230409T200000
DTEND;TZID=Asia/Dubai:20230409T200000
DTSTAMP:20260423T151513
CREATED:20230404T113600Z
LAST-MODIFIED:20240201T112235Z
UID:10000108-1681070400-1681070400@events.iliauni.edu.ge
SUMMARY:სპექტაკლი „იდეალური ოჯახი“
DESCRIPTION:კომედია 1 მოქმედებად \nრა ხდება მაშინ\, როდესაც საკუთარ ცხოვრებას მხოლოდ სხვის შეხედულებებზე აგებ?! როდესაც ცდილობ სხვისი დაკნინებით წარმოაჩინო საკუთარი თავი და მხოლოდ სხვის დასანახად შექმნა იდეალური ოჯახი… \nარსებობს კი იდეალური ოჯახი?! ან იქნებ ჩვენს საზოგადოებაშიც მრავლად არიან ვაცლავ ჰაველის პიესის გმირები\, რომლებიც გამუდმებით სხვის არასრულფასოვნებას უსვამენ ხაზს და ჰარმონიულ ურთიერთობაზე გვესაუბრებიან. \nმთარგმნელი: მაია ნაჭყებია\nრეჟისორი: დავით ჭახრაკია\nმხატვარი: გიორგი უსტიაშვილი\nტექნიკური რეჟისორი: ნათია სამადაშვილი \nმოქმედი პირნი და შემსრულებელნი:\nვერა – რუსკა მაყაშვილი (რუსთაველის თეატრის მსახიობი)\nმიხალი – გიორგი გოგუაძე\nბედრჟიხი – პაატა პაპუაშვილი \nსპექტაკლის ხანგრძლივობაა 1 საათი და 15 წუთი\nსპექტაკლის პრემიერა შედგა 2019 წლის 30 მარტს \nსპექტაკლი დაიდგა თბილისის მერიის ფინანსური ხელშეწყობით\nსპექტაკლის მხარდამჭერია “Sky Development” \n\nიხილეთ ფოტო გალერეა\nიხილეთ ვიდეო\n\n\nდრო: 9 აპრილი\, 20:00 საათი \nხანგრძლივობა: 1 საათი და 15 წუთი \nადგილმდებარეობა: ილიას სახელმწიფო უნივერსიტეტის თეატრი\, ილია ჭავჭავაძის გამზირი N32 (უკანა ეზო) \n2023 წელი \n\n\n			\n				\n			\n		\n\n[wpai_display_imported_files_here]
URL:https://events.iliauni.edu.ge/event/speqtakli-idealuri-ojakhi-4/
CATEGORIES:ღონისძიებები
ATTACH;FMTTYPE=image/png:https://events.iliauni.edu.ge/wp-content/uploads/2023/04/74245.png
END:VEVENT
END:VCALENDAR