BEGIN:VCALENDAR
VERSION:2.0
PRODID:-//უნივერსიტეტის ღონისძიებების პორტალი - ECPv6.2.8.2//NONSGML v1.0//EN
CALSCALE:GREGORIAN
METHOD:PUBLISH
X-ORIGINAL-URL:https://events.iliauni.edu.ge
X-WR-CALDESC:Events for უნივერსიტეტის ღონისძიებების პორტალი
REFRESH-INTERVAL;VALUE=DURATION:PT1H
X-Robots-Tag:noindex
X-PUBLISHED-TTL:PT1H
BEGIN:VTIMEZONE
TZID:Asia/Dubai
BEGIN:STANDARD
TZOFFSETFROM:+0400
TZOFFSETTO:+0400
TZNAME:+04
DTSTART:20230101T000000
END:STANDARD
END:VTIMEZONE
BEGIN:VEVENT
DTSTART;TZID=Asia/Dubai:20230403T190000
DTEND;TZID=Asia/Dubai:20230403T190000
DTSTAMP:20260423T151559
CREATED:20230323T060200Z
LAST-MODIFIED:20240201T112239Z
UID:10000110-1680548400-1680548400@events.iliauni.edu.ge
SUMMARY:ქართულ-ამერიკული სტარტაპის ეკოსისტემები – 90-იანი წლებიდან დღემდე
DESCRIPTION:3 აპრილს\, 19:00 საათზე\, ილიას სახელმწიფო უნივერსიტეტის B201 აუდიტორიაში Startup Grind-ის ილიას სახელმწიფო უნივერსიტეტის წარმომადგენლობის გახსნასთან დაკავშირებით გაიმართება პირველი შეხვედრა თემაზე „ქართულ-ამერიკული სტარტაპის ეკოსისტემები – 90-იანი წლებიდან დღემდე“. \n90-იანი წლები ბევრი გიგანტი ტექნოლოგიური კომპანიისა და თანამედროვე საბაზრო ეკონომიკური პრინციპების დასაბამია. ამ კომპანიებმა შეძლეს ახალი ტექნოლოგიებისა და ინოვაციური ბიზნესმოდელების გამოყენება\, რომელთა საშუალებითაც კონკურენცია გაუწიეს ტრადიციულ ინდუსტრიებს და შექმნეს ახალი ბაზრები. \nღონისძიებაზე მომხსენებლები ქართული და ამერიკული გარემოს მაგალითზე მიმოიხილავენ\, რა პროცესები მიმდინარეობდა ეკოსისტემაში 1990-იანი წლებიდან დღემდე. ასევე ისაუბრებენ სტარტაპგარემოს 1990-2022 წლების გამოწვევებზე და გაგვიზიარებენ გამოცდილებას. \nმომხსენებლები  \nდავით ჩეჩელაშვილი სტრატეგიაზე ორიენტირებული მეწარმეა და 2004 წლიდან ტექნოლოგიებისა და გასართობი ინდუსტრიის გადაკვეთაზე მუშაობს. ბიზნესპარტნიორებთან ერთად დაარსებული აქვს 5 გლობალური სტარტაპი\, ძირითადად იმერსიული ვიზუალიზაციისა და ხელოვნური ინტელექტის სფეროებში. მათგან ერთ-ერთი\, კინოინდუსტრიის ცნობილი ბრენდი\, 3D ტექნოლოგიების ბოლო ტალღის (2005) სათავეში იდგა. 2015 წელს დავითი უცხოეთიდან საქართველოში დაბრუნდა და მას შემდეგ მონაწილეობს სტარტაპის ეკოსისტემის განვითარებაში. საქართველოს აქსელერაციის 500 პროგრამის კოორდინატორია. \nანა რობაქიძე\, Theneo-ს დამფუძნებელი და აღმასრულებელი დირექტორი\, მანამდე იყო Clientela-ს ინჟინერიის დეპარტამენტის ხელმძღვანელი\, მუშაობდა ასობით სხვადასხვა API-ზე. 2022 წელს მოიგო Web Summit-ის Pitch კონკურსი. Theneo (YC W22) სპეციალიზებულია ხელოვნური ინტელექტის პლატფორმის შემუშავებაზე\, რომელიც ორიენტირებულია API დოკუმენტაციაზე. კომპანია ავითარებს\, აკონტროლებს და ინახავს API დოკუმენტაციას ხელოვნური ინტელექტისა და მანქანური მეშვეობით. \nStartup Grind\, გლობალური ორგანიზაცია\, აერთიანებს მსოფლიოს 3 მილიონამდე ანტრეპრენერს. ორგანიზაციის მთავარი მიზანია აღმოაჩინოს და ხელი შეუწყოს სტარტაპების განვითარებას\, ცოდნის გაზიარებასა და არაფორმალურ გარემოში სამეწარმეო „ქომუნითების“ შექმნას. \nStartup Grind-ის საუნივერსიტეტო წარმომადგენლობის მიზანია შექმნას საზოგადოება\, რომელიც ხელს შეუწყობს საქართველოს სამეწარმეო პოტენციალის წარმოჩენას საერთაშორისო ასპარეზზე. \nსამუშაო ენა: ქართული \nდრო: 3 აპრილი\, 19:00 საათი \nადგილმდებარეობა: ილიას სახელმწიფო უნივერსიტეტის B201 აუდიტორია\, ი. ჭავჭავაძის გამზ. N32 \nდასწრება შეუძლია ნებისმიერ დაინტერესებულ პირს წინასწარი რეგისტრაციით ბმულზე: https://bit.ly/3naRx1c  \nგთხოვთ გაიაროთ რეგისტრაცია 30 მარტის ჩათვლით. ადგილები შეზღუდულია\, ღონისძიებაზე დასწრებას შეძლებს პირველი 40 რეგისტრირებული პირი. \nდამატებითი ინფორმაციისთვის დაუკავშირდით – tiko.m@startupgrind.com \n2023 წელი \n\n			\n				\n			\n		\n\n[wpai_display_imported_files_here]
URL:https://events.iliauni.edu.ge/event/qarthul-amerikuli-startapis-ekosistemebi-90-iani-tslebidan-dghemde/
CATEGORIES:ღონისძიებები
ATTACH;FMTTYPE=image/png:https://events.iliauni.edu.ge/wp-content/uploads/2023/03/75217.png
END:VEVENT
END:VCALENDAR