BEGIN:VCALENDAR
VERSION:2.0
PRODID:-//უნივერსიტეტის ღონისძიებების პორტალი - ECPv6.2.8.2//NONSGML v1.0//EN
CALSCALE:GREGORIAN
METHOD:PUBLISH
X-ORIGINAL-URL:https://events.iliauni.edu.ge
X-WR-CALDESC:Events for უნივერსიტეტის ღონისძიებების პორტალი
REFRESH-INTERVAL;VALUE=DURATION:PT1H
X-Robots-Tag:noindex
X-PUBLISHED-TTL:PT1H
BEGIN:VTIMEZONE
TZID:Asia/Dubai
BEGIN:STANDARD
TZOFFSETFROM:+0400
TZOFFSETTO:+0400
TZNAME:+04
DTSTART:20220101T000000
END:STANDARD
END:VTIMEZONE
BEGIN:VEVENT
DTSTART;TZID=Asia/Dubai:20221206T153000
DTEND;TZID=Asia/Dubai:20221206T153000
DTSTAMP:20260424T012427
CREATED:20221205T070802Z
LAST-MODIFIED:20240201T112551Z
UID:10000211-1670340600-1670340600@events.iliauni.edu.ge
SUMMARY:„ვოლოდიმირ ზელენსკი - გმირის ტყავში“ – შეხვედრა წიგნის ავტორთან
DESCRIPTION:6 დეკემბერს\, 15:30 საათზე\, წიგნის სახლში „ლიგამუსი“ გაიმართება შეხვედრა წიგნის „ვოლოდიმირ ზელენსკი – გმირის ტყავში“ ავტორთან\, ფრანგ ჟურნალისტსა და პოსტსაბჭოთა სივრცის სპეციალისტთან\, რეჟის კანტერთან. \nშეხვედრას მოდერაციას გაუწევს ილიას სახელმწიფო უნივერსიტეტის პროფესორი\, ზურაბ ჭიაბერაშვილი. \nწიგნის შესახებ \nწიგნი „ვოლოდიმირ ზელენსკი – გმირის ტყავში“ უკრაინაში 2022 წლის 24 თებერვალს დაწყებული ომის მიმდინარეობისას დაიწერა. \nმასში გამოყენებულია ადრინდელი\, რამდენიმე წლის განმავლობაში მომზადებული რეპორტაჟები\, უკრაინისა და ყოფილი საბჭოთა კავშირის ქვეყნების პოლიტიკური ანალიზი; ასევე სხვადასხვა მეცნიერის\, ჟურნალისტისა და სპეციალისტის ნამუშევარი თუ კვლევა უკრაინასთან დაკავშირებულ საკითხებზე. \n„ვოლოდიმირ ზელენსკი – გმირის ტყავში“ მკითხველს უკრაინის პრეზიდენტის უკეთ გაცნობის შესაძლებლობას აძლევს; წიგნის მეშვეობით მკითხველი ასევე მის ოჯახს\, სამეგობრო წრესა და თანამოაზრეებსაც გაიცნობს; გაიგებს მეტს მის ბავშვობის\, სამსახიობო კარიერასა თუ პოლიტიკაში გადადგმული ნაბიჯების შესახებ. \nდა მაინც\, ვინ არის კაცი\, რომელზეც ამჟამად\, ნაწილობრივ\, ევროპის ბედია დამოკიდებული? ამ შეკითხვაზე პასუხს მკითხველი ამოიკითხავს წიგნში\, რომლის ავტორები შესაძლებლობას გვაძლევენ აღმოვაჩინოთ და ახლოდან დავინახოთ ეს უჩვეულო ადამიანი\, კაცი\, რომელმაც ორჯერ მოირგო უკრაინის პრეზიდენტის ტყავი… \nწიგნი ფრანგულ ენაზე 2022 წლის მაისში გამოიცა; მისი ავტორები არიან ფრანგი ჟურნალისტები რეჟის ჟანტე – პოსტსაბჭოთა სივრცის სპეციალისტი და სტეფან სიოანი – რუსულ-უკრაინული ომის რეპორტიორი. \nწიგნის ქართული თარგმანი მიმდინარე წლის ოქტომბერში გამოსცა გამომცემლობა „ზებრამ“. \nსამუშაო ენა: ფრანგული\, უზრუნველყოფილი იქნება თანმიმდევრული თარგმანი ქართულად \nფორმატი: შეხვედრა ჩატარდება ჰიბრიდულ ფორმატში \nშეხვედრაზე დისტანციურად დასწრება შესაძლებელი იქნება ზუმის მეშვეობით. \nშეხვედრაზე დასასწრებად მიჰყევით ბმულს: https://bit.ly/3HbhyFQ \nMeeting ID: 896 0727 6869\nPasscode: 820664 \nდრო: 6 დეკემბერი\, 15:30 საათი \nადგილმდებარეობა: წიგნის სახლი „ლიგამუსი“\, ილიას სახელმწიფო უნივერსიტეტი\, ი.ჭავჭავაძის გამზ. N32 \nდასწრება თავისუფალია. \n2022 წელი \n\n			\n				\n			\n		\n\n[wpai_display_imported_files_here]
URL:https://events.iliauni.edu.ge/event/volodimir-zelenski-gmiris-tqhavshi-shekhvedra-tsignis-avtorthan/
CATEGORIES:ღონისძიებები
ATTACH;FMTTYPE=image/png:https://events.iliauni.edu.ge/wp-content/uploads/2022/12/71769.png
END:VEVENT
BEGIN:VEVENT
DTSTART;TZID=Asia/Dubai:20221206T190000
DTEND;TZID=Asia/Dubai:20221206T190000
DTSTAMP:20260424T012427
CREATED:20221202T143047Z
LAST-MODIFIED:20240201T112547Z
UID:10000208-1670353200-1670353200@events.iliauni.edu.ge
SUMMARY:საჯარო დისკუსია „კოლონიალიზმის საკითხი საქართველოში“
DESCRIPTION:6 დეკემბერს\, 19:00 საათზე\, წიგნის სახლში „ლიგამუსი“ ილიას სახელმწიფო უნივერსიტეტის უმაღლესი კვლევების ცენტრის პროექტის „საჯარო სფეროს რეკონსტრუქცია საქართველოში“ ფარგლებში გაიმართება დისკუსია თემაზე „კოლონიალიზმის საკითხი საქართველოში“. \nმომხსენებლები \nგია ნოდია\, ილიას სახელმწიფო უნივერსიტეტის პროფესორი \nთამთა მიქელაძე\, ილიას სახელმწიფო უნივერსიტეტის ასოცირებული პროფესორი \nშეხვედრას მოდერაციას გაუწევს ილიას სახელმწიფო უნივერსიტეტის პროფესორი\, გოგი გვახარია. \nპროექტი ხორციელდება საქართველოში ამერიკის შეერთებული შტატების საელჩოს დემოკრატიის მცირე გრანტების პროგრამის მხარდაჭერით. \nსამუშაო ენა: ქართული \nდრო: 6 დეკემბერი\, 19:00 საათი \nადგილმდებარეობა: წიგნის სახლი „ლიგამუსი“\, ილიას სახელმწიფო უნივერსიტეტი\, ი.ჭავჭავაძის გამზ. N32 \nდასწრება თავისუფალია. \n2022 წელი \n\n			\n				\n			\n		\n\n[wpai_display_imported_files_here]
URL:https://events.iliauni.edu.ge/event/sajaro-diskusia-kolonializmis-sakithkhi-saqarthveloshi/
CATEGORIES:ღონისძიებები
ATTACH;FMTTYPE=image/png:https://events.iliauni.edu.ge/wp-content/uploads/2022/12/71765.png
END:VEVENT
END:VCALENDAR