BEGIN:VCALENDAR
VERSION:2.0
PRODID:-//უნივერსიტეტის ღონისძიებების პორტალი - ECPv6.2.8.2//NONSGML v1.0//EN
CALSCALE:GREGORIAN
METHOD:PUBLISH
X-WR-CALNAME:უნივერსიტეტის ღონისძიებების პორტალი
X-ORIGINAL-URL:https://events.iliauni.edu.ge
X-WR-CALDESC:Events for უნივერსიტეტის ღონისძიებების პორტალი
REFRESH-INTERVAL;VALUE=DURATION:PT1H
X-Robots-Tag:noindex
X-PUBLISHED-TTL:PT1H
BEGIN:VTIMEZONE
TZID:Asia/Dubai
BEGIN:STANDARD
TZOFFSETFROM:+0400
TZOFFSETTO:+0400
TZNAME:+04
DTSTART:20220101T000000
END:STANDARD
END:VTIMEZONE
BEGIN:VEVENT
DTSTART;TZID=Asia/Dubai:20221108T135300
DTEND;TZID=Asia/Dubai:20221108T135300
DTSTAMP:20260424T063104
CREATED:20221108T095230Z
LAST-MODIFIED:20240201T112837Z
UID:10000283-1667915580-1667915580@events.iliauni.edu.ge
SUMMARY:CAUCASUS MOUNTAIN FORUM 2023
DESCRIPTION:Designed to be a meeting place for scientists\, policymakers\, and practitioners from the Caucasus region and beyond\, the third Caucasus Mountain Forum (CMF3) follows in the footsteps of CMF1 (2016) and CMF2 (2019) as a crucial opportunity for constructive interaction between scientists\, governmental experts\, and practitioners; with debate on opportunities and challenges and contributions to the improved coordination of sustainable development in the Caucasus region. \nThe theme of CMF3 “Transdisciplinarity for Sustainable Tourism Development: Role of Caucasus Scientists” will be perspectives and challenges of tourism development in the region\, which was identified as one of the hottest issues by the Caucasus Regional Research Agenda (C-RRA) adopted by CMF2 in Ankara in 2019. In particular\, the presentations and discussions of CMF2 determined that tourism\, even with both positive and negative impacts on nature\, local communities\, and economies\, plays the most important role in the Caucasus mountain regions’ socio-economic promotion. \nThe tourism sector constituted 3 to 15 percent of the GDP of the  Caucasus Ecoregion countries in 2019. Tourism development is interlinked with a number of other economic sectors such as agriculture\, transport\, infrastructure\, construction\, energy\, and\, in general\, socio-economic development and planning. The tourism sector also embraces different aspects of historical heritage and cultural diversity\, environmental and ecosystem protection\, climate change\, and water management. \nCMF3 will be held from 4 to 6 July 2023 and will be hosted by Kutaisi Akaki Tsereteli State University\, Georgia. \nCMF3 will offer a combination of plenary sessions open to the public\, research sessions\, workshops\, and poster sessions. The organisers invite participants to choose among the following types of contributions: \n\nAbstracts for oral presentation in research sessions (max 300 words + 5 keywords). Research sessions provide academic researchers with a chance to present and discuss their latest scientific findings. Researchers from non-academic settings (NGOs\, government\, private sector) are also invited.\nAbstracts for a practical example in a workshop (max. 300 words). The purpose of the workshops is to stimulate discussion and exchange between practitioners and scientists. Practical examples in policy advocacy; scientific networking; leveraging spatial data education for sustainable development\, natural hazards\, and disaster risk reduction are expected. As a consequence\, workshop presentations are expected to be short\, focusing on practical insights from development projects\, policy initiatives\, or teaching practices.\nAbstracts for a poster presentation (max. 200 words). Posters will be displayed in a prominent area. Poster presenters will attend two dedicated poster sessions. The size of the posters should not exceed A0 format (84 cm x 119 cm). One-page handouts will be available. The prize for the best poster will be awarded during the closing session.\n\nDeadlines: \nAbstract submission deadline: 15 January\, 2023 \nDeadline for the notification of abstract acceptance: 15 February 2023 \nAbstracts are to be submitted in English only to CMF2023@caucasus-mt.net using the Abstract Submission Form \nScholarships will be available primarily for participants from the region. \nFor more details visit: https://www.caucasus-mt.net/Caucasus-Mountain-Forum-2023 \n2023 \n\n			\n				\n			\n		\n\n[wpai_display_imported_files_here]
URL:https://events.iliauni.edu.ge/event/caucasus-mountain-forum-2023/
CATEGORIES:ღონისძიებები
ATTACH;FMTTYPE=image/png:https://events.iliauni.edu.ge/wp-content/uploads/2022/11/70874.png
END:VEVENT
BEGIN:VEVENT
DTSTART;TZID=Asia/Dubai:20221108T190000
DTEND;TZID=Asia/Dubai:20221108T190000
DTSTAMP:20260424T063104
CREATED:20221103T062800Z
LAST-MODIFIED:20240201T112832Z
UID:10000280-1667934000-1667934000@events.iliauni.edu.ge
SUMMARY:საჯარო დისკუსია სახალხო დამცველის კანდიდატებთან
DESCRIPTION:8 ნოემბერს\, 19:00 საათზე\, ილიას სახელმწიფო უნივერსიტეტის სამართლის სკოლის ადამიანის უფლებათა მიმართულება კავშირ „საფართან” თანამშრომლობითა და USAID სამართლის უზენაესობის პროგრამის მხარდაჭერით გიწვევთ საჯარო დისკუსიაზე სახალხო დამცველის კანდიდატებთან. \nმომხსენებლები \nანა აბაშიძე\, ორგანიზაცია „პარტნიორობა ადამიანის უფლებებისთვის” ხელმძღვანელი; სახალხო დამცველის თანამდებობაზე წარდგენილი კანდიდატი \nნაზი ჯანეზაშვილი\, ორგანიზაცია „საქართველოს სასამართლოს გუშაგის“ ხელმძღვანელი; სახალხო დამცველის თანამდებობაზე წარდგენილი კანდიდატი \nგიორგი ბურჯანაძე\, საქართველოს სახალხო დამცველის მოადგილე; სახალხო დამცველის თანამდებობაზე წარდგენილი კანდიდატი \nმოდერატორი \nანა აფციაური\, ილიას სახელმწიფო უნივერსიტეტის ადამიანის უფლებათა კლინიკის კოორდინატორი; თანასწორობის მოძრაობის სამართლებრივი ოფიცერი \nდისკუსიის თემატიკა \nპარლამენტის ადამიანის უფლებათა დაცვის კომიტეტში სახალხო დამცველობის კანდიდატების მოსმენა 25 ოქტომბერს დაიწყო. Პარლამენტში რეგისტრირებული 19 კანდიდატიდან 3 არასამთავრობო ორგანიზაციებმა წარადგინეს. მათი შერჩევის პროცესში 52 ორგანიზაცია მონაწილეობდა. \nსახალხო დამცველობის კანდიდატთა შესარჩევი პროცესი სამოქალაქო სექტორმა ჯერ კიდევ აგვისტოში დაიწყო. 52 არასამთავრობო ორგანიზაცია ერთი თვის განმავლობაში მუშაობდა შესაფერისი კანდიდატების შერჩევაზე – გაიწერა კრიტერიუმები\, შესაბამისად\, შეფასების მეთოდები\, შიდა კენჭისყრის წესები და პროცედურები. შედეგად\, 27 სექტემბერს წარადგინეს სამი კანდიდატი. აღსანიშნავია\, რომ კანიდატებმა უმაღლესი შეფასება დაიმსახურეს პარლამენტის მიერ შექმნილი 9-კაციანი კომისიისგანაც. \nმოქმედ სახალხო დამცველს\, ნინო ლომჯარიას უფლებამოსილების ვადა ეწურება 2022 წლის 8 დეკემბერს. Პარლამენტმა ახალ სახალხო დამცველს კენჭი 1 დეკემბრამდე უნდა უყაროს. დისკუსიაზე აუდიტორიას შესაძლებლობა ექნება\, მოისმინოს კანდიდატების მოსაზრებები მიმდინარე პროცესებზე\, აგრეთვე მათი სამომავლო ხედვები და მიზნები. \nსემესტრის ბოლოს გამოვლინდება ადამიანის უფლებათა მიმართულების მიერ ორგანიზებულ ღონისძიებათა დამსწრე 3 ყველაზე აქტიური (აქტიურობა გამოითვლება დასწრების ფურცელზე ხელმოწერების რაოდენობით) სტუდენტი\, რომელთაც სამართლის სკოლის დეკანი დააჯილდოებს. \nდასწრება თავისუფალია. ღონისძიებაზე დასასწრებად გთხოვთ\, გაიაროთ წინასწარი რეგისტრაცია მითითებულ ბმულზე: https://tinyurl.com/4psb8hay \nსამუშაო ენა: ქართული \nდრო: 8 ნოემბერი\, 19:00 საათი \nადგილმდებარეობა: წიგნის სახლი „ლიგამუსი“\, ილიას სახელმწიფო უნივერსიტეტი (ი. ჭავჭავაძის გამზ. N32) \n2022 წელი \n\n			\n				\n			\n		\n\n[wpai_display_imported_files_here]
URL:https://events.iliauni.edu.ge/event/sajaro-diskusia-sakhalkho-damtsvelis-kandidatebthan/
CATEGORIES:ღონისძიებები
ATTACH;FMTTYPE=image/png:https://events.iliauni.edu.ge/wp-content/uploads/2022/11/70813.png
END:VEVENT
BEGIN:VEVENT
DTSTART;TZID=Asia/Dubai:20221108T200000
DTEND;TZID=Asia/Dubai:20221108T200000
DTSTAMP:20260424T063104
CREATED:20221104T080838Z
LAST-MODIFIED:20240201T112824Z
UID:10000275-1667937600-1667937600@events.iliauni.edu.ge
SUMMARY:სპექტაკლი „ძალად ექიმი“
DESCRIPTION:8 ნოემბერს\, 20:00 საათზე\, ილიას სახელმწიფო უნივერსიტეტში გაიმართება სპექტაკლი „ძალად ექიმი“\, კომედია ერთ მოქმედებად. \nსპექტაკლის შესახებ \nკომედია მოგვითხრობს\, როგორ ჩათვალა მთელმა სამყარომ\, რომ მთავარი გმირი\, უმაქნისი ლოთი სგანარელი ცნობილი ექიმია\, რომელსაც ყველა დაავადების განკურნება შეუძლია. „პაციენტები“ გულუბრყვილოდ სთავაზობენ სგანარელს უზარმაზარ თანხებს მის სასწაულმოქმედ წამალში\, რომელიც სინამდვილეში\, რა თქმა უნდა\, არ არსებობს. მოხერხებული სგანარელი სწრაფად მდიდრდება\, თუმცა არც კეთილი საქმის გაკეთება ავიწყდება და ყველაზე სერიოზული „ავადმყოფების“\, შეყვარებული წყვილის\, „განკურნებასაც“ ახერხებს. \nვინ შექმნა სპექტაკლი \nმთარგმნელი ქეთი კვანტალიანი\nრეჟისორი კოკო როინიშვილი\nმხატვარი ბარბარე ასლამაზი\nმუსიკალური გაფორმება ზურაბ გაგლოშვილი\nქორეოგრაფი თინათინ წულაძე\nტექნიკური რეჟისორი თამუნა კამლაძე \nმოქმედი პირნი და შემსრულებელნი: \nსგანარელი – ირაკლი ჩხიკვაძე\nმარტინი – ანი იმნაძე\nლუკა – ნოდარ ძოწენიძე\nჟერონტი – ანდრია ვაჭრიძე\nჟაკლინი – ანიკო შურღაია\nლუსინდა – ანკა ვასაძე\nლეანდრო – გიორგი კიკნაძე \n\nბილეთის ფასი  \n\n20 ლარი\nილიაუნის სტუდენტებისთვის – 5 ლარი\nსხვა უნივერსიტეტების სტუდენტებისთვის – 10 ლარი\n\nმოცემული ფასებით სარგებლობა შესაძლებელია მხოლოდ ილიაუნის თეატრის სალაროში ბილეთების დაჯავშნით. \nროგორ დავჯავშნო და შევიძინო ბილეთი? \nილიაუნის თეატრის სალარო \nტელეფონის ნომერი: +995 32 2 29 47 15 \nსამუშაო განრიგი: ყოველდღე\, ორშაბათის გარდა\, 13:00-20:00 საათები \nbiletebi.ge\nონლაინ 24 საათის განმავლობაში ბმულიდან https://bit.ly/3DAgpUE \n\nდრო: 8 ნოემბერი\, 20:00 საათი \nხანგრძლივობა: 1.5 საათი \nადგილმდებარეობა: ილიას სახელმწიფო უნივერსიტეტის თეატრი\, ილია ჭავჭავაძის გამზირი N32 (უკანა ეზო) \n2022 წელი \n\n			\n				\n			\n		\n\n[wpai_display_imported_files_here]
URL:https://events.iliauni.edu.ge/event/speqtakli-dzalad-eqimi/
CATEGORIES:ღონისძიებები
ATTACH;FMTTYPE=image/png:https://events.iliauni.edu.ge/wp-content/uploads/2022/11/70823.png
END:VEVENT
END:VCALENDAR