BEGIN:VCALENDAR
VERSION:2.0
PRODID:-//უნივერსიტეტის ღონისძიებების პორტალი - ECPv6.2.8.2//NONSGML v1.0//EN
CALSCALE:GREGORIAN
METHOD:PUBLISH
X-WR-CALNAME:უნივერსიტეტის ღონისძიებების პორტალი
X-ORIGINAL-URL:https://events.iliauni.edu.ge
X-WR-CALDESC:Events for უნივერსიტეტის ღონისძიებების პორტალი
REFRESH-INTERVAL;VALUE=DURATION:PT1H
X-Robots-Tag:noindex
X-PUBLISHED-TTL:PT1H
BEGIN:VTIMEZONE
TZID:Asia/Dubai
BEGIN:STANDARD
TZOFFSETFROM:+0400
TZOFFSETTO:+0400
TZNAME:+04
DTSTART:20220101T000000
END:STANDARD
END:VTIMEZONE
BEGIN:VEVENT
DTSTART;TZID=Asia/Dubai:20221005T132200
DTEND;TZID=Asia/Dubai:20221005T132200
DTSTAMP:20260424T063059
CREATED:20221004T092149Z
LAST-MODIFIED:20240201T112808Z
UID:10000260-1664976120-1664976120@events.iliauni.edu.ge
SUMMARY:ბავშვებში მეტყველების აპრაქსიის მართვა – დორა კნეჟევიჩის ლექციები
DESCRIPTION:5-6 ოქტომბერს\, 15:00 საათზე\, ილიას სახელმწიფო უნივერსიტეტში ERASMUS-ის გაცვლითი პროგრამების ფარგლებში ლექციებს წაიკითხავს ზაგრების უნივერსიტეტის ლექტორი დორა კნეჟევიჩი. \n\n5 ოქტომბრის ლექციის თემაა „ბავშვთა მეტყველების აპრაქსია – დიაგნოზთან დაკავშირებული თანამედროვე კვლევები“;\n6 ოქტომბრის ლექციის თემაა „ბავშვთა მეტყველების აპრაქსია მტკიცებულებებზე დაფუძნებული მიდგომები\, კვლევებისა და სხვადასხვაგვარი ჩარევების შედეგების მიმოხილვა“.\n\nლექციები განკუთვნილია ილიას სახელმწიფო უნივერსიტეტის კომუნიკაციის\, ენისა და მეტყველების თერაპიის სამაგისტრო პროგრამის სტუდენტებისა და საქართველოს ენისა და მეტყველების (სემთა) ასოციაციის წევრებისათვის. \nსამუშაო ენა: ინგლისური \nდრო: 5-6 ოქტომბერი\, 15:00 საათი \nადგილმდებარეობა: A 103 აუდიტორია\, ილიას სახელმწიფო უნივერსიტეტი\, ი. ჭავჭავაძის გამზ. N32 \n2022 წელი \n\n			\n				\n			\n		\n\n[wpai_display_imported_files_here]
URL:https://events.iliauni.edu.ge/event/bavshvebshi-metqhvelebis-apraqsiis-marthva-dora-knezhevichis-leqtsiebi/
CATEGORIES:ღონისძიებები
ATTACH;FMTTYPE=image/png:https://events.iliauni.edu.ge/wp-content/uploads/2022/10/68968.png
END:VEVENT
END:VCALENDAR