BEGIN:VCALENDAR
VERSION:2.0
PRODID:-//უნივერსიტეტის ღონისძიებების პორტალი - ECPv6.2.8.2//NONSGML v1.0//EN
CALSCALE:GREGORIAN
METHOD:PUBLISH
X-ORIGINAL-URL:https://events.iliauni.edu.ge
X-WR-CALDESC:Events for უნივერსიტეტის ღონისძიებების პორტალი
REFRESH-INTERVAL;VALUE=DURATION:PT1H
X-Robots-Tag:noindex
X-PUBLISHED-TTL:PT1H
BEGIN:VTIMEZONE
TZID:Asia/Dubai
BEGIN:STANDARD
TZOFFSETFROM:+0400
TZOFFSETTO:+0400
TZNAME:+04
DTSTART:20220101T000000
END:STANDARD
END:VTIMEZONE
BEGIN:VEVENT
DTSTART;TZID=Asia/Dubai:20220621T190000
DTEND;TZID=Asia/Dubai:20220621T190000
DTSTAMP:20260426T082807
CREATED:20220616T085744Z
LAST-MODIFIED:20241122T110929Z
UID:10000367-1655838000-1655838000@events.iliauni.edu.ge
SUMMARY:პროფესორ ელენა შევჩენკოს საჯარო ლექცია „უკრაინის ეკონომიკა“
DESCRIPTION:21 ივნისს\, 19:00 საათზე\, ილიას სახელმწიფო უნივერსიტეტში კიევის ტარას შევჩენკოს სახელობის ეროვნული უნივერსიტეტის პროფესორი ელენა შევჩენკო წაიკითხავს საჯარო ლექციას თემაზე: „უკრაინის ეკონომიკა“.  \nმომხსენებელი ისაუბრებს უკრაინის ბუნებრივ რესურსებზე\, ეკონომიკის წამყვან დარგებზე: მეტალურგიაზე\, ქიმიურ წარმოებაზე\, სამთო მრეწველობაზე\, სოფლის მეურნეობაზე\, ბირთვულ ინდუსტრიასა და ა.შ. \nსამუშაო ენა: ინგლისური \nლექციაზე დასწრება თავისუფალია. \nლექცია გაიმართება ჰიბრიდულ ფორმატში\, პლატფორმა ზუმის დახმარებით. \nზუმის შეხვედრის ბმული: https://bit.ly/38KnlDk \nსწრაფი ბმულები:  \n\nლექციათა სერია „ყველაფერი უკრაინის შესახებ“\n\n2022 წელი \n\n			\n				\n			\n		\n\n[wpai_display_imported_files_here]
URL:https://events.iliauni.edu.ge/event/prophesor-elena-shevchenkos-sajaro-leqtsia-ukrainis-ekonomika/
CATEGORIES:ღონისძიებები
ATTACH;FMTTYPE=image/png:https://events.iliauni.edu.ge/wp-content/uploads/2022/06/66377.png
END:VEVENT
END:VCALENDAR