BEGIN:VCALENDAR
VERSION:2.0
PRODID:-//უნივერსიტეტის ღონისძიებების პორტალი - ECPv6.2.8.2//NONSGML v1.0//EN
CALSCALE:GREGORIAN
METHOD:PUBLISH
X-ORIGINAL-URL:https://events.iliauni.edu.ge
X-WR-CALDESC:Events for უნივერსიტეტის ღონისძიებების პორტალი
REFRESH-INTERVAL;VALUE=DURATION:PT1H
X-Robots-Tag:noindex
X-PUBLISHED-TTL:PT1H
BEGIN:VTIMEZONE
TZID:Asia/Dubai
BEGIN:STANDARD
TZOFFSETFROM:+0400
TZOFFSETTO:+0400
TZNAME:+04
DTSTART:20220101T000000
END:STANDARD
END:VTIMEZONE
BEGIN:VEVENT
DTSTART;TZID=Asia/Dubai:20220607T190000
DTEND;TZID=Asia/Dubai:20220607T190000
DTSTAMP:20260425T155848
CREATED:20220606T071650Z
LAST-MODIFIED:20241122T110928Z
UID:10000383-1654628400-1654628400@events.iliauni.edu.ge
SUMMARY:პროფესორ ელენა შევჩენკოს საჯარო ლექცია „პოლიტიკური სისტემის ჩამოყალიბება დამოუკიდებელ უკრაინაში“
DESCRIPTION:7 ივნისს\, 19:00 საათზე\, ილიას სახელმწიფო უნივერსიტეტში გაიმართება კიევის ტარას შევჩენკოს სახელობის ეროვნული უნივერსიტეტის პროფესორ ელენა შევჩენკოს საჯარო ლექცია თემაზე: „პოლიტიკური სისტემის ჩამოყალიბება დამოუკიდებელ უკრაინაში“. \nმომხსენებელი შეეხება უკრაინის პოლიტიკური სისტემის ფორმირების პროცესს პრეზიდენტ ლეონიდ კუჩმას მმართველობის პერიოდიდან დღემდე\, ასევე ისაუბრებს იმ ფაქტორებზე\, რომლებმაც სხვადასხვა პერიოდში გავლენა მოახდინა უკრაინის შიდა პოლიტიკური კურსის ჩამოყალიბებაზე. \nსამუშაო ენა: ინგლისური \nლექციაზე დასწრება თავისუფალია. \nლექცია გაიმართება ჰიბრიდულ ფორმატში\, პლატფორმა ზუმის დახმარებით. \nზუმის შეხვედრის ბმული: https://bit.ly/3zA6JJF \nსწრაფი ბმულები: \n\nლექციათა სერია „ყველაფერი უკრაინის შესახებ“\n\n2022 წელი \n  \n\n			\n				\n			\n		\n\n[wpai_display_imported_files_here]
URL:https://events.iliauni.edu.ge/event/prophesor-elena-shevchenkos-sajaro-leqtsia-politikuri-sistemis-chamoqhalibeba-damoukidebel-ukrainashi/
CATEGORIES:ღონისძიებები
ATTACH;FMTTYPE=image/png:https://events.iliauni.edu.ge/wp-content/uploads/2022/06/66286.png
END:VEVENT
END:VCALENDAR