BEGIN:VCALENDAR
VERSION:2.0
PRODID:-//უნივერსიტეტის ღონისძიებების პორტალი - ECPv6.2.8.2//NONSGML v1.0//EN
CALSCALE:GREGORIAN
METHOD:PUBLISH
X-WR-CALNAME:უნივერსიტეტის ღონისძიებების პორტალი
X-ORIGINAL-URL:https://events.iliauni.edu.ge
X-WR-CALDESC:Events for უნივერსიტეტის ღონისძიებების პორტალი
REFRESH-INTERVAL;VALUE=DURATION:PT1H
X-Robots-Tag:noindex
X-PUBLISHED-TTL:PT1H
BEGIN:VTIMEZONE
TZID:Asia/Dubai
BEGIN:STANDARD
TZOFFSETFROM:+0400
TZOFFSETTO:+0400
TZNAME:+04
DTSTART:20220101T000000
END:STANDARD
END:VTIMEZONE
BEGIN:VEVENT
DTSTART;TZID=Asia/Dubai:20220603T190000
DTEND;TZID=Asia/Dubai:20220603T190000
DTSTAMP:20260425T190200
CREATED:20220601T082443Z
LAST-MODIFIED:20241122T110927Z
UID:10000385-1654282800-1654282800@events.iliauni.edu.ge
SUMMARY:პროფესორ ალლა გოლოვნიას საჯარო ლექცია „უკრაინული ლიტერატურა და თანამედროვე ხელოვნება“
DESCRIPTION:3 ივნისს\, 19:00 საათზე\, ილიას სახელმწიფო უნივერსიტეტში უკრაინის საავიაციო უნივერსიტეტის პროფესორი ალლა გოლოვნია წაიკითხავს საჯარო ლექციას თემაზე: „უკრაინული ლიტერატურა და თანამედროვე ხელოვნება“. \nმომხსენებელი შეეხება ისეთ საკითხებს\, როგორებიცაა: ლიტერატურა კიევის რუსეთში; ადრეული მოდერნული პერიოდის უკრაინული ლიტერატურა; მე-19 და მე-20 საუკუნის უკრაინული ლიტერატურა; თანამედროვე უკრაინული ლიტერატურა. \nმომხსენებელი ასევე ისაუბრებს თანამედროვე უკრაინულ სახვით ხელოვნებასა და არქიტექტურაზე\, მუსიკაზე\, კინოსა და თეატრზე \nსამუშაო ენა: ინგლისური \nლექციაზე დასწრება თავისუფალია. \nლექცია გაიმართება ჰიბრიდულ ფორმატში\, პლატფორმა ზუმის დახმარებით. \nზუმის ბმული: https://bit.ly/38KnlDk \nსწრაფი ბმულები: \n\nლექციათა სერია „ყველაფერი უკრაინის შესახებ“\n\n2022 წელი \n\n			\n				\n			\n		\n\n[wpai_display_imported_files_here]
URL:https://events.iliauni.edu.ge/event/prophesor-alla-golovnias-sajaro-leqtsia-ukrainuli-literatura-da-thanamedrove-khelovneba/
CATEGORIES:ღონისძიებები
ATTACH;FMTTYPE=image/png:https://events.iliauni.edu.ge/wp-content/uploads/2022/06/66000.png
END:VEVENT
END:VCALENDAR