BEGIN:VCALENDAR
VERSION:2.0
PRODID:-//უნივერსიტეტის ღონისძიებების პორტალი - ECPv6.2.8.2//NONSGML v1.0//EN
CALSCALE:GREGORIAN
METHOD:PUBLISH
X-ORIGINAL-URL:https://events.iliauni.edu.ge
X-WR-CALDESC:Events for უნივერსიტეტის ღონისძიებების პორტალი
REFRESH-INTERVAL;VALUE=DURATION:PT1H
X-Robots-Tag:noindex
X-PUBLISHED-TTL:PT1H
BEGIN:VTIMEZONE
TZID:Asia/Dubai
BEGIN:STANDARD
TZOFFSETFROM:+0400
TZOFFSETTO:+0400
TZNAME:+04
DTSTART:20220101T000000
END:STANDARD
END:VTIMEZONE
BEGIN:VEVENT
DTSTART;TZID=Asia/Dubai:20220530T120000
DTEND;TZID=Asia/Dubai:20220530T120000
DTSTAMP:20260425T191647
CREATED:20220519T055529Z
LAST-MODIFIED:20240201T113227Z
UID:10000395-1653912000-1653912000@events.iliauni.edu.ge
SUMMARY:სამუშაო შეხვედრა „როგორ ვისარგებლოთ ელსევიერის სამეცნიერო ბაზებით ScienceDirect და Scopus“
DESCRIPTION:30 მაისს\, 12:00 საათზე\, ილიას სახელმწიფო უნივერსიტეტის ბიბლიოთეკისა და წამყვანი საერთაშორისო გამომცემლობის (Elsevier) თანამშრომელთა მონაწილეობით გაიმართება სამუშაო შეხვედრა „როგორ ვისარგებლოთ ელსევიერის სამეცნიერო ბაზებით ScienceDirect და Scopus“. \nშეხვედრაზე განხილული იქნება სამეცნიერო ბაზების (ScienceDirect; Scopus) ეფექტური გამოყენების საკითხი\, ასევე პუბლიკაციის მომზადებისა და გამოქვეყნების დეტალები. \nსემინარი საინტერესო იქნება უნივერსიტეტის აკადემიური პერსონალისთვის\, სადოქტორო საფეხურის სტუდენტებისთვის\, ბიბლიოთეკის თანამშრომლებისთვის. \nშეხვედრა წარიმართება მოცემული დღის წესრიგით: \n12.00-12.15 – შესავალი \n12.15-12.45 – ScienceDirect – იპოვე შენი გზა ჰიპოთეზიდან აღმოჩენამდე\nჰელენა პაჩუსკა \n12.45-13.00 – შესვენება \n13.00-13.45 – ScienceDirect – სამეცნიერო და ტექნიკურ ინფორმაციასთან მუშაობის პროფესიული ინსტრუმენტი. საერთო უნარები სამეცნიერო გამომცემლობასა და სტატიების სტრუქტურაში\nმაქსიმ ფილატოვი \n13.45-14.30 – სემინარი Scopus-ის შესახებ – როგორ გავზარდოთ კვლევის ხილვადობა?\nკატარჟინა პატირაკი \nდასწრება თავისუფალია. \nშეხვედრაზე დასწრებისთვის აუცილებელია წინასწარ რეგისტრაცია მოცემულ ბმულზე – https://bit.ly/39IAFrP  \nდრო: 30 მაისი\, 12:00 საათი \nადგილმდებარეობა: ილიას სახელმწიფო უნივერსიტეტის T კორპუსი\, საკონფერენციო დარბაზი\, პირველი სართული (ქ.ჩოლოყაშვილის გამზ. N3/5) \nსამუშაო ენა: ინგლისური \nდამატებითი კითხვების შემთხვევაში გთხოვთ\, მოგვწეროთ შემდეგ ელექტრონულ მისამართზე: librarian@iliauni.edu.ge \n2022 წელი \n\n			\n				\n			\n		\n\n[wpai_display_imported_files_here]
URL:https://events.iliauni.edu.ge/event/samushao-shekhvedra-rogor-visargebloth-elsevieris-sametsniero-bazebith-sciencedirect-da-scopus/
CATEGORIES:ღონისძიებები
ATTACH;FMTTYPE=image/png:https://events.iliauni.edu.ge/wp-content/uploads/2022/05/65580.png
END:VEVENT
END:VCALENDAR