BEGIN:VCALENDAR
VERSION:2.0
PRODID:-//უნივერსიტეტის ღონისძიებების პორტალი - ECPv6.2.8.2//NONSGML v1.0//EN
CALSCALE:GREGORIAN
METHOD:PUBLISH
X-WR-CALNAME:უნივერსიტეტის ღონისძიებების პორტალი
X-ORIGINAL-URL:https://events.iliauni.edu.ge
X-WR-CALDESC:Events for უნივერსიტეტის ღონისძიებების პორტალი
REFRESH-INTERVAL;VALUE=DURATION:PT1H
X-Robots-Tag:noindex
X-PUBLISHED-TTL:PT1H
BEGIN:VTIMEZONE
TZID:Asia/Dubai
BEGIN:STANDARD
TZOFFSETFROM:+0400
TZOFFSETTO:+0400
TZNAME:+04
DTSTART:20220101T000000
END:STANDARD
END:VTIMEZONE
BEGIN:VEVENT
DTSTART;TZID=Asia/Dubai:20220520T161000
DTEND;TZID=Asia/Dubai:20220520T161000
DTSTAMP:20260425T212454
CREATED:20220520T115838Z
LAST-MODIFIED:20240201T113235Z
UID:10000402-1653063000-1653063000@events.iliauni.edu.ge
SUMMARY:სამეცნიერო-პრაქტიკული კონფერენცია „დერმატოლოგიისა და ესთეტიკური მედიცინის მესამე საერთაშორისო ტრანსკავკასიური კონგრესი“
DESCRIPTION:16-18 ივნისს თბილისში\, სასტუმრო „ბილტმორში“\, გაიმართება სამეცნიერო-პრაქტიკული კონფერენცია „დერმატოლოგიისა და ესთეტიკური მედიცინის მესამე საერთაშორისო ტრანსკავკასიური კონგრესი“. კონგრესი\, რომელიც ტარდება ილიას სახელმწიფო უნივერსიტეტის მხარდაჭერით\, ხორციელდება შოთა რუსთაველის საქართველოს ეროვნული სამეცნიერო ფონდის მხარდაჭერით [გრანტის ნომერი MG-ISE-22-125]. ასევე მინიჭებული აქვს დერმატოლოგთა საერთაშორისო საზოგადოების გრანტი. \nკონგრესში მონაწილეობას მიღებენ დარგის წამყვანი ექსპერტები აშშ-დან\, ავსტრალიიდან\, გერმანიიდან\, ისრაელიდან და ა.შ. \nახალგაზრდებისთვის დაწესებულია გრანტები. \nკონფერენციის ფარგლებში ჩატარდება დერმატოქირურგიის\, დერმატოსკოპიის პრაქტიკული ტრენინგები\, პლენარული სხდომები. \nკონფერენციაზე მონაწილეობისთვის საჭიროა წინასწარი რეგისტრაცია ბმულზე: https://itc2022.photoderm.org/ \nუკრაინელი კოლეგების რეგისტრაცია უფასოა! \nღონისძიება გაიმართება ჰიბრიდულ ფორმატში. სურვილის შემთხვევაში შესაძლებელია ვირტუალური მონაწილეობაც. მნიშვნელოვანი ლექციების ჩანაწერები ხელმისაწვდომი იქნება კონგრესის დასრულებიდან 6 თვის მანძილზე. \nდრო: 16-18 ივნისი \nსამუშაო ენა: ინგლისური \n2022 წელი \n\n			\n				\n			\n		\n\n[wpai_display_imported_files_here]
URL:https://events.iliauni.edu.ge/event/sametsniero-praqtikuli-konpherentsia-dermatologiisa-da-esthetikuri-meditsinis-mesame-saerthashoriso-transkavkasiuri-kongresi/
CATEGORIES:ღონისძიებები
ATTACH;FMTTYPE=image/png:https://events.iliauni.edu.ge/wp-content/uploads/2022/05/65585.png
END:VEVENT
END:VCALENDAR