BEGIN:VCALENDAR
VERSION:2.0
PRODID:-//უნივერსიტეტის ღონისძიებების პორტალი - ECPv6.2.8.2//NONSGML v1.0//EN
CALSCALE:GREGORIAN
METHOD:PUBLISH
X-WR-CALNAME:უნივერსიტეტის ღონისძიებების პორტალი
X-ORIGINAL-URL:https://events.iliauni.edu.ge
X-WR-CALDESC:Events for უნივერსიტეტის ღონისძიებების პორტალი
REFRESH-INTERVAL;VALUE=DURATION:PT1H
X-Robots-Tag:noindex
X-PUBLISHED-TTL:PT1H
BEGIN:VTIMEZONE
TZID:Asia/Dubai
BEGIN:STANDARD
TZOFFSETFROM:+0400
TZOFFSETTO:+0400
TZNAME:+04
DTSTART:20220101T000000
END:STANDARD
END:VTIMEZONE
BEGIN:VEVENT
DTSTART;TZID=Asia/Dubai:20220519T100000
DTEND;TZID=Asia/Dubai:20220519T100000
DTSTAMP:20260425T212455
CREATED:20220516T064741Z
LAST-MODIFIED:20240201T113239Z
UID:10000407-1652954400-1652954400@events.iliauni.edu.ge
SUMMARY:სამეცნიერო კონფერენცია „კორეა - საქართველო: ისტორიული პარალელები“
DESCRIPTION:კორეის რესპუბლიკასა და საქართველოს შორის დიპლომატიური ურთიერთობის 30 წლის იუბილეს აღსანიშნავად ილიას სახელმწიფო უნივერსიტეტში მიმდინარე კორეის კვირეულის დღეებში ჰანკუკის უცხო ენათა უნივერსიტეტთან თანამშრომლობით\, კორეის კვლევების აკადემიის მიერ დაფინანსებული პროექტის ფარგლებში\, 19-20 მაისს გაიმართება სამეცნიერო კონფერენცია „კორეა-საქართველო: ისტორიული პარალელები“. \nკონფერენციაში მონაწილეობას მიიღებენ ილიას სახელმწიფო უნივერსიტეტისა და ჰანკუკის უცხო ენათა უნივერსიტეტის მკვლევრები\, ასევე ილიას სახელმწიფო უნივერსიტეტის კორეული ენის კურსის სტუდენტები. \nკონფერენციის პროგრამა ხელმისაწვდომია ბმულზე: https://bit.ly/39p3MQJ \nკონფერენციის დასასრულს ინჰას უნივერსიტეტსა და ილიას სახელმწიფო უნივერსიტეტს შორის გაფორმდება ურთიერთთანამშრომლობის მემორანდუმი ორმაგი ხარისხის პროგრამების განვითარებისა და ილიას სახელმწიფო უნივერსიტეტში კორეის ცენტრის დაფუძნების მიმართულებით. \nდრო: 19-20 მაისი\, 10:00 საათი \n19 მაისს ღონისძიება გაიმართება ჰიბრიდულ ფორმატში პლატფორმა Zoom-ის გამოყენებით. უზრუნველყოფილი იქნება ფეისბუქლაივი ილიას სახელმწიფო უნივერსიტეტის გვერდზე. \nZoom-ის ბმული: https://bit.ly/3yH7T5C \nსამუშაო ენები: ინგლისური\, ქართული (უზრუნველყოფილი იქნება სინქრონული თარგმანი) \n2022 წელი \n  \n\n			\n				\n			\n		\n\n[wpai_display_imported_files_here]
URL:https://events.iliauni.edu.ge/event/sametsniero-konpherentsia-korea-saqarthvelo-istoriuli-paralelebi/
CATEGORIES:ღონისძიებები
ATTACH;FMTTYPE=image/png:https://events.iliauni.edu.ge/wp-content/uploads/2022/05/65495.png
END:VEVENT
END:VCALENDAR