BEGIN:VCALENDAR
VERSION:2.0
PRODID:-//უნივერსიტეტის ღონისძიებების პორტალი - ECPv6.2.8.2//NONSGML v1.0//EN
CALSCALE:GREGORIAN
METHOD:PUBLISH
X-WR-CALNAME:უნივერსიტეტის ღონისძიებების პორტალი
X-ORIGINAL-URL:https://events.iliauni.edu.ge
X-WR-CALDESC:Events for უნივერსიტეტის ღონისძიებების პორტალი
REFRESH-INTERVAL;VALUE=DURATION:PT1H
X-Robots-Tag:noindex
X-PUBLISHED-TTL:PT1H
BEGIN:VTIMEZONE
TZID:Asia/Dubai
BEGIN:STANDARD
TZOFFSETFROM:+0400
TZOFFSETTO:+0400
TZNAME:+04
DTSTART:20220101T000000
END:STANDARD
END:VTIMEZONE
BEGIN:VEVENT
DTSTART;TZID=Asia/Dubai:20220505T123700
DTEND;TZID=Asia/Dubai:20220505T123700
DTSTAMP:20260425T212455
CREATED:20220505T083707Z
LAST-MODIFIED:20240201T113358Z
UID:10000442-1651754220-1651754220@events.iliauni.edu.ge
SUMMARY:შეხვედრების სერია ილიაუნის ალუმნი ჯგუფთან
DESCRIPTION:ილიას სახელმწიფო უნივერსიტეტის საერთაშორისო სადოქტორო სკოლა იწყებს ალუმნი საუბრების სერიას\, რომლის ფარგლებშიც ილიაუნის კურსდამთავრებულებს\, მკვლევრებსა და დოქტორანტებს შესაძლებლობა ექნებათ\, არაფორმალურ გარემოში შეხვედრები გამართონ უნივერსიტეტის წარმატებულ კურსდამთავრებულებთან. შეხვედრები ხელს შეუწყობს დისკუსიებს დოქტორანტის საქმიანობასთან დაკავშირებულ საკითხებზე\, იქნება ეს სადოქტორო დისერტაციაზე მუშაობის პროცესი\, პუბლიკაციების გამოქვეყნება საერთაშორისო რეფერირებად ჟურნალებში\, ურთიერთობები სამეცნიერო ხელმძღვანელთან\, კარიერული და პროფესიული განვითარების პერსპექტივები და სხვ. \n\nგანრიგი \nAlumni Talks: შეხვედრა გიორგი გვალიასთან \nმომხსენებელი: გიორგი გვალია\, პოლიტიკისა და საერთაშორისო ურთიერთობების მიმართულების პროფესორი \nდრო: 6 მაისი\, 17:00 საათი \nვრცლად: https://bit.ly/3Fg5SP0 \n2022 წელი \n  \n\n			\n				\n			\n		\n\n[wpai_display_imported_files_here]
URL:https://events.iliauni.edu.ge/event/shekhvedrebis-seria-iliaunis-alumni-jguphthan/
CATEGORIES:ღონისძიებები
ATTACH;FMTTYPE=image/png:https://events.iliauni.edu.ge/wp-content/uploads/2022/05/65405.png
END:VEVENT
BEGIN:VEVENT
DTSTART;TZID=Asia/Dubai:20220505T200000
DTEND;TZID=Asia/Dubai:20220505T200000
DTSTAMP:20260425T212455
CREATED:20220428T061600Z
LAST-MODIFIED:20240201T113309Z
UID:10000424-1651780800-1651780800@events.iliauni.edu.ge
SUMMARY:სამოქალაქო და სამშენებლო ინჟინერიის სტუდენტური კლუბის საქმიანობის ანგარიში და სამოქმედო გეგმის წარდგენა
DESCRIPTION:5 მაისს ილიას სახელმწიფო უნივერსიტეტის ტექნოლოგიის სკოლასთან არსებული სამოქალაქო და სამშენებლო ინჟინერიის სტუდენტური კლუბი Ilia State ASCE Student Chapter ახალ პრეზიდენტს აირჩევს და კლუბის სამოქმედო გეგმას წარადგენს. \nIlia State ASCE Student Chapter შესახებ \nსამოქალაქო და სამშენებლო ინჟინერიის სტუდენტური კლუბი Ilia State ASCE Student ილიას სახელმწიფო უნივერსიტეტის ტექნოლოგიის სკოლასთან აფილიაციით 2020 წელს დაფუძნდა. \nკლუბმა საქმიანობის ერთი წლის თავზე\, 2021 წლის 27 ოქტომბერს\, ამერიკის სამოქალაქო ინჟინერთა საერთაშორისო საზოგადოების აღიარება მოიპოვა და ამ საზოგადოების სტუდენტური მიმართულების ქსელის ოფიციალური წევრი გახდა. \nოფიციალური ფეისბუქის გვერდი: https://bit.ly/39b2JUv \nამერიკის სამოქალაქო ინჟინერთა საერთაშორისო საზოგადოების შესახებ \nამერიკის სამოქალაქო ინჟინერთა საზოგადოება აშშ-ში მე-19 საუკუნეში დაარსებული ერთ-ერთი უძველესი პროფესიული საზოგადოებაა\, რომელიც დღეისთვის მსოფლიოს 177 ქვეყნის 150 000 პროფესიონალ ინჟინერს აერთიანებს. \nამერიკის სამოქალაქო ინჟინერთა საერთაშორისო სტუდენტური მიმართულების წევრობა \nრაც შეეხება საზოგადოების სტუდენტურ მიმართულებას\, ის აშშ-ის 50 შტატსა და მსოფლიოს 30-მდე ქვეყანაში ქმნის მსგავსი სტუდენტური კლუბების საერთაშორისო ქსელს. აქტივობები კი მოიცავს მოწვეულ პროფესიონალ ინჟინრებთან შეხვედრებს\, საველე დაკვირვებებს სამშენებლო ობიექტებზე\, სტუდენტურ პრეზენტაციებს\, დარგის განვითარებაზე ორიენტირებულ სტუდენტურ ინიციატივებს და სხვ. \n\nგანრიგი \n\n20:00-20:05 – ღონისძიების გახსნა \n20:05-20:15 – კლუბის პრეზენტაცია და კლუბის სამეთვალყურეო საბჭოს წევრების წარდგენა\, პროფესორი ვახტანგ ბალავაძე\, ილიაუნის ტექნოლოგიის სკოლის ხელმძღვანელი \n20:15-20:25 – ჩართვა სან დიეგოს სახელმწიფო უნივერსიტეტის სათავო ოფისიდან (აშშ\, კალიფორნია)\, იანუშ სუპერნაკი\, სან დიეგოს სახელმწიფო უნივერსიტეტის სამოქალაქო\, სამშენებლო და გარემოს ინჟინერიის დეპარტამენტის ხელმძღვანელი \n20:25-20:35 – კლუბის საქმიანობა (2020 – 2021) – განვლილი გზა და საერთაშორისო აღიარება\, კლუბის არჩეული პრეზიდენტი (2020-2021) ირაკლი ამბოკაძე და ვიცე-პრეზიდენტი ანა პავლიაშვილი \n20:35-20:45 – კლუბის გეგმები და შესაძლებლობები\, კლუბის ახლად არჩეული პრეზიდენტი \n20:45-21:00 – კითხვა-პასუხის სესია \n\nდრო: 5 მაისი\, 20:00 საათი \nფორმატი: ჰიბრიდული\, წინასწარი რეგისტრაციის საფუძველზე. დაინტერესებულმა პირებმა სარეგისტრაციო ფორმაში უნდა მიუთითონ დასწრების სასურველი ფორმატი (ფიზიკურ სივრცეში / ონლაინ). \nრეგისტრაციისთვის მიჰყევით: https://bit.ly/3EYX8g6 \nრეგისტრაციის ბოლო ვადა: 2 მაისი\, 23:59 საათი \nმონაწილეები შერჩეული ფორმატის შესაბამისად მიიღებენ დასასწრებად საჭირო ინფორმაციას (ფიზიკურ ფორმატში დასწრების მსურველები – მისამართს\, ხოლო ონლაინ დასწრების მსურველები – ზუმის ბმულს). \nსამუშაო ენები: ქართული\, ინგლისური \n2022 წელი \n\n			\n				\n			\n		\n\n[wpai_display_imported_files_here]
URL:https://events.iliauni.edu.ge/event/samoqalaqo-da-samsheneblo-inzhineriis-studenturi-klubis-saqmianobis-angarishi-da-samoqmedo-gegmis-tsardgena/
CATEGORIES:ღონისძიებები
ATTACH;FMTTYPE=image/png:https://events.iliauni.edu.ge/wp-content/uploads/2022/04/65346.png
END:VEVENT
END:VCALENDAR