BEGIN:VCALENDAR
VERSION:2.0
PRODID:-//უნივერსიტეტის ღონისძიებების პორტალი - ECPv6.2.8.2//NONSGML v1.0//EN
CALSCALE:GREGORIAN
METHOD:PUBLISH
X-ORIGINAL-URL:https://events.iliauni.edu.ge
X-WR-CALDESC:Events for უნივერსიტეტის ღონისძიებების პორტალი
REFRESH-INTERVAL;VALUE=DURATION:PT1H
X-Robots-Tag:noindex
X-PUBLISHED-TTL:PT1H
BEGIN:VTIMEZONE
TZID:Asia/Dubai
BEGIN:STANDARD
TZOFFSETFROM:+0400
TZOFFSETTO:+0400
TZNAME:+04
DTSTART:20220101T000000
END:STANDARD
END:VTIMEZONE
BEGIN:VEVENT
DTSTART;TZID=Asia/Dubai:20220503T161900
DTEND;TZID=Asia/Dubai:20220503T161900
DTSTAMP:20260426T052050
CREATED:20220504T061800Z
LAST-MODIFIED:20240201T113312Z
UID:10000425-1651594740-1651594740@events.iliauni.edu.ge
SUMMARY:კორეის კვირეული ილიას სახელმწიფო უნივერსიტეტში
DESCRIPTION:კორეის რესპუბლიკასა და საქართველოს შორის დიპლომატიური ურთიერთობის 30 წლის იუბილეს აღსანიშნავად ილიას სახელმწიფო უნივერსიტეტი პარტნიორი კორეული უნივერსიტეტების\, ასოციაციებისა და დიპლომატიური უწყებების მხარდაჭერით ორგანიზებას გაუწევს კორეის კვირეულს\, რომელიც გაიმართება 2022 წლის 14-20 მაისს. \nკვირეულის პარტნიორები \n\nსაქართველოს საელჩო კორეის რესპუბლიკაში;\nკორეის რესპუბლიკის საელჩოს ოფისი თბილისში;\nკორეის კვლევების აკადემია (AKS);\nჰანკუკის უცხო ენათა უნივერსიტეტი;\nინჰას უნივერსიტეტი;\nქართულ-კორეული ხიდი.\n\n\nკვირეულის განრიგი \nQUIZ ON KOREA 2022 \nთბილისში კორეის რესპუბლიკის საელჩოს ოფისის ორგანიზებითა და ილიას სახელმწიფო უნივერსიტეტთან პარტნიორობით 14 მაისს გაიმართება მასშტაბური ღონისძიება Quiz on Korea\, რომელიც კორეული კულტურისა და ენის პოპულარიზაციას ისახავს მიზნად. ღონისძიება შედგება ვიქტორინისა (Quiz on Korea) და კულტურული-ღონისძიებისგან (K-Culture Contest)\, რომელშიც მონაწილეობას მიიღებენ კორეული კულტურითა და კორეული ენის შესწავლით დაინტერესებული წინასწარ რეგისტრირებული მონაწილეები. \nდრო: 14 მაისი\, 13:00 – 16:00 \nფორმატი: ჰიბრიდული\, უზრუნველყოფილი იქნება ფეისბუქის ლაივი https://www.facebook.com/Iliauni \nLive – ღონისძიების ბმული: https://bit.ly/38RmccD \nვრცლად: https://bit.ly/37YGFw4 \n_____________________________________________________________________________________________ \nჩო ჯუკვანის საჯარო ლექცია: თარგმნის მნიშვნელობა კულტურული ურთიერთობების ჩამოყალიბების პროცესში \nპროფესორი ჩო ჯუკვანი დამსწრე აუდიტორიას გაუზიარებს „ვეფხისტყაოსნის“ თარგმნისას მიღებულ გამოცდილებას\, გააკეთებს ისტორიულ და კულტურულ პარალელებს და ისაუბრებს საქართველო-კორეას შორის ურთიერთობებზე. \nდრო: 17 მაისი\, 11:00-12:00 საათი \nფორმატი: ჰიბრიდული\, უზრუნველყოფილი იქნება ფეისბუქლაივი https://www.facebook.com/Iliauni \nLive – ღონისძიების ბმული: https://bit.ly/3LNf3ce \nვრცლად: https://bit.ly/3kC5CAb \n_____________________________________________________________________________________________ \nოთარ ბერეჟიანის საჯარო ლექცია: კორეული ტალღა – როგორ შეიქმნა და რა მოუტანა სამხრეთ კორეას კულტურული ექსპორტის წარმატებულმა პოლიტიკამ \nბოლო წლების განმავლობაში კორეულმა ფილმებმა\, მომღერლებმა და ტელეგადაცემებმა დიდ პოპულარობას მიაღწია. მომხსენებელი განიხილავს\, როგორმა პოლიტიკამ და ტრენდებმა შეუწყო ხელი კორეის კულტურის პოპულარიზაციას და რა სარგებელი მოაქვს ეგრეთ წოდებულ „კორეულ ტალღას” სახელმწიფოსა და მისი ხალხისთვის. \nდრო: 17 მაისი\, 12:00 – 13:00 საათი \nფორმატი: ჰიბრიდული\, უზრუნველყოფილი იქნება ფეისბუქლაივი https://www.facebook.com/Iliauni \nLive – ღონისძიების ბმული: https://bit.ly/3seQKMh \nვრცლად: https://bit.ly/3OTG6V3 \n_____________________________________________________________________________________________ \nდახურული ვორკშოპი ილიაუნის კორეული ენის კურსის სტუდენტებისთვის \nჰანკუკის უცხო ენათა უნივერსიტეტის (კორეის რესპუბლიკა) წარმომადგენლები ილიას სახელმწიფო უნივერსიტეტის კორეული ენის კურსის სტუდენტებისთვის გამართავენ დახურული ვორკშოპების სერიას თემებზე: \n\nკორეული ენისა და დამწერლობის პრაქტიკული თავისებურებები;\nქალ მწერალთა როლი ტრადიციულ კორეულ საზოგადოებაში.\n\nდრო: 17 მაისი\, 14:00 – 17:00 \nფორმატი: ფიზიკურ სივრცეში\, დახურული (მხოლოდ ილიას სახელმწიფო უნივერსიტეტის კორეული ენის კურსის სტუდენტებისთვის) \nვრცლად: https://bit.ly/3MOo7NT \n\nკონკურსი კორეულ მეტყველებაში საკვირაო სკოლის მოსწავლეებისთვის \n18 მაისს\, ილიაუნის საკვირაო სკოლის კორეული ენის (A1-1 დონე) შემსწავლელი პროგრამის კურსდამთავრებულებისთვის გაიმართება კონკურსი კორეულ მეტყველებაში. \nდრო: 18 მაისი\, 11:00 – 13:00 საათი \nფორმატი: ჰიბრიდული\, პლატფორმა Zoom -ის გამოყენებით \nვრცლად: https://bit.ly/3yC4sgr \n\nკორეული ტრადიციული თამაშები \n18 მაისს\, 15:30 საათზე\, გიწვევთ კორეულ ტრადიციულ თამაშებში მონაწილეობის მისაღებად. თქვენ შეძლებთ გაეცნოთ ინტრუქციებს და მონაწილეობა მიიღოთ ისეთ თამაშებში\, როგორებიცაა: ჰანბოკი\, სეოიე (კალიგრაფია)\, ტუჰო\, ეჯგიჩაგი\, დდაკჯი. \nსარეგისტრაციო ბმული: https://bit.ly/3MmLVIS \nდრო: 18 მაისი\, 15:30 – 16:30 \nადგილმდებარეობა: პირველად რეგისტრირებული 50 მონაწილე მოკლე ტექსტური შეტყობინებით მიიღებს ადგილის მისამართს. \nვრცლად: https://bit.ly/3sDzmBl \n\nსამეცნიერო კონფერენცია „კორეა-საქართველო: ისტორიული პარალელები“ \nკორეის რესპუბლიკასა და საქართველოს შორის დიპლომატიური ურთიერთობის 30 წლის იუბილეს აღსანიშნავად ილიას სახელმწიფო უნივერსიტეტში მიმდინარე კორეის კვირეულის დღეებში ჰანკუკის უცხო ენათა უნივერსიტეტთან თანამშრომლობით\, კორეის კვლევების აკადემიის მიერ დაფინანსებული პროექტის ფარგლებში\, 19-20 მაისს გაიმართება სამეცნიერო კონფერენცია „კორეა-საქართველო: ისტორიული პარალელები“. \nდრო: 19-20 მაისი\, 10:00 საათი \nფორმატი: 19 მაისს ღონისძიება გაიმართება ჰიბრიდულ ფორმატში პლატფორმა Zoom-ის გამოყენებით. უზრუნველყოფილი იქნება ფეისბუქლაივი ილიას სახელმწიფო უნივერსიტეტის გვერდზე \nLive – ღონისძიების ბმული: https://bit.ly/3sFHWQ2 \nვრცლად: https://bit.ly/3sFHWQ2 \n  \n2022 წელი \n\n			\n				\n			\n		\n\n[wpai_display_imported_files_here]
URL:https://events.iliauni.edu.ge/event/koreis-kvireuli-ilias-sakhelmtsipho-universitetshi/
CATEGORIES:ღონისძიებები
ATTACH;FMTTYPE=image/png:https://events.iliauni.edu.ge/wp-content/uploads/2022/05/65412.png
END:VEVENT
END:VCALENDAR