BEGIN:VCALENDAR
VERSION:2.0
PRODID:-//უნივერსიტეტის ღონისძიებების პორტალი - ECPv6.2.8.2//NONSGML v1.0//EN
CALSCALE:GREGORIAN
METHOD:PUBLISH
X-ORIGINAL-URL:https://events.iliauni.edu.ge
X-WR-CALDESC:Events for უნივერსიტეტის ღონისძიებების პორტალი
REFRESH-INTERVAL;VALUE=DURATION:PT1H
X-Robots-Tag:noindex
X-PUBLISHED-TTL:PT1H
BEGIN:VTIMEZONE
TZID:Asia/Dubai
BEGIN:STANDARD
TZOFFSETFROM:+0400
TZOFFSETTO:+0400
TZNAME:+04
DTSTART:20220101T000000
END:STANDARD
END:VTIMEZONE
BEGIN:VEVENT
DTSTART;TZID=Asia/Dubai:20220418T140000
DTEND;TZID=Asia/Dubai:20220418T140000
DTSTAMP:20260426T052119
CREATED:20220418T093000Z
LAST-MODIFIED:20240201T113338Z
UID:10000431-1650290400-1650290400@events.iliauni.edu.ge
SUMMARY:ევროკავშირის მიერ დაფინანსებული „საქართველოს მკვლევართა მხარდაჭერის პროგრამის“ საინფორმაციო შეხვედრა
DESCRIPTION:15 აპრილს\, 16:00 საათზე\, ილიას სახელმწიფო უნივერსიტეტში გაიმართა საინფორმაციო შეხვედრა ევროკავშირის მიერ დაფინანსებული „საქართველოს მკვლევართა მხარდაჭერის პროგრამის“ შესახებ. \nპროგრამა მიზნად ისახავს საქართველოს მეცნიერების\, ტექნოლოგიებისა და ინოვაციების სექტორის ინტერნაციონალიზაციის ხელშეწყობას საერთაშორისო კავშირების დამყარების პროცესში საქართველოს მკვლევართა მხარდაჭერის გზით. ამ მიზნების მისაღწევად პროგრამით დაგეგმილია მკვლევართა მობილობის საგრანტო კონკურსის ადმინისტრირება. \nშეხვედრაზე მსმენელები გაეცნენ საგრანტო კონკურსის პირობებს\, რომლებიც ითვალისწინებს მკვლევართა და ინოვატორთა კვლევითი ვიზიტის დაფინანსებას ევროკავშირის წევრ ქვეყნებში. \nშეხვედრაზე განხილული იყო შემდეგ საკითხები: \n\nმობილობის საგრანტო კონკურსის აღწერა\, მისი მიზნები და ამოცანები;\nკონკურსის ადმინისტრირების კალენდარი;\nკვლევითი ვიზიტის ხანგრძლივობა და ბიუჯეტი;\nსამიზნე აუდიტორია და კონკურსში მონაწილეობის კრიტერიუმები;\nგანაცხადების მიღების პროცესი;\nმოსალოდნელი შედეგები და ვალდებულებათა შესრულების ინდიკატორები.\n\n2022 წელი \n  \n\n			\n				\n			\n		\n\n[wpai_display_imported_files_here]
URL:https://events.iliauni.edu.ge/event/evrokavshiris-mier-daphinansebuli-saqarthvelos-mkvlevartha-mkhardatcheris-programis-sainphormatsio-shekhvedra/
CATEGORIES:ღონისძიებები
ATTACH;FMTTYPE=image/png:https://events.iliauni.edu.ge/wp-content/uploads/2022/04/65215.png
END:VEVENT
END:VCALENDAR