BEGIN:VCALENDAR
VERSION:2.0
PRODID:-//უნივერსიტეტის ღონისძიებების პორტალი - ECPv6.2.8.2//NONSGML v1.0//EN
CALSCALE:GREGORIAN
METHOD:PUBLISH
X-ORIGINAL-URL:https://events.iliauni.edu.ge
X-WR-CALDESC:Events for უნივერსიტეტის ღონისძიებების პორტალი
REFRESH-INTERVAL;VALUE=DURATION:PT1H
X-Robots-Tag:noindex
X-PUBLISHED-TTL:PT1H
BEGIN:VTIMEZONE
TZID:Asia/Dubai
BEGIN:STANDARD
TZOFFSETFROM:+0400
TZOFFSETTO:+0400
TZNAME:+04
DTSTART:20220101T000000
END:STANDARD
END:VTIMEZONE
BEGIN:VEVENT
DTSTART;TZID=Asia/Dubai:20220303T130000
DTEND;TZID=Asia/Dubai:20220303T130000
DTSTAMP:20260426T082754
CREATED:20220228T131538Z
LAST-MODIFIED:20240201T113352Z
UID:10000437-1646312400-1646312400@events.iliauni.edu.ge
SUMMARY:უნიმარკეტი  Stand With Ukraine
DESCRIPTION:ილიას სახელმწიფო უნივერსიტეტის ორგანიზებით 3 მარტს\, ხუთშაბათს\, 13:00-დან 19:00 საათამდე უკრაინის მხარდასაჭერად გაიმართება უნიმარკეტი #StandWithUkraine. \nუნიმარკეტზე ნებისმიერ მსურველს ექნება შესაძლებლობა: \n\nსაქველმოქმედო ყუთში ჩააგდოს ნებისმიერი მოცულობის შემოწირულება;\nშეიძინოს საინტერესო ნივთები\, გამოცემები\, რომელთაც ჩვენი სტუდენტები და ლექტორები უკრაინელი ხალხის სოლიდარობის ნიშნად გასაყიდად გამოიტანენ;\nდარეგისტრირდეს უნიმარკეტის მონაწილედ\, მოითხოვოს ჩვენგან ინვენტარით მხარდაჭერა და გაყიდოს ნივთები\, შემოსული თანხა კი შემოწირულების საქველმოქმედო ყუთში განათავსოს.\n\nილიას სახელმწიფო უნივერსიტეტის ადმინისტრაცია შეგროვებული თანხით უკრაინელთა დასახმარებლად შეიძენს აუცილებელ მედიკამენტებს\, სამედიცინო აღჭურვილობას და უზრუნველყოფს მათ ტრანსპორტირებას. \nთუ გსურთ უნიმარკეტზე ნივთების გასაყიდად გამოტანა და ამ ფორმით უკრაინის მხარდაჭერა\, შეავსეთ აპლიკაცია და თქვენს საჭიროებათა შესაბამისად მოწყობილ სივრცეს დაგახვედრებთ. \nაპლიკაცია ხელმისაწვდომია ბმულზე: https://bit.ly/3JWQxDS \nუნიმარკეტის მონაწილეებს ილიას სახელმწიფო უნივერსიტეტის კაფეტერია „უნიფუდი“ ყავითა და ჩაით უზრუნველყოფს. \n#ერთად #რუსეთისაგრესიისწინააღმდეგ #უკრაინისმხარდასაჭერად \nადგილმდებარეობა: ილიაუნის A კორპუსის მიმდებარე ტერიტორია (ილია ჭავჭავაძის გამზ. N32) \nდამატებითი კითხვებისთვის\n577 53 02 20\npr@iliauni.edu.ge \n2022 წელი \n  \n\n			\n				\n			\n		\n\n[wpai_display_imported_files_here]
URL:https://events.iliauni.edu.ge/event/unimarketi-stand-with-ukraine/
CATEGORIES:ღონისძიებები
ATTACH;FMTTYPE=image/png:https://events.iliauni.edu.ge/wp-content/uploads/2022/02/64699.png
END:VEVENT
END:VCALENDAR