BEGIN:VCALENDAR
VERSION:2.0
PRODID:-//უნივერსიტეტის ღონისძიებების პორტალი - ECPv6.2.8.2//NONSGML v1.0//EN
CALSCALE:GREGORIAN
METHOD:PUBLISH
X-ORIGINAL-URL:https://events.iliauni.edu.ge/en/
X-WR-CALDESC:Events for უნივერსიტეტის ღონისძიებების პორტალი
REFRESH-INTERVAL;VALUE=DURATION:PT1H
X-Robots-Tag:noindex
X-PUBLISHED-TTL:PT1H
BEGIN:VTIMEZONE
TZID:Asia/Dubai
BEGIN:STANDARD
TZOFFSETFROM:+0400
TZOFFSETTO:+0400
TZNAME:+04
DTSTART:20250101T000000
END:STANDARD
END:VTIMEZONE
BEGIN:VEVENT
DTSTART;TZID=Asia/Dubai:20250120T113000
DTEND;TZID=Asia/Dubai:20250120T123000
DTSTAMP:20260422T043920
CREATED:20250116T084304Z
LAST-MODIFIED:20250116T084453Z
UID:10005642-1737372600-1737376200@events.iliauni.edu.ge
SUMMARY:Fully Funded Master’s Programs at Korea University
DESCRIPTION:Korea University in Seoul is pleased to announce the opening of applications for the SK Global Scholarship Program (Fall 2025)\, offering full funding for master’s degrees in Information Technology/Artificial Intelligence\, Electronic Engineering\, and Physics. \nIn this regard\, Korea University representatives will host an informative session for students at Ilia State University. The meeting will take place on January 20 at 11:30 AM in Auditorium G106. \nFor detailed information on the program’s requirements and conditions\, please refer to the attached appendix. \n 
URL:https://events.iliauni.edu.ge/event/fully-funded-master-s-programs-at-korea-university/
CATEGORIES:Events
ATTACH;FMTTYPE=image/png:https://events.iliauni.edu.ge/wp-content/uploads/2025/01/korea_web_new.png
END:VEVENT
BEGIN:VEVENT
DTSTART;TZID=Asia/Dubai:20250124T170000
DTEND;TZID=Asia/Dubai:20250124T180000
DTSTAMP:20260422T043920
CREATED:20250121T075455Z
LAST-MODIFIED:20250121T075632Z
UID:10005646-1737738000-1737741600@events.iliauni.edu.ge
SUMMARY:Students’ life in Korea
DESCRIPTION:On January 24th\, at 5:00 PM\, in auditorium G106 of Ilia State University\, a public lecture by Inha University’s student\, Lee Youngmin (Youngmin Lee)\, will be held\, organised by Ilia University’s Korean Culture Club. During the public lecture\, the spiker will be talking about: his experience as a student in Korea\, the characteristics of the Korean University system\, student clubs and student projects in Korea. He will also talk about the challenges Korean students encounter during the studying period. \nLocation: Ilia State University\, Auditorium G106\, G.Tsereteli N3
URL:https://events.iliauni.edu.ge/event/students-life-in-korea/
CATEGORIES:Events
ATTACH;FMTTYPE=image/png:https://events.iliauni.edu.ge/wp-content/uploads/2025/01/axali-web-korea-1.png
END:VEVENT
END:VCALENDAR