BEGIN:VCALENDAR
VERSION:2.0
PRODID:-//უნივერსიტეტის ღონისძიებების პორტალი - ECPv6.2.8.2//NONSGML v1.0//EN
CALSCALE:GREGORIAN
METHOD:PUBLISH
X-ORIGINAL-URL:https://events.iliauni.edu.ge/en/
X-WR-CALDESC:Events for უნივერსიტეტის ღონისძიებების პორტალი
REFRESH-INTERVAL;VALUE=DURATION:PT1H
X-Robots-Tag:noindex
X-PUBLISHED-TTL:PT1H
BEGIN:VTIMEZONE
TZID:Asia/Dubai
BEGIN:STANDARD
TZOFFSETFROM:+0400
TZOFFSETTO:+0400
TZNAME:+04
DTSTART:20240101T000000
END:STANDARD
END:VTIMEZONE
BEGIN:VEVENT
DTSTART;TZID=Asia/Dubai:20241114T120000
DTEND;TZID=Asia/Dubai:20241114T130000
DTSTAMP:20260421T203535
CREATED:20241107T093244Z
LAST-MODIFIED:20241121T113132Z
UID:10005587-1731585600-1731589200@events.iliauni.edu.ge
SUMMARY:Literary Game About the Life and Work of Ilia Chavchavadze
DESCRIPTION:On November 14 at 12:00\, the Union of Tbilisi Museums invites Iliauni students to participate in the educational and cognitive program “Literary Game About the Life and Work of Ilia Chavchavadze” as part of Ilia’s Week: “Ilia: The European Georgia Project.” \nStudents will explore 19th-century Georgia and Georgian literature. A guided museum tour will be organized for them before the game. \nInterested students are invited to fill out the registration form by November 13\, 12:00  https://forms.gle/WiGaJEtxcC4DWgeg8 \nPlease note that only the first 30 students who register will be able to participate. \nDate and Time: November 14\, 12:00 \nLocation: Ilia Chavchavadze Literary-Memorial Museum\, 7 Ivane Javakhishvili St.
URL:https://events.iliauni.edu.ge/event/literary-game-about-the-life-and-work-of-ilia-chavchavadze/
CATEGORIES:Events
ATTACH;FMTTYPE=image/jpeg:https://events.iliauni.edu.ge/wp-content/uploads/2024/11/ilia-iventhebi.jpg
END:VEVENT
BEGIN:VEVENT
DTSTART;TZID=Asia/Dubai:20241115T190000
DTEND;TZID=Asia/Dubai:20241115T200000
DTSTAMP:20260421T203535
CREATED:20241107T093718Z
LAST-MODIFIED:20241121T113208Z
UID:10005588-1731697200-1731700800@events.iliauni.edu.ge
SUMMARY:"Bookshelf" Public Game About Ilia
DESCRIPTION:On November 15 at 19:00\, Georgia’s most popular youth show\, “Bookshelf\,” invites Iliauni students to participate in the game as part of Ilia’s Week: “Ilia: The European Georgian Project” at the Book House “Ligamus”. \nParticipants in “Bookshelf” will answer questions in the traditional format. Those who answer correctly will receive prizes from “Bookshelf” and Iliauni. \nAleksandre Lortkipanidze will host the game. \nInterested students are invited to fill out the registration form by November 14\, 12:00: https://forms.gle/GGgzAC3AQuwTmxbi9 \nDate and Time: November 15\, 19:00 \nLocation: Book House “Ligamus\,” 32 I. Chavchavadze Ave.
URL:https://events.iliauni.edu.ge/event/bookshelf-public-game-about-ilia/
CATEGORIES:Events
ATTACH;FMTTYPE=image/jpeg:https://events.iliauni.edu.ge/wp-content/uploads/2024/11/ilia-iventhebi.jpg
END:VEVENT
END:VCALENDAR