BEGIN:VCALENDAR
VERSION:2.0
PRODID:-//უნივერსიტეტის ღონისძიებების პორტალი - ECPv6.2.8.2//NONSGML v1.0//EN
CALSCALE:GREGORIAN
METHOD:PUBLISH
X-WR-CALNAME:უნივერსიტეტის ღონისძიებების პორტალი
X-ORIGINAL-URL:https://events.iliauni.edu.ge/en/
X-WR-CALDESC:Events for უნივერსიტეტის ღონისძიებების პორტალი
REFRESH-INTERVAL;VALUE=DURATION:PT1H
X-Robots-Tag:noindex
X-PUBLISHED-TTL:PT1H
BEGIN:VTIMEZONE
TZID:Asia/Dubai
BEGIN:STANDARD
TZOFFSETFROM:+0400
TZOFFSETTO:+0400
TZNAME:+04
DTSTART:20240101T000000
END:STANDARD
END:VTIMEZONE
BEGIN:VEVENT
DTSTART;TZID=Asia/Dubai:20241108T110000
DTEND;TZID=Asia/Dubai:20241108T160000
DTSTAMP:20260422T010143
CREATED:20241104T092608Z
LAST-MODIFIED:20241104T142400Z
UID:10005572-1731063600-1731081600@events.iliauni.edu.ge
SUMMARY:The Blood Donation Day
DESCRIPTION:The Blood Donation Day will be held in the buildings A and T of Iliauni on november 8 \, it will be organized by the Department of Student Affairs of Ilia State University. \nAs part of the campaign\, the mobile teams of the “Natalia Kvantaliani Central Blood Bank” and “Sicockhle” organizations\, staffed by professional\, experienced doctors\, will offer those who wish to selflessly donate blood and thus show their support for people who need help. \nAny person between the ages of 18 and 65 can become a blood donor if: \n\nyour weight is 50 kg or more;\nyou have not been infected with viral hepatitis B and C;\nsyphilis\, tuberculosis;\nyou are not infected with HIV;\nyou do not have blood or oncological diseases;\nyou are not a drug user;\nyou have not undergone a surgical operation\, you have not been vaccinated against tetanus and rabies in the last 1 year;\nyou have not gotten a tattoo in the last 6 months;\nyou have not had contact with other people’s blood;\nyou have not been pregnant in the last 6 months;\nthe donor must be practically healthy on the day of donation – must not have a fever\, runny nose\, catarrh\, or other flu-like symptoms.\n\nThose who participate in the charity event will receive the following research results free of charge: \n\nGroup\, rhesus\, phenotype\nHepatitis B and C\, syphilis\, cytomegalovirus and AIDS virus\n\nA person who is going to donate should know the following: \n\nBlood donation is an easy\, safe and painless process;\nWhen donating blood\, only disposable material is used and the donor is protected from infection;\nDonating blood is absolutely safe for health;\nBlood donation is recommended in the first half of the day;\nIt is better to eat lightly and drink sweet tea in the morning on the day of blood donation. You should refrain from taking tobacco and analgesics;\nBlood can be donated again after 2 months;\n\nBring a proof of identity card with you. \nTime: 11:00-16:00 \nLocation: \nNatalia Kvantaliani Central Blood Bank – Building A of Iliauni. Student space\, I. Chavchavadze Ave. N32 \n“Sicockhle” blood bank – Building T of Iliauni\, student space\, Cholokashvili Ave. N3/5
URL:https://events.iliauni.edu.ge/event/the-blood-donation-day/
CATEGORIES:Events
ATTACH;FMTTYPE=image/png:https://events.iliauni.edu.ge/wp-content/uploads/2024/11/web-engg.png
END:VEVENT
BEGIN:VEVENT
DTSTART;TZID=Asia/Dubai:20241108T180000
DTEND;TZID=Asia/Dubai:20241108T190000
DTSTAMP:20260422T010143
CREATED:20241107T092734Z
LAST-MODIFIED:20241121T112956Z
UID:10005590-1731088800-1731092400@events.iliauni.edu.ge
SUMMARY:Exhibition: "Droeba\," "Iveria\," and Rare Editions of Ilia's Works
DESCRIPTION:On November 8 at 19:00\, an exhibition featuring rare and old publications from Ilia State University’s library will be inaugurated in the lobby of Building G as part of Ilia’s Week: “Ilia: The European Georgia Project.” \nIn addition to outstanding collections of Ilia’s writings\, the exhibition will showcase a satirical short story\, “Is a Man a Human?!”(Katsia\, adamiani?!) published during the writer’s lifetime in 1869\, as well as Ilia’s translation of Alexis Bouvier’s famous novel “Iza “(La Grande Iza). \nVisitors will also have the opportunity to explore fascinating facts from the political and literary newspapers “Droeba” and “Iveria\,” which played a significant role in developing Georgian journalism\, literature\, and literary criticism in the 19th century. Among the exhibits\, you will find issues of “Droeba” from 1880 to 1883\, including those co-edited by Ilia Chavchavadze and Sergi Meskhi and “Iveria”  editions from 1887-1902. \nThe exhibition will run from November 8 to November 15. \nOpening of the Exhibition: November 8\, 19:00 \nDuration: November 8-15 \nLocation: Ilia State University\, G Building Lobby\, 1 G. Tsereteli St. \nEveryone interested is welcome.
URL:https://events.iliauni.edu.ge/event/exhibition-droeba-iveria-and-rare-editions-of-ilia-s-works/
CATEGORIES:Events
ATTACH;FMTTYPE=image/jpeg:https://events.iliauni.edu.ge/wp-content/uploads/2024/11/ilia-iventhebi.jpg
END:VEVENT
BEGIN:VEVENT
DTSTART;TZID=Asia/Dubai:20241108T190000
DTEND;TZID=Asia/Dubai:20241108T190000
DTSTAMP:20260422T010143
CREATED:20241107T092116Z
LAST-MODIFIED:20241121T112636Z
UID:10005586-1731092400-1731092400@events.iliauni.edu.ge
SUMMARY:Ilia’s Week: "Ilia: The European Georgia Project"
DESCRIPTION:Ilia Chavchavadze was born on November 8\, 1837. \n“Young manhood should be prepared with a thorough and detailed knowledge\, should\, as much as possible\, study European science in depth\, and should be guided by Europe’s experience.” \nFrom November 8 to 15\, Iliauni invites you to celebrate Ilia’s Week\, “Ilia: The European Georgia Project”. \nPanel Discussion: “Ilia: The European Georgia Project” \nExhibition: “Droeba\,” “Iveria\,” and rare editions of Ilia’s writings \nLiterary Game About the Life and Work of Ilia Chavchavadze \n“Bookshelf” Public Game About Ilia
URL:https://events.iliauni.edu.ge/event/ilia-s-week-ilia-the-european-georgia-project/
CATEGORIES:Events
ATTACH;FMTTYPE=image/jpeg:https://events.iliauni.edu.ge/wp-content/uploads/2024/11/ilia-1-1.jpg
END:VEVENT
BEGIN:VEVENT
DTSTART;TZID=Asia/Dubai:20241108T190000
DTEND;TZID=Asia/Dubai:20241108T200000
DTSTAMP:20260422T010143
CREATED:20241107T092501Z
LAST-MODIFIED:20241121T112850Z
UID:10005589-1731092400-1731096000@events.iliauni.edu.ge
SUMMARY:Panel Discussion: "Ilia: The European Georgia Project"
DESCRIPTION:On November 8 at 19:00\, a panel discussion titled “Ilia: The European Georgia Project” will be held in the G106 conference hall at Ilia State University as part of Ilia’s Week. \nSpeakers: Bela Tsipuria\, Ghia Nodia\, Nino Doborjginidze\, Giga Zedania\, Nuka Gambashidze\, Sergo Ratiani \nModerator – Iva Lomidze \nWorking Language: Georgian \nDate and Time: November 8\, 19:00 \nLocation: G106 Conference Hall\, Ilia State University\, 1 G. Tsereteli Street \nEveryone interested is welcome.
URL:https://events.iliauni.edu.ge/event/panel-discussion-ilia-the-european-georgia-project/
CATEGORIES:Events
ATTACH;FMTTYPE=image/jpeg:https://events.iliauni.edu.ge/wp-content/uploads/2024/11/ilia-iventhebi.jpg
END:VEVENT
BEGIN:VEVENT
DTSTART;TZID=Asia/Dubai:20241110T180000
DTEND;TZID=Asia/Dubai:20241110T180000
DTSTAMP:20260422T010143
CREATED:20241108T093306Z
LAST-MODIFIED:20241108T093430Z
UID:10005583-1731261600-1731261600@events.iliauni.edu.ge
SUMMARY:Workshop and Concert “On the Trail of Polish Sonorism”
DESCRIPTION:On November 10\, Ilia State University will host a workshop and concert in Auditorium B201\, organized by the Music Centre at the Faculty of Arts and Sciences. \n\nAt 11:00\, Polish performers Ewa Liebchen and Emilia Karolina Sitarz will hold a workshop introducing the audience to the extended\, sonoristic possibilities of the flute and piano.\nAt 18:00\, the concert “On the Trail of Polish Sonorism” will begin. The program will feature masterpieces of Polish Sonorism alongside a new work composed specifically for this duo by young Georgian composer Elene Gogodze.\n\nThe concert seeks to engage young composers with Sonorism\, a Polish music movement that was predominant in the 1960s. It was the time of sonoristic experiments by composers such as Krzysztof Penderecki\, Henryk Mikołaj Górecki\, Kazimierz Serocki\, or Witold Szalonek. This style of music focuses on the origin of sound\, its tonal color\, duration\, and sonority. These elements continue to be of significant interest to composers today. \nDate/Time: November 10\, at 11:00 and 18:00 \nLocation: Ilia State University\, Auditorium B201\, 32 Ilia Chavchavadze Ave. \nEveryone interested is welcome.
URL:https://events.iliauni.edu.ge/event/workshop-and-concert-on-the-trail-of-polish-sonorism/
CATEGORIES:Events,School of arts and sciences
ATTACH;FMTTYPE=image/png:https://events.iliauni.edu.ge/wp-content/uploads/2024/11/webbb-2.png
END:VEVENT
END:VCALENDAR