BEGIN:VCALENDAR
VERSION:2.0
PRODID:-//უნივერსიტეტის ღონისძიებების პორტალი - ECPv6.2.8.2//NONSGML v1.0//EN
CALSCALE:GREGORIAN
METHOD:PUBLISH
X-WR-CALNAME:უნივერსიტეტის ღონისძიებების პორტალი
X-ORIGINAL-URL:https://events.iliauni.edu.ge/en/
X-WR-CALDESC:Events for უნივერსიტეტის ღონისძიებების პორტალი
REFRESH-INTERVAL;VALUE=DURATION:PT1H
X-Robots-Tag:noindex
X-PUBLISHED-TTL:PT1H
BEGIN:VTIMEZONE
TZID:Asia/Dubai
BEGIN:STANDARD
TZOFFSETFROM:+0400
TZOFFSETTO:+0400
TZNAME:+04
DTSTART:20240101T000000
END:STANDARD
END:VTIMEZONE
BEGIN:VEVENT
DTSTART;TZID=Asia/Dubai:20240930T160000
DTEND;TZID=Asia/Dubai:20240930T200000
DTSTAMP:20260422T035858
CREATED:20240926T122735Z
LAST-MODIFIED:20240926T122810Z
UID:10005539-1727712000-1727726400@events.iliauni.edu.ge
SUMMARY:Culture Fest 2024
DESCRIPTION:On the 30th of  September\, Ilia State University will host the Culture Fest 2024. \nIn the framework of the festival\, International and Local students will present traditional clothes\, dances\, songs\, and dishes from Bangladesh\, Egypt\, Georgia\, India\, Iran\, Jordan\, Palestine\, Paraguay\, Sudan\, Syria and\, Tunisia. Within the festival\, students will offer different activities\, such as board games\, henna painting\, etc. \nDate: 30th of September\, 2024 \nTime: 16:00 \nLocation: Courtyard of Ilia State University E building\, 3/5 K. Cholokashvili Ave.
URL:https://events.iliauni.edu.ge/event/culture-fest-2024-2/
CATEGORIES:Events
ATTACH;FMTTYPE=image/png:https://events.iliauni.edu.ge/wp-content/uploads/2024/09/pharda-4.png
END:VEVENT
END:VCALENDAR