BEGIN:VCALENDAR
VERSION:2.0
PRODID:-//უნივერსიტეტის ღონისძიებების პორტალი - ECPv6.2.8.2//NONSGML v1.0//EN
CALSCALE:GREGORIAN
METHOD:PUBLISH
X-ORIGINAL-URL:https://events.iliauni.edu.ge/en/
X-WR-CALDESC:Events for უნივერსიტეტის ღონისძიებების პორტალი
REFRESH-INTERVAL;VALUE=DURATION:PT1H
X-Robots-Tag:noindex
X-PUBLISHED-TTL:PT1H
BEGIN:VTIMEZONE
TZID:Asia/Dubai
BEGIN:STANDARD
TZOFFSETFROM:+0400
TZOFFSETTO:+0400
TZNAME:+04
DTSTART:20240101T000000
END:STANDARD
END:VTIMEZONE
BEGIN:VEVENT
DTSTART;TZID=Asia/Dubai:20240910T080000
DTEND;TZID=Asia/Dubai:20240913T170000
DTSTAMP:20260423T023425
CREATED:20240607T112132Z
LAST-MODIFIED:20240607T112304Z
UID:10005466-1725955200-1726246800@events.iliauni.edu.ge
SUMMARY:CALL FOR PAPERS INTERNATIONAL CONFERENCE LEGACY OF CATHOLIC MISSIONS RELIGIOUS FRAGMENTATION AND CONNECTEDNESS IN GEORGIA IN THE 18TH AND 19TH CENTURIES
DESCRIPTION:September 10-13\, 2024 Ilia State University\, Tbilisi\, Georgia \nWe cordially invite colleagues to submit paper proposals for the international conference on the Legacy of Catholic Missions. Religious Fragmentation and Connectedness in Georgia in the 18th and 19th Centuries\, to be held at Ilia State University\, Tbilisi\, 10-13 September 2024. \nThe Georgian Orthodox Church of late antiquity and the Catholic missions of early modern Georgia relied on the same text corpora comprising the old Georgian translations of the Bible\, the earliest examples of which date back to 5th-century manuscripts. Application of the same religious texts by different Christian denominations created a specific model of religious fragmentation and connectedness\, especially during the transition period from the Middle Ages to modernity. The liturgical practices of different periods and stages of religious inculturation in Georgia played a significant role in the emancipation and the development of the Georgian language and its functions. The trends of fragmentation and connectedness were influenced by the coexistence of three different rites of the Catholic missions in Georgia: Rito Latino\, Rito Armenio Catolico and Rito Georgiano Catolico. \nThe conference aims to broadly explore and discuss trends of fragmentation and connectedness between the Orthodox Church and Roman Catholicism\, as well as between the rites of the Catholic missions in Georgia. \nWe welcome contributions on topics related to\, but not limited to: \n\nEastern Catholic Churches\nMissionary Linguistics and Textual Legacy of Catholic Missions\nProcess of Catholic Inculturation from the Perspective of Early Global History and Modernity\n\nAll interested applicants should submit an abstract of roughly 300 words and a current CV to the e-mail address lecamiconference@iliauni.edu.ge. \nThe deadline for submissions is June 16 2024 \nSelected participants will be notified by June 26 2024 \nThe working language is English and Georgian \nParticipation in the conference is free of charge \nAny inquiries should be sent to lecamiconference@iliauni.edu.ge
URL:https://events.iliauni.edu.ge/event/call-for-papers-international-conference-legacy-of-catholic-missions-religious-fragmentation-and-connectedness-in-georgia-in-the-18th-and-19th-centuries/
CATEGORIES:Conferences
ATTACH;FMTTYPE=image/png:https://events.iliauni.edu.ge/wp-content/uploads/2024/06/eb0e647ec4bf3f852154ea437c50b439_83610.png
END:VEVENT
BEGIN:VEVENT
DTSTART;TZID=Asia/Dubai:20240913T160000
DTEND;TZID=Asia/Dubai:20240913T170000
DTSTAMP:20260423T023425
CREATED:20240912T105452Z
LAST-MODIFIED:20240912T105639Z
UID:10005522-1726243200-1726246800@events.iliauni.edu.ge
SUMMARY:"Structural Variability: a Universal Logical Method for the Study of Diverse Biological Systems" - Public Lecture by Dr. Evsey Kosman
DESCRIPTION:Dr. Evsey Kosman\, a mathematician and professor at Tel Aviv University\, Israel\, will deliver a public lecture titled “Structural Variability: a Universal Logical Method for the Study of Diverse Biological Systems” in the E325 lecture hall of Ilia State University on September 13 at 16:00. \nEvsey Kosman\, who assists biologists in data analysis\, will deliver a lecture on the methodology he has employed in his research activity. Over the years\, he has conducted extensive studies on complex biological systems\, including sexual and asexual reproduction\, the impact of ploidity on genetic data processing\, the compartmentalization of functional groups in ecosystems\, the analysis of virulence and resistance\, plant adaptations\, and a wide range of other topics. The lecture is primarily intended for biologists\, including both scientists and students\, as well as mathematicians engaged in the applied field. \nWorking language: English \nDate: September 13\, 16:00 \nLocation: E325 Lecture Hall of Ilia State University\, N3/5 K. Cholokashvili Ave. \nEveryone interested is welcome. \n2024 \n 
URL:https://events.iliauni.edu.ge/event/structural-variability-a-universal-logical-method-for-the-study-of-diverse-biological-systems-public-lecture-by-dr-evsey-kosman/
CATEGORIES:School of natural sciences and medicine
ATTACH;FMTTYPE=image/png:https://events.iliauni.edu.ge/wp-content/uploads/2024/09/kosman_web_new_eng-1.png
END:VEVENT
END:VCALENDAR