BEGIN:VCALENDAR
VERSION:2.0
PRODID:-//უნივერსიტეტის ღონისძიებების პორტალი - ECPv6.2.8.2//NONSGML v1.0//EN
CALSCALE:GREGORIAN
METHOD:PUBLISH
X-WR-CALNAME:უნივერსიტეტის ღონისძიებების პორტალი
X-ORIGINAL-URL:https://events.iliauni.edu.ge/en/
X-WR-CALDESC:Events for უნივერსიტეტის ღონისძიებების პორტალი
REFRESH-INTERVAL;VALUE=DURATION:PT1H
X-Robots-Tag:noindex
X-PUBLISHED-TTL:PT1H
BEGIN:VTIMEZONE
TZID:Asia/Dubai
BEGIN:STANDARD
TZOFFSETFROM:+0400
TZOFFSETTO:+0400
TZNAME:+04
DTSTART:20240101T000000
END:STANDARD
END:VTIMEZONE
BEGIN:VEVENT
DTSTART;TZID=Asia/Dubai:20240720T190000
DTEND;TZID=Asia/Dubai:20240720T200000
DTSTAMP:20260423T151607
CREATED:20240710T120501Z
LAST-MODIFIED:20240711T064737Z
UID:10005502-1721502000-1721505600@events.iliauni.edu.ge
SUMMARY:GRADUATION
DESCRIPTION:Join us on July 20 at 19:00 for the 2024 graduation ceremony of Ilia State University. \nNino Doborjginidze\, the Rector\, will begin the celebration by congratulating the students on completing their university education and embarking on a new chapter. Following this\, there will be a traditional ritual of tossing their caps in the air. \nThe ceremony will conclude with a concert for the students featuring: \n\nAlexandre Kharanauli\nBand “Nu Miekrdnobit”\n\nDate and Time: July 20\, 19:00 \nLocation: Ilia State University\, Courtyard of Building E (3/5 K. Cholokashvili Ave\, opposite Vake Park)
URL:https://events.iliauni.edu.ge/event/graduation/
CATEGORIES:Events
ATTACH;FMTTYPE=image/png:https://events.iliauni.edu.ge/wp-content/uploads/2024/07/WB.png
END:VEVENT
END:VCALENDAR