BEGIN:VCALENDAR
VERSION:2.0
PRODID:-//უნივერსიტეტის ღონისძიებების პორტალი - ECPv6.2.8.2//NONSGML v1.0//EN
CALSCALE:GREGORIAN
METHOD:PUBLISH
X-ORIGINAL-URL:https://events.iliauni.edu.ge/en/
X-WR-CALDESC:Events for უნივერსიტეტის ღონისძიებების პორტალი
REFRESH-INTERVAL;VALUE=DURATION:PT1H
X-Robots-Tag:noindex
X-PUBLISHED-TTL:PT1H
BEGIN:VTIMEZONE
TZID:Asia/Dubai
BEGIN:STANDARD
TZOFFSETFROM:+0400
TZOFFSETTO:+0400
TZNAME:+04
DTSTART:20230101T000000
END:STANDARD
END:VTIMEZONE
BEGIN:VEVENT
DTSTART;TZID=Asia/Dubai:20230729T190000
DTEND;TZID=Asia/Dubai:20230729T190000
DTSTAMP:20260424T193955
CREATED:20230719T060200Z
LAST-MODIFIED:20240202T090544Z
UID:10000005-1690657200-1690657200@events.iliauni.edu.ge
SUMMARY:Iliauni’s Bachelors and Masters Graduation Ceremony 2023
DESCRIPTION:On July 29\, at 19:00\, you are invited to the 2023 graduation ceremony of Ilia State University (ISU). \nThe celebration will be opened by Nino Doborjginidze\, the ISU Rector\, who will congratulate the students on completing their university education and starting a new chapter in their lives. \nTraditionally\, we held a competition this year as well\, and the winning graduates will deliver speeches at the graduation ceremony.\nThe official part of the event will conclude with the most memorable ritual for the graduates – throwing their caps in the air. \nKILLAGES\, ABDALI will perform at the event.  \nDate and Time: July 29\, 19:00 \nLocation: The courtyard of Building E at Ilia State University (3/5 K. Cholokashvili Ave\, opposite Vake Park) \nBe part of our special day! \n2023 \n\n			\n				\n			\n			\n				\n			\n		\n\n[wpai_display_imported_files_here]
URL:https://events.iliauni.edu.ge/event/iliauni-s-bachelors-and-masters-graduation-ceremony-2023/
CATEGORIES:Events
ATTACH;FMTTYPE=image/png:https://events.iliauni.edu.ge/wp-content/uploads/2023/07/78996.png
END:VEVENT
END:VCALENDAR