BEGIN:VCALENDAR
VERSION:2.0
PRODID:-//უნივერსიტეტის ღონისძიებების პორტალი - ECPv6.2.8.2//NONSGML v1.0//EN
CALSCALE:GREGORIAN
METHOD:PUBLISH
X-WR-CALNAME:უნივერსიტეტის ღონისძიებების პორტალი
X-ORIGINAL-URL:https://events.iliauni.edu.ge/en/
X-WR-CALDESC:Events for უნივერსიტეტის ღონისძიებების პორტალი
REFRESH-INTERVAL;VALUE=DURATION:PT1H
X-Robots-Tag:noindex
X-PUBLISHED-TTL:PT1H
BEGIN:VTIMEZONE
TZID:Asia/Dubai
BEGIN:STANDARD
TZOFFSETFROM:+0400
TZOFFSETTO:+0400
TZNAME:+04
DTSTART:20230101T000000
END:STANDARD
END:VTIMEZONE
BEGIN:VEVENT
DTSTART;TZID=Asia/Dubai:20230626T114500
DTEND;TZID=Asia/Dubai:20230626T114500
DTSTAMP:20260424T155551
CREATED:20230626T074441Z
LAST-MODIFIED:20240202T090601Z
UID:10000010-1687779900-1687779900@events.iliauni.edu.ge
SUMMARY:Meeting with Jill Marie Hruby\, the first woman head of the US nuclear weapons laboratory
DESCRIPTION:On June 23\, Jill Marie Hruby\, the first woman head of the US Nuclear Weapons Laboratory\, the US Department of Energy’s Deputy Secretary for Nuclear Security\, held a meeting with the students of Ilia State University\, organized by the US Embassy in Georgia. \nAt the meeting\, a mechanical engineer\, Jill Hruby talked to the students about her career and activities. \nThe meeting was held in question-answer mode and was opened by the Rector\, Professor Nino Doborjginidze. \nAbout the speaker \nJill M. Hruby is an American mechanical engineer and government official. Since July 26\, 2021\, Hruby has served as Under Secretary of Energy for Nuclear Security and Administrator of the National Nuclear Security Administration\, a post subject to Senate confirmation. Jill Hruby made history as the first woman to ever head a U.S. nuclear weapons lab\, serving as director of Sandia National Laboratories from 2015-2017. \nHruby served as the director of Sandia National Laboratories from July 2015 through May 2017. Sandia is a Department of Energy/National Nuclear Security Administration national laboratory with diverse national security missions that include nuclear weapons\, cyberspace\, energy\, non-proliferation\, biological defense\, and space. \n2023 \n\n			\n				\n			\n			\n				\n			\n		\n\n[wpai_display_imported_files_here]
URL:https://events.iliauni.edu.ge/event/meeting-with-jill-marie-hruby-the-first-woman-head-of-the-us-nuclear-weapons-laboratory-2/
CATEGORIES:Events
ATTACH;FMTTYPE=image/png:https://events.iliauni.edu.ge/wp-content/uploads/2023/06/77438.png
END:VEVENT
BEGIN:VEVENT
DTSTART;TZID=Asia/Dubai:20230628T093000
DTEND;TZID=Asia/Dubai:20230628T093000
DTSTAMP:20260424T155551
CREATED:20230626T120222Z
LAST-MODIFIED:20240202T090559Z
UID:10000032-1687944600-1687944600@events.iliauni.edu.ge
SUMMARY:Changing Tides in the Black Sea Region: Strengthening Security\, Strategic Connectivity\, and Resilience
DESCRIPTION:The Black Sea region looms increasingly large as the locus of great power military\, political\, and economic competition. Russia has chosen the region as a focal point of its challenge to the Western security order\, as its 2008 invasion of Georgia and its 2014 and 2022 invasions of Ukraine make clear. Geopolitically\, the region is where the West\, Russia\, and the wider Middle East come into contact. As countries like Ukraine\, Moldova\, and Georgia seek EU membership\, Russia looks to destabilize them. Turkey aims to retain its good standing with NATO\, preserve its ties with Russia\, and assert its interests in the Syrian civil war. The region also holds considerable importance as an economic and energy transit zone\, with the West\, Russia\, and China launching transportation and energy infrastructure projects there. Finally\, Black Sea states struggle to build political\, economic\, and social resilience in the face of Russian attempts to destabilize them and subvert their sovereignty. The goal of this conference is to advance understanding among regional and Western scholars and policymakers on the challenges and opportunities the Black Sea region presents. \nVenue: Ilia State University\, Tbilisi\, Georgia \nG. Tsereteli Street 1\, University Building G\, Conference Room 106\, First Floor. \nRegistration: Open to public. Registration required. Register here. \nConference dates: June 28-29 \n2023 \n\n			\n				\n			\n			\n				\n			\n		\n\n[wpai_display_imported_files_here]
URL:https://events.iliauni.edu.ge/event/changing-tides-in-the-black-sea-region-strengthening-security-strategic-connectivity-and-resilience/
CATEGORIES:Conferences,Events
ATTACH;FMTTYPE=image/png:https://events.iliauni.edu.ge/wp-content/uploads/2023/06/78305.png
END:VEVENT
END:VCALENDAR