BEGIN:VCALENDAR
VERSION:2.0
PRODID:-//უნივერსიტეტის ღონისძიებების პორტალი - ECPv6.2.8.2//NONSGML v1.0//EN
CALSCALE:GREGORIAN
METHOD:PUBLISH
X-ORIGINAL-URL:https://events.iliauni.edu.ge/en/
X-WR-CALDESC:Events for უნივერსიტეტის ღონისძიებების პორტალი
REFRESH-INTERVAL;VALUE=DURATION:PT1H
X-Robots-Tag:noindex
X-PUBLISHED-TTL:PT1H
BEGIN:VTIMEZONE
TZID:Asia/Dubai
BEGIN:STANDARD
TZOFFSETFROM:+0400
TZOFFSETTO:+0400
TZNAME:+04
DTSTART:20230101T000000
END:STANDARD
END:VTIMEZONE
BEGIN:VEVENT
DTSTART;TZID=Asia/Dubai:20230620T190000
DTEND;TZID=Asia/Dubai:20230620T190000
DTSTAMP:20260425T075102
CREATED:20230619T070641Z
LAST-MODIFIED:20240202T090610Z
UID:10000016-1687287600-1687287600@events.iliauni.edu.ge
SUMMARY:FrontSpot MeetUp
DESCRIPTION:On June 20\, we invite you to join FrontSpot MeetUp\, organized in collaboration with Frontspot Georgia and Ilia State University. \nTopic: FrontSpot MeetUp \n\nAbout Speakers: \n\nIskander Sharipov- Software Engineer.\n\nTalk name – JS necromancy: re-animating dead images using shaders \nTalk’s description: In this talk\, he’ll discuss fragment (texture) shaders\, what they can do\, and how you can use them. He’ll create multiple effects using shaders and WebGL. Then you’ll see how shaders are integrated into JS game engines like pixiJS. \n\nAliaksandr Yerakhavets – Senior Software Engineer\n\nTalk name – OAuth 2.0. How secure is your mobile login? \nTalk’s description: Today it’s becoming more and more challenging to keep user data safe and secure in the mobile world. And the demand for secure apps is high as ever before. So it’s essential to stay updated on the latest OAuth 2.0 developments and best practices. \nIn this topic\, he will review OAuth 2.0 workflow and integration\, define common vulnerabilities and mistakes from real-life experience\, and finally explore the best practices for mobile app security. \n\nWorking Language: English \nTime: 20 th of June\, 19:00-21:00 pm (T102) \nLocation: Auditorium T102\, 3/5 Kakutsa Cholokashvili Ave \nAttendance is free \n2023 \n\n			\n				\n			\n			\n				\n			\n		\n\n[wpai_display_imported_files_here]
URL:https://events.iliauni.edu.ge/event/frontspot-meetup/
CATEGORIES:Events
ATTACH;FMTTYPE=image/png:https://events.iliauni.edu.ge/wp-content/uploads/2023/06/77391.png
END:VEVENT
BEGIN:VEVENT
DTSTART;TZID=Asia/Dubai:20230623T163000
DTEND;TZID=Asia/Dubai:20230623T163000
DTSTAMP:20260425T075102
CREATED:20230619T082305Z
LAST-MODIFIED:20240202T090605Z
UID:10000014-1687537800-1687537800@events.iliauni.edu.ge
SUMMARY:Meeting with Jill Marie Hruby\, the first woman head of the US nuclear weapons laboratory
DESCRIPTION:On June 23\, at 4:30 p.m.\, Jill Marie Hruby\, the first woman head of the US Nuclear Weapons Laboratory\, the US Department of Energy’s Deputy Secretary for Nuclear Security\, will hold a meeting with the students of Ilia State University\, organized by the US Embassy in Georgia. \nAt the meeting Jill Hruby\, a mechanical engineer\, talks to the students about her career and activities. \nThe meeting will be held in question-answer mode. Pre-registration is required to attend the meeting.  Registration deadline – June 22\, 2023\, 6:00 p.m. \nTo register\, follow the link: https://forms.gle/A4YcK2cReaicj1pn7 \nAbout the speaker \nJill M. Hruby is an American mechanical engineer and government official. Since July 26\, 2021\, Hruby has served as Under Secretary of Energy for Nuclear Security and Administrator of the National Nuclear Security Administration\, a post subject to Senate confirmation. Jill Hruby made history as the first woman to ever head a U.S. nuclear weapons lab\, serving as director of Sandia National Laboratories from 2015-2017. \nHruby served as the director of Sandia National Laboratories from July 2015 through May 2017. Sandia is a Department of Energy/National Nuclear Security Administration national laboratory with diverse national security missions that include nuclear weapons\, cyberspace\, energy\, non-proliferation\, biological defense\, and space. \nTime: June 23\, 4:30 p.m \nLocation: T406\, Unilab Cyber Laboratory\, Technology Building of Ilia State University (K.Cholokashvili Ave. N3/5\, across from Vake Park) \nWorking language: English \nThe meeting will be held in question-answer mode. Pre-registration is required to attend the meeting.  Registration deadline – June 22\, 2023\, 6:00 p.m. \nTo register\, follow the link: https://forms.gle/A4YcK2cReaicj1pn7 \n2023 \n\n			\n				\n			\n			\n				\n			\n		\n\n[wpai_display_imported_files_here]
URL:https://events.iliauni.edu.ge/event/meeting-with-jill-marie-hruby-the-first-woman-head-of-the-us-nuclear-weapons-laboratory/
CATEGORIES:Events
ATTACH;FMTTYPE=image/png:https://events.iliauni.edu.ge/wp-content/uploads/2023/06/77400.png
END:VEVENT
BEGIN:VEVENT
DTSTART;TZID=Asia/Dubai:20230623T170000
DTEND;TZID=Asia/Dubai:20230623T170000
DTSTAMP:20260425T075102
CREATED:20230621T065600Z
LAST-MODIFIED:20240202T090603Z
UID:10000012-1687539600-1687539600@events.iliauni.edu.ge
SUMMARY:US Embassy Attaché\, Mario Montoya\, Photo Exhibition "Unseen America"
DESCRIPTION:On June 23\, Ilia State University will host the photo exhibition “Unseen America” by the attaché of the United States Embassy\, Mario Montoya. \nWithin the framework of the exhibition\, H.E. Kelly C. Degnan\, Ambassador Plenipotentiary and Extraordinary of the United States of America to Georgia\, will hold a meeting with students\, which will be held in a question-and-answer format. \nPre-registration is required to attend the meeting. \nRegistration deadline – June 22\, 2023\, 09:00 p.m. \nTo register\, follow the link: https://forms.gle/DkExyTNg8EF2nggXA \nABOUT THE PROJECT \n“Unseen America” is an installation of documentary photography showcasing parts of the United States that are not well known. Your support helps share these unique landscapes\, cultures\, and communities while encouraging engagement with communities around the world. \nThe Unseen America project opened in Kyiv\, Ukraine in March 2019. The project was featured at the America House cultural space and sponsored by the U.S. Embassy in Ukraine. Additionally\, the project was discussed as part of Hispanic Heritage Month in the virtual educational series “Siesta Americana” in Kyiv in 2020. The exhibition was also sponsored by the U.S. Embassy in Georgia and was featured in “Kvareli American Shelf” in Kvareli\, Georgia. \nABOUT MARIO MONTOYA \nMario Montoya was born in Albuquerque\, New Mexico and has lived in seven different countries. He moved to Georgia from Kyiv two years ago and he has been 10 years been doing documentary photography for 10 years. Mario’s photography has been featured in Washington D.C. art galleries\, Kyiv exhibitions\, and international magazines. \nTime: June 23\, 17:00 \nLocation: G106 Auditorium\, Ilia State University\, G. Tsereteli St. N1 \nWorking language: English \n2023 \n  \n\n			\n				\n			\n			\n				\n			\n		\n\n[wpai_display_imported_files_here]
URL:https://events.iliauni.edu.ge/event/us-embassy-attache-mario-montoya-photo-exhibition-unseen-america/
CATEGORIES:Events
ATTACH;FMTTYPE=image/png:https://events.iliauni.edu.ge/wp-content/uploads/2023/06/77421.png
END:VEVENT
END:VCALENDAR