BEGIN:VCALENDAR
VERSION:2.0
PRODID:-//უნივერსიტეტის ღონისძიებების პორტალი - ECPv6.2.8.2//NONSGML v1.0//EN
CALSCALE:GREGORIAN
METHOD:PUBLISH
X-WR-CALNAME:უნივერსიტეტის ღონისძიებების პორტალი
X-ORIGINAL-URL:https://events.iliauni.edu.ge/en/
X-WR-CALDESC:Events for უნივერსიტეტის ღონისძიებების პორტალი
REFRESH-INTERVAL;VALUE=DURATION:PT1H
X-Robots-Tag:noindex
X-PUBLISHED-TTL:PT1H
BEGIN:VTIMEZONE
TZID:Asia/Dubai
BEGIN:STANDARD
TZOFFSETFROM:+0400
TZOFFSETTO:+0400
TZNAME:+04
DTSTART:20230101T000000
END:STANDARD
END:VTIMEZONE
BEGIN:VEVENT
DTSTART;TZID=Asia/Dubai:20230516T110000
DTEND;TZID=Asia/Dubai:20230516T110000
DTSTAMP:20260426T034952
CREATED:20230510T082232Z
LAST-MODIFIED:20240202T090815Z
UID:10000065-1684234800-1684234800@events.iliauni.edu.ge
SUMMARY:THE BLOOD DONATION DAY AT ILIAUNI
DESCRIPTION:The Blood Donation Day will be held in the buildings A and T of Iliauni on May 16 \, it will be organized by the Department of Student Affairs of Ilia State University. \nAs part of the campaign\, the mobile teams of the “Natalia Kvantaliani Central Blood Bank” and “Sicockhle” organizations\, staffed by professional\, experienced doctors\, will offer those who wish to selflessly donate blood and thus show their support for people who need help. \nAny person between the ages of 18 and 65 can become a blood donor if: \n\nmore than 2 weeks have passed since being infected with the coronavirus\nmore than 2 weeks have passed since the vaccination against coronavirus\nyour weight is 50 kg or more;\nyou have not been infected with viral hepatitis B and C;\nsyphilis\, tuberculosis;\nyou are not infected with HIV;\nyou do not have blood or oncological diseases;\nyou are not a drug user;\nyou have not undergone a surgical operation\, you have not been vaccinated against tetanus and rabies in the last 1 year;\nyou have not gotten a tattoo in the last 6 months;\nyou have not had contact with other people’s blood;\nyou have not been pregnant in the last 6 months;\nthe donor must be practically healthy on the day of donation – must not have a fever\, runny nose\, catarrh\, or other flu-like symptoms.\n\nThose who participate in the charity event will receive the following research results free of charge: \n\nGeneral blood analysis\nGroup\, rhesus\, phenotype\nHepatitis B and C\, syphilis\, cytomegalovirus and AIDS virus\n\nA person who is going to donate should know the following: \n\nBlood donation is an easy\, safe and painless process;\nWhen donating blood\, only disposable material is used and the donor is protected from infection;\nDonating blood is absolutely safe for health;\nBlood donation is recommended in the first half of the day;\nIt is better to eat lightly and drink sweet tea in the morning on the day of blood donation. You should refrain from taking tobacco and analgesics;\nBlood can be donated again after 2 months;\nBring a proof of identity card with you.\n\nTime: 11:00-16:00 \nLocation: \nNatalia Kvantaliani Central Blood Bank – Building A of Iliauni. Student space\, I. Chavchavadze Ave. N32 \n“Sicockhle” blood bank – Building T of Iliauni\, student space\, Cholokashvili Ave. N3/5 \n2023 \n\n			\n				\n			\n			\n				\n			\n		\n\n[wpai_display_imported_files_here]
URL:https://events.iliauni.edu.ge/event/the-blood-donation-day-at-iliauni/
CATEGORIES:Events
ATTACH;FMTTYPE=image/png:https://events.iliauni.edu.ge/wp-content/uploads/2023/05/76165.png
END:VEVENT
BEGIN:VEVENT
DTSTART;TZID=Asia/Dubai:20230516T200000
DTEND;TZID=Asia/Dubai:20230516T200000
DTSTAMP:20260426T034952
CREATED:20230427T082000Z
LAST-MODIFIED:20240202T090812Z
UID:10000063-1684267200-1684267200@events.iliauni.edu.ge
SUMMARY:PERFORMANCE "MARAT/SADE"
DESCRIPTION:The Persecution and Assassination of Jean-Paul Marat as Performed by the Inmates of the Asylum of Charenton Under the Direction of the Marquis de Sade \nIn 1 Act \nIs it possible to get an all-embracing equality through revolution? Is revolution a path which brings liberty and fraternity and makes our wishes come true? These are the matters that the main character of the play\, the Marquis de Sade is eager to resolve when staging an experimental performance with the patients of Charenton Mental Asylum. The result he gets is quite unexpected. \nYoung director Saba Aslamazishvili also took a path of an experiment for his debut performance and staged in not in a traditional setting but in the theatre foyer. For two hours Iliauni Theatre will don the garments of Charenton Asylum and the actors through reviving the adventures of the French Revolution together with the audience will try to find answers to the questions still so vital today. \nNominated for the 2018 Tsinandali Award. \n\nDirected by: Saba Aslamazishvili\nCostume and Set Design by: Teo Kukhianidze\nMusic for the performance created by: Constantine Ejibashvili\nTechnical Director: Tamuna Kamladze\n\nThe cast: \n\nJean-Paul Marat – Bacho Chachibaia\nMarquis de Sade – Amiran Kachibaia\nCharlotte Corday – Annie Imnadze\nSimonne Evrard – Aniko Shurghaia\nCoulmier – Giviko Baratashvili\nDuperret – Vladimer Vashakidze\nJacques Roux – Constantine Ejibashvili\nHerald – Andrea Vachridze\nNurse – Liko Zarnadze\,\nNursing Aid – Luka Akhaladze\nInmates – Tornike Kakulia\, Gaga Arabuli\, Paata Babluani\, George Makadze\, Mariam Balakhadze\, Elene Dabrundashvili\n\nFirst Performance 10 May 2018\nDuration: 110 minutes\,  without  intermission \nPerformance was staged through financial support of Tbilisi Municipality. \n\nRELATED PHOTO\nRELATED VIDEO\n\n\nTime: May 16\, 20:00 \nDuration: 110 minutes\,  without  intermission \nLocation: Ilia State University Theater\, Ilia Chavchavadze Avenue N32 (back yard) \n2023 \n\n\n			\n				\n			\n			\n				\n			\n		\n\n[wpai_display_imported_files_here]
URL:https://events.iliauni.edu.ge/event/performance-marat-sade-3/
CATEGORIES:Events
ATTACH;FMTTYPE=image/jpeg:https://events.iliauni.edu.ge/wp-content/uploads/2023/04/75787.jpg
END:VEVENT
BEGIN:VEVENT
DTSTART;TZID=Asia/Dubai:20230517T200000
DTEND;TZID=Asia/Dubai:20230517T200000
DTSTAMP:20260426T034952
CREATED:20230427T060421Z
LAST-MODIFIED:20240202T090810Z
UID:10000061-1684353600-1684353600@events.iliauni.edu.ge
SUMMARY:PERFORMANCE "The Soap Opus"
DESCRIPTION:Drama in 1 Act \nGermany won the World War II. The Third Reich governs the world. Georgia\, as well as the entire Europe\, is full of concentration camps. Ketevan\, Nestan\, Medea and Salome are locked up in one of them\, in Abastumani. They are tasked with reproducing the pure Aryan race bearing children for the “Homeland” \n\n\nAuthor: David Gabunia\nDirector: Ioane (Vano) Khutsishvili\nSet and Costume Designer: Teo Kukhianidze\nMusical Arrangement: Giorgi Jikia\nTechnical Director: Tamuna Kamladze\n\n\nThe CAST:\n \n\n\nKetevan – Nuka Kevkhishvili\nNestan – Anka Didmanidze\nSalome – Aniko Shurgaia\nMedia – Nutsa Sulaberidze\nNurse – Tamuna Tevzadze\n\n\n\n\nPerformance was staged within the framework of the Ilia State University MA Program “Live Theatre Arts:Acting and Directing” \n\nDuration of the Performance 100 minutes without intermission\n\nFirst performance – 3 May 2023\n\n\nPHOTO GALLERY\n\n\nTime: May 3\,4\,17\, 20:00 \nLocation: Ilia State University Theater\, Ilia Chavchavadze Avenue N32 (back yard) \n2023 \n\n\n\n			\n				\n			\n			\n				\n			\n		\n\n[wpai_display_imported_files_here]
URL:https://events.iliauni.edu.ge/event/performance-the-soap-opus/
CATEGORIES:Events
ATTACH;FMTTYPE=image/png:https://events.iliauni.edu.ge/wp-content/uploads/2023/04/75795.png
END:VEVENT
END:VCALENDAR