BEGIN:VCALENDAR
VERSION:2.0
PRODID:-//უნივერსიტეტის ღონისძიებების პორტალი - ECPv6.2.8.2//NONSGML v1.0//EN
CALSCALE:GREGORIAN
METHOD:PUBLISH
X-WR-CALNAME:უნივერსიტეტის ღონისძიებების პორტალი
X-ORIGINAL-URL:https://events.iliauni.edu.ge/en/
X-WR-CALDESC:Events for უნივერსიტეტის ღონისძიებების პორტალი
REFRESH-INTERVAL;VALUE=DURATION:PT1H
X-Robots-Tag:noindex
X-PUBLISHED-TTL:PT1H
BEGIN:VTIMEZONE
TZID:Asia/Dubai
BEGIN:STANDARD
TZOFFSETFROM:+0400
TZOFFSETTO:+0400
TZNAME:+04
DTSTART:20240101T000000
END:STANDARD
END:VTIMEZONE
BEGIN:VEVENT
DTSTART;TZID=Asia/Dubai:20241213T160000
DTEND;TZID=Asia/Dubai:20241213T170000
DTSTAMP:20260422T002943
CREATED:20241119T082835Z
LAST-MODIFIED:20241121T095828Z
UID:10005608-1734105600-1734109200@events.iliauni.edu.ge
SUMMARY:Marking 100 Years Since the 1924 Uprising − Panel Discussion Featuring Professors
DESCRIPTION:On December 13\, at 16:00\, a panel discussion marking the 100th anniversary of the 1924 Uprising will be held at the Book House Ligamus. The event is organized by the Master’s Program in Modern History of Georgia at Ilia State University. \nThe opening will be delivered by Ilia State University Rector\, Professor Nino Doborjginidze. \nThe moderator will be Stephen Jones\, professor at Ilia State University and co-supervisor of the Master’s Program in Modern History of Georgia. \nParticipants in the discussion include: \n\nBeka Kobakhidze\, Professor at Ilia State University\, co-supervisor of the Master’s Program in Modern History of Georgia;\nTimothy Blauvelt\, Professor at Ilia State University;\nDimitri Shvelidze and Mikheil Bakhtadze\, Associate Professors at Tbilisi State University.\n\nWorking languages: Georgian\, English \nDate/Time: December 13\, 16:00 \nLocation: Book House Ligamus\, 32 Ilia Chavchavadze Ave. \nEveryone is welcome to attend.
URL:https://events.iliauni.edu.ge/event/marking-100-years-since-the-1924-uprising-panel-discussion-featuring-professors/
CATEGORIES:Events
ATTACH;FMTTYPE=image/png:https://events.iliauni.edu.ge/wp-content/uploads/2024/11/0012.png
END:VEVENT
BEGIN:VEVENT
DTSTART;TZID=Asia/Dubai:20241219T100000
DTEND;TZID=Asia/Dubai:20241221T180000
DTSTAMP:20260422T002943
CREATED:20241211T125556Z
LAST-MODIFIED:20241213T113511Z
UID:10005631-1734602400-1734804000@events.iliauni.edu.ge
SUMMARY:International Conference “The Middle East and the Caucasus: Culture\, History\, Politics”
DESCRIPTION:On December 19\, at 10:00 a.m.\, the International Conference “The Middle East and the Caucasus: Culture\, History\, Politics\,” organized by the Giorgi Tsereteli Institute of Oriental Studies\, will open in Auditorium T102 at Ilia State University. The event is dedicated to the 120th anniversary of the birth of Academician Giorgi Tsereteli and the 95th anniversary of the birth of Academician Tamaz Gamkrelidze. The conference will be conducted on December 20 and 21. \nOn December 22\, a roundtable will also be held to discuss the results of the first year of the project “Perception of Georgia and Armenia in Western and Eastern Sources (Middle Ages and Early Modern Period)” (FR-23-10274-1)\, supported by the Shota Rustaveli National Scientific Foundation. \nOn December 22-23\, a final international conference of the project “Ethnoreligious Mosaics of Tbilisi (1801-1921)” (FR-21-8081)\, supported by the Shota Rustaveli National Scientific Foundation\, will take place. \nConference languages: Georgian and English \nDate/Time: December 19-21\, 10:00 a.m. \nLocation: \n\nDecember 19 – Auditorium T102;\nDecember 20-21 – Auditorium S201-202\n\nEveryone is welcome to attend.
URL:https://events.iliauni.edu.ge/event/international-conference-the-middle-east-and-the-caucasus-culture-history-politics/
CATEGORIES:Events,School of arts and sciences
ATTACH;FMTTYPE=image/png:https://events.iliauni.edu.ge/wp-content/uploads/2024/12/konph_web_new.png
END:VEVENT
END:VCALENDAR