BEGIN:VCALENDAR
VERSION:2.0
PRODID:-//უნივერსიტეტის ღონისძიებების პორტალი - ECPv6.2.8.2//NONSGML v1.0//EN
CALSCALE:GREGORIAN
METHOD:PUBLISH
X-WR-CALNAME:უნივერსიტეტის ღონისძიებების პორტალი
X-ORIGINAL-URL:https://events.iliauni.edu.ge/en/
X-WR-CALDESC:Events for უნივერსიტეტის ღონისძიებების პორტალი
REFRESH-INTERVAL;VALUE=DURATION:PT1H
X-Robots-Tag:noindex
X-PUBLISHED-TTL:PT1H
BEGIN:VTIMEZONE
TZID:Asia/Dubai
BEGIN:STANDARD
TZOFFSETFROM:+0400
TZOFFSETTO:+0400
TZNAME:+04
DTSTART:20240101T000000
END:STANDARD
END:VTIMEZONE
BEGIN:VEVENT
DTSTART;TZID=Asia/Dubai:20240404T150000
DTEND;TZID=Asia/Dubai:20240404T150000
DTSTAMP:20260423T060701
CREATED:20240325T101227Z
LAST-MODIFIED:20240326T095006Z
UID:10005397-1712242800-1712242800@events.iliauni.edu.ge
SUMMARY:COMPARATIVE STUDY OF JAPANESE AND GEORGIAN CULTURES ISHIZUKA HIDEKI AMBASSADOR EXTRAORDINARY AND PLENIPOTENTIARY OF JAPAN TO GEORGIA PUBLIC LECTURE
DESCRIPTION:Ishizuka Hideki\, Ambassador Extraordinary and Plenipotentiary of Japan to Georgia\, will deliver the public lecture’ Comparative Study of Japanese and Georgian Cultures’ on April 4th at 15:00 at Ilia State University\, Auditorium G 106. \nThe lecture will be dedicated to the cross-cultural parallels between Japan and Georgia illustrating the unique features of Japan and the mutual values of two countries. Based on the research of ‘Vepkhistkaosani’ by Shota Rustaveli\, the audience will learn about the complexities and nuances of both Japanese and Georgian cultures. \nThe lecturer will explore the similarities between Rustaveli epos and classical Japanese poems in details and will compare famous Japanese historical figures with the characters of ‘Vepkhistkaosani’. \nAbout the speaker \nWorking Language: English \nDate and Time: April 4\, 15:00 – 16:00 \nLocation: Ilia State University\, Auditorium G 106\,  N1 G. Tsereteli Street \nAttendance is Free
URL:https://events.iliauni.edu.ge/event/comparative-study-of-japanese-and-georgian-cultures-ishizuka-hideki-ambassador-extraordinary-and-plenipotentiary-of-japan-to-georgia-public-lecture/
CATEGORIES:Conferences,Events
ATTACH;FMTTYPE=image/png:https://events.iliauni.edu.ge/wp-content/uploads/2024/03/6c69b9ecfc2a86e1851dfe9d7ff9fc33_83003.png
END:VEVENT
BEGIN:VEVENT
DTSTART;TZID=Asia/Dubai:20240419T190000
DTEND;TZID=Asia/Dubai:20240419T200000
DTSTAMP:20260423T060701
CREATED:20240416T124338Z
LAST-MODIFIED:20240416T125606Z
UID:10005423-1713553200-1713556800@events.iliauni.edu.ge
SUMMARY:"MEET THE AUSTRIANS\, MEET THE GEORGIANS: BUSINESS\, CULTURE AND SUSTAINABILITY - WHAT ARE WE TALKING ABOUT? AN INTERACTIVE WORKSHOP”
DESCRIPTION:About the workshop \n\nWhat moves us today in Austria and Georgia?\nWhich impacts do international settings have on business?\nHow is business affected by cultural differences?\nWhat you need to consider when engaging in intercultural exchange in a corporate context?\nWhat’s an Austrian approach\, what do young professionals think in Georgia?\n\nInteractive Workshop \nAbout the Speakers \nAlexander Burka\, Prof. Dr. M.A \nProfessor for international Business Communication at the University of Applied Sciences Burgenland\, Austria. Courses on international competencies\, intercultural management and Russian as foreign language \nMore than 25 years professional experience in various fields of activity in 60 countries worldwide for international organisations and enterprises. \nClaudia Maier\, BA MA \nClaudia Maier is lecturer at University of Applied Sciences Burgenland\, Austria. She gives lectures on Marketing\, Research Methods and Diversity Management. She also chairs the gender & diversity sector at University of Applied Sciences Burgenland and is an advocate for inclusion throughout the organization. \nHer research activities include social issues\, diversity and participation methods around the topic of climate change and energy transition in Austria.
URL:https://events.iliauni.edu.ge/event/meet-the-austrians-meet-the-georgians-business-culture-and-sustainability-what-are-we-talking-about-an-interactive-workshop/
CATEGORIES:Events
ATTACH;FMTTYPE=image/png:https://events.iliauni.edu.ge/wp-content/uploads/2024/04/vorqshopi_web_eng.png
END:VEVENT
END:VCALENDAR