BEGIN:VCALENDAR
VERSION:2.0
PRODID:-//უნივერსიტეტის ღონისძიებების პორტალი - ECPv6.2.8.2//NONSGML v1.0//EN
CALSCALE:GREGORIAN
METHOD:PUBLISH
X-ORIGINAL-URL:https://events.iliauni.edu.ge/en/
X-WR-CALDESC:Events for უნივერსიტეტის ღონისძიებების პორტალი
REFRESH-INTERVAL;VALUE=DURATION:PT1H
X-Robots-Tag:noindex
X-PUBLISHED-TTL:PT1H
BEGIN:VTIMEZONE
TZID:Asia/Dubai
BEGIN:STANDARD
TZOFFSETFROM:+0400
TZOFFSETTO:+0400
TZNAME:+04
DTSTART:20230101T000000
END:STANDARD
END:VTIMEZONE
BEGIN:VEVENT
DTSTART;TZID=Asia/Dubai:20230202T170000
DTEND;TZID=Asia/Dubai:20230202T170000
DTSTAMP:20260425T230158
CREATED:20230117T115933Z
LAST-MODIFIED:20240202T091052Z
UID:10000136-1675357200-1675357200@events.iliauni.edu.ge
SUMMARY:Public Lecture by Prof. Gary Hammer "Leadership in Medicine and Science"
DESCRIPTION:On February 2\, at 17:00\, Professor Gary Hammer\, Director of the Endocrine Oncology Program at the University of Michigan\, and former President of the Endocrine Society (Detroit\, USA)\, will hold a public lecture on “Leadership in Medicine and Science” in Hall G 106. \nAbout Lecture \nA motivational and inspiring lecture based on the personal experience and career path of Professor Gary Hammer himself in science and medicine. It will be about how awareness of one’s own vulnerability can be a source of inspiration to change the world for the better. How one can understand the concept of being here and now. Living in presence\, using time and space to develop oneself\, inspire others and change the environment and the world around us for a better place. The conversation will also touch the subject of the relationship between the doctor and the patient\, those connections\, trust\, and mutual understanding that are necessary for the formation and development of an ideal doctor-patient relationship in the long term. \nAbout the Speaker \nProf. Gary D. Hammer\, M.D.\, Ph.D. is a Professor in the Departments of Internal Medicine (MEND)\, Cell & Developmental Biology\, and Molecular & Integrative Physiology at the University of Michigan. He currently serves as Director of the Endocrine Oncology Program at Rogel Cancer Center\, where he holds the Millie Schembechler Professorship in Adrenal Cancer. \nProf. Gary D. Hammer obtained his M.D. and PhD in Neuroscience from Tufts University and completed his residency in Internal Medicine\, followed by a clinical fellowship in Endocrinology and a post-doctoral fellowship with Holly Ingraham at the University of California (San Francisco). \nHe has brokered the recent renaissance of the current Michigan team of adrenal scientists that includes a who’s who in the study of adrenal disease. He received the UofM Jerome Conn Award for Outstanding Research in Internal Medicine\, the Endocrine Society Edwin B. Astwood Award for Outstanding Research and is a member of ASCI and AAP. \nAn extensive biography is available at the following link: https://bit.ly/3Xwa58U \nWorking language: English \nTime: February 2\, 5:00 p.m \nLocation: G106 Hall\, G. Tsereteli Ave. N1 \nAttendance is free. \n2023 \n\n			\n				\n			\n			\n				\n			\n		\n\n[wpai_display_imported_files_here]
URL:https://events.iliauni.edu.ge/event/public-lecture-by-prof-gary-hammer-leadership-in-medicine-and-science/
CATEGORIES:Events
ATTACH;FMTTYPE=image/png:https://events.iliauni.edu.ge/wp-content/uploads/2023/01/73878.png
END:VEVENT
BEGIN:VEVENT
DTSTART;TZID=Asia/Dubai:20230205T200000
DTEND;TZID=Asia/Dubai:20230205T200000
DTSTAMP:20260425T230158
CREATED:20230131T125702Z
LAST-MODIFIED:20240202T090939Z
UID:10000133-1675627200-1675627200@events.iliauni.edu.ge
SUMMARY:PERFORMANCE "SPINELESS"
DESCRIPTION:Drama in 1 Act \nWhat does it feel like to live in Georgia\, when you are different? How can you oppose to the idifference of friends\, family\, society and country?  How can you survive and does the survival matter  at all\, when no one needs you\, no one understands you? One tragic story\, that Alex Chighvinadze wrote is based on true events\, unites the problems of the entire society and  invites us to think about how to change the country in which parents are forced to bury their transgender child quietly hiding from neighbors\, village\, country. \n\n\n\n\n\n\nDirector – Gela Guliashvili (Senior work)\n\n\n\n\n\n\nSet and Costume Designer – Teo Kukhianidze\nTechnical Assistant – Maka Metreveli\nSupervisor – Vano Khutsishvili\, Associate Professor\, Ilia State Unievrsity \nThe Cast: \n\nMartha – Maia Khornauli\nMamia – Giorgi Tsertsvadze\nNino – Aniko Shurgaia\nDaniel – Giorgi Makadze\n\nDuration of the Performance – 90 minutes\nFirst Performance – 2 July 2022 \n\nPhoto Gallery\n\n\nTime: February 5\,18 \, 20:00 \nDuration: 80 minutes\,  without  intermission \nLocation: Ilia State University Theatre\, Ilia Chavchavadze Avenue N32 (back yard) \n2023 \n\n\n			\n				\n			\n			\n				\n			\n		\n\n[wpai_display_imported_files_here]
URL:https://events.iliauni.edu.ge/event/performance-spineless-3/
CATEGORIES:Events
ATTACH;FMTTYPE=image/png:https://events.iliauni.edu.ge/wp-content/uploads/2023/01/74246.png
END:VEVENT
BEGIN:VEVENT
DTSTART;TZID=Asia/Dubai:20230206T170000
DTEND;TZID=Asia/Dubai:20230206T170000
DTSTAMP:20260425T230158
CREATED:20230130T082343Z
LAST-MODIFIED:20240202T090937Z
UID:10000144-1675702800-1675702800@events.iliauni.edu.ge
SUMMARY:ALUMNI TALKS: A Meeting with Nino Makhashvili
DESCRIPTION:The series of meetings “Alumni Talks” continues under the organization of the International Doctoral School. \nNino Makhashvili\, associate professor of Ilia State University\, will be a guest of the “Alumni Talks” at the book house “Ligamus” on February 6\, at 17:00. \nThe speaker will share with us the experience of studying for the doctoral degree\, will talk about the ways and challenges of success of doctoral students during many years of research. \nThe meeting will be held mainly in a question-and-answer format\, and the listeners will have the opportunity to get answers to the issues of interest to them. \nProfessor Nino Makhashvili heads the Mental Health Resource Center of Ilia State University. She is one of the founders and lecturers of the master’s program in Mental Health of the same university; In 2017\, she joined the doctoral program of the School of Business with the course “Community-based Participatory Research”. \nSee detailed information about Nino Makhashvili: https://faculty.iliauni.edu.ge/business/nino-makhashvili/ \nPlease register through the following link: https://bit.ly/3wFleJt \nTime: February 6\, 17:00 \nLocation: Book house “Ligamus”\, I. Chavchavadze Ave. N32 \n2023 \n\n			\n				\n			\n			\n				\n			\n		\n\n[wpai_display_imported_files_here]
URL:https://events.iliauni.edu.ge/event/alumni-talks-a-meeting-with-nino-makhashvili/
CATEGORIES:Events
ATTACH;FMTTYPE=image/png:https://events.iliauni.edu.ge/wp-content/uploads/2023/01/74268.png
END:VEVENT
BEGIN:VEVENT
DTSTART;TZID=Asia/Dubai:20230207T140000
DTEND;TZID=Asia/Dubai:20230207T140000
DTSTAMP:20260425T230158
CREATED:20230206T083447Z
LAST-MODIFIED:20240202T090934Z
UID:10000169-1675778400-1675778400@events.iliauni.edu.ge
SUMMARY:Defense of the Dissertation by the Doctoral Student Svetlana Berikashvili
DESCRIPTION:The defense of the dissertation “Differential Subject Marking in Georgian” of Svetlana Berikashvili\, the doctoral student of the Carl Friedrich Lehmann-Haupt International Doctoral Program of the joint transdisciplinary international doctoral program of Ilia State University and the Georg-August University of Göttingen (Germany) will be held in the G106 auditorium of Ilia State University on February 7\, at 14:00. \nThe program gives the doctoral student the opportunity to defend the dissertation through the model based on the Cotutelle principle and to receive a double doctoral degree and a diploma from both universities. \nThe doctoral student studies the Differential Subject Marking (DSM) in the Georgian language within the framework of the theory of generative syntax and concludes that the differentiation of subject cases is not only the result of the operations that occur after the syntactic representation in the morphological structure (MS) at the phonetic form (PF) level\, on the contrary\, both assignment of case and agreement based on the assigned case (dependent\, unmarked\, etc.) are part of the syntax. The dissertation explains the assignment of the so called “non-canonically labeled” ergative and dative cases of a subject through a pure DC algorithm and concludes that DC Theory is sufficient to analyze the assignment of structural cases. \nScientific supervisors from the Georg-August University of Göttingen:  Professor\, Dr. Hedde Zeijlstra (UGOE)\, Professor\, Dr. Anke Holler (UGOE) \nScientific supervisors from Ilia State University: \nProfessor\, Dr. Nino Doborjginidze (ISU)\, Professor\, Dr. Irina Lobzhanidze (ISU) \nWorking language: English \nTime: February 7\, 14:00 \nLocation: G106 auditorium of Ilia State University \n2023 \n\n			\n				\n			\n			\n				\n			\n		\n\n[wpai_display_imported_files_here]
URL:https://events.iliauni.edu.ge/event/defense-of-the-dissertation-by-the-doctoral-student-svetlana-berikashvili/
CATEGORIES:Events
ATTACH;FMTTYPE=image/png:https://events.iliauni.edu.ge/wp-content/uploads/2023/02/74276.png
END:VEVENT
BEGIN:VEVENT
DTSTART;TZID=Asia/Dubai:20230218T180000
DTEND;TZID=Asia/Dubai:20230218T180000
DTSTAMP:20260425T230158
CREATED:20230214T121944Z
LAST-MODIFIED:20240202T090931Z
UID:10000167-1676743200-1676743200@events.iliauni.edu.ge
SUMMARY:STEAM Competition of Innovative Teachers
DESCRIPTION:We invite you to the final event of the STEAM Competition of Innovative Teachers on February 18. \nThe finalists will present their material products in the exhibition space and talk about the implemented projects. \nAt the end of the competition\, 3 winners will be announced. \nAt the event\, which will open at 18:00\, guests will have the opportunity to familiarize themselves with the presented projects and attend the award ceremony. \nTime: 18:00 \nPlace: Kakutsa Cholokashvili Avenue N⅗\, T102 of Iliauni \n2023 \n  \n\n			\n				\n			\n			\n				\n			\n		\n\n[wpai_display_imported_files_here]
URL:https://events.iliauni.edu.ge/event/steam-competition-of-innovative-teachers/
CATEGORIES:Events
ATTACH;FMTTYPE=image/png:https://events.iliauni.edu.ge/wp-content/uploads/2023/02/75552.png
END:VEVENT
BEGIN:VEVENT
DTSTART;TZID=Asia/Dubai:20230219T200000
DTEND;TZID=Asia/Dubai:20230219T200000
DTSTAMP:20260425T230158
CREATED:20230131T130241Z
LAST-MODIFIED:20240202T100923Z
UID:10000162-1676836800-1676836800@events.iliauni.edu.ge
SUMMARY:PERFORMANCE "THE DOCTOR IN SPITE OF HIMSELF"
DESCRIPTION:Comedy in 1 Act \nThe comedy is centered around the drunkard good-for-nothing Sganarelle who the entire world mistakenly believes to be a miraculous doctor able to treat any disease. “The patients” propose him vast sums of money in exchange for a phenomenal medicine\, which\, of course\, does not exist. Sganarelle quickly grows very rich and yet remembers to do a kind deed and cure the most important of all illnesses – love. \nTranslation: Kethy Kvantaliani\nDirector: Koko Roinishvili\nSet and Costume Design: Barbara Aslamazi\nMusic: Zurab Gagloshvili\nChoreography: Tinatin tsuladze\nTechnical Director: Tamuna Kamladze \nThe Cast: \nSganarelle – Irakli Chkhikvadze\nMartine – Annie Imnadze\nLucas – Nodar Dzotsenidze\nGeronte – Andrea Vachridze\nJacqueline –Aniko Shurgaia\nLucinde – Anka Vasadze\nLéandre – Giorgi Kiknadze \nMusic used in the performance:\nRaphael – Balada De La Trompeta\nRaphael Beau – Ca Deroule\nRoque Banos – Circus Freaks\, Love at Park\,  Hidding In The Forest\, Titles\nll piccolo circo\nStephen Trask – The Show\nCirque Du Soleil – Wedding\nA. Zanzotto & Nin0 Rotta – Canto della Buranella \nFirst Performance – 3 November 2022\nDuration of the Performance: 1 hour and 30 minutes without intermission \nPerformance was staged through financial support of Tbilisi Municipality. \n\nRELATED PHOTO\nRELATED VIDEO\n\n\nTime: February 19\, 20:00 \nDuration: 1 hour and 30 minutes without intermission \nLocation: Ilia State University Theater\, Ilia Chavchavadze Avenue N32 (back yard) \n2023 \n\n\n			\n				\n			\n			\n				\n			\n		\n\n[wpai_display_imported_files_here]
URL:https://events.iliauni.edu.ge/event/performance-the-doctor-in-spite-of-himself-3/
CATEGORIES:Events
ATTACH;FMTTYPE=image/png:https://events.iliauni.edu.ge/wp-content/uploads/2023/01/74241.png
END:VEVENT
BEGIN:VEVENT
DTSTART;TZID=Asia/Dubai:20230224T160000
DTEND;TZID=Asia/Dubai:20230224T160000
DTSTAMP:20260425T230158
CREATED:20230126T124157Z
LAST-MODIFIED:20240202T090929Z
UID:10000160-1677254400-1677254400@events.iliauni.edu.ge
SUMMARY:“Everything about Sugar” - Popular Science Lecture with Experiments for Students
DESCRIPTION:Professor Ketevan Kupatadze of the Faculty of Natural Sciences and Medicine of Ilia State University will hold a popular science lecture “Everything about Sugar” with experiments on February 24\, at 16:00. \nAt the lecture\, students will have the opportunity to learn about sugar\, its characteristics\, as well as engage in interesting laboratory experiments using sugar. \nThe speaker will talk about the following topics: \n\nWhat did Avicenna think about sugar?\nWhen did European kings eat sugar?\nHow did sugar spread?\nWho were the sugar zombies?\nWhat is sugar from a chemical point of view\, what are its characteristics? What happens to it in our bodies?\nHow to recognize hidden sugar in product labels?\nWhat do sugar and honey have in common and how are they different?\nWhat are the safest sweets?\nWhat does sugar have to do in common with salt\, and what does the “taste of salt” mean?\n\nWho is the lecture intended for? \nFor students interested in the topic. \nHow do I participate? \nPre-registration is required to participate in the workshop. Both individual and group registration is possible. \nFor registration: https://bit.ly/3HdJGGu \nRegistration deadline: February 17\, 23:59 \nTime: February 24\, 16:00 \nWorking language: Georgian \nLocation: Hall B 201\, Ilia Chavchavadze Avenue N32 \n2023 \n\n			\n				\n			\n			\n				\n			\n		\n\n[wpai_display_imported_files_here]
URL:https://events.iliauni.edu.ge/event/everything-about-sugar-popular-science-lecture-with-experiments-for-students/
CATEGORIES:Events
ATTACH;FMTTYPE=image/png:https://events.iliauni.edu.ge/wp-content/uploads/2023/01/74495.png
END:VEVENT
BEGIN:VEVENT
DTSTART;TZID=Asia/Dubai:20230224T160000
DTEND;TZID=Asia/Dubai:20230224T160000
DTSTAMP:20260425T230158
CREATED:20230221T070122Z
LAST-MODIFIED:20240202T090925Z
UID:10000155-1677254400-1677254400@events.iliauni.edu.ge
SUMMARY:Public lecture by Professor Kurt Scharr at the Center of Austrian Culture
DESCRIPTION:Historian Kurt Scharr\, professor of the University of Innsbruck\, will deliver a public lecture “Schaufeln-Schubkarren-Stacheldraht. Peter Demant – Erinnerungen eines Österreichers an Zwangsarbeitslager und Verbannung in der Sowjetunion”\, organized by the Embassy of Austria in Georgia and the Center of Austrian Culture\, in the S507 seminar hall of Ilia State University on February 24\, at 16:00. \nThe event will be attended by the Ambassador of Austria to Georgia\, Thomas Mühlmann. \nProfessor Kurt Scharr will also hold a short presentation about a school project\, which is planned to be implemented in cooperation with Georgian schools. \nWorking language: German \nTime: February 24\, 16:00 \nLocation: Ilia State University\, S507 Seminar Hall (Austrian Library)\, G. Tsereteli St. N3 \nAttendance is free. \n2023 \n\n			\n				\n			\n			\n				\n			\n		\n\n[wpai_display_imported_files_here]
URL:https://events.iliauni.edu.ge/event/public-lecture-by-professor-kurt-scharr-at-the-center-of-austrian-culture/
CATEGORIES:Events
ATTACH;FMTTYPE=image/png:https://events.iliauni.edu.ge/wp-content/uploads/2023/02/74616.png
END:VEVENT
END:VCALENDAR