BEGIN:VCALENDAR
VERSION:2.0
PRODID:-//უნივერსიტეტის ღონისძიებების პორტალი - ECPv6.2.8.2//NONSGML v1.0//EN
CALSCALE:GREGORIAN
METHOD:PUBLISH
X-WR-CALNAME:უნივერსიტეტის ღონისძიებების პორტალი
X-ORIGINAL-URL:https://events.iliauni.edu.ge/en/
X-WR-CALDESC:Events for უნივერსიტეტის ღონისძიებების პორტალი
REFRESH-INTERVAL;VALUE=DURATION:PT1H
X-Robots-Tag:noindex
X-PUBLISHED-TTL:PT1H
BEGIN:VTIMEZONE
TZID:Asia/Dubai
BEGIN:STANDARD
TZOFFSETFROM:+0400
TZOFFSETTO:+0400
TZNAME:+04
DTSTART:20100101T000000
END:STANDARD
END:VTIMEZONE
BEGIN:VEVENT
DTSTART;TZID=Asia/Dubai:20110530T000000
DTEND;TZID=Asia/Dubai:20110530T000000
DTSTAMP:20260422T051304
CREATED:20110529T200000Z
LAST-MODIFIED:20240202T100533Z
UID:10005332-1306713600-1306713600@events.iliauni.edu.ge
SUMMARY:Unikino Presents: “Who's Afraid of Virginia Woolf?”
DESCRIPTION:On June 3\, Friday\, at 6p.m.\, Unikino Presents “Who’s Afraid of Virginia Woolf?”(1966)  directed by Mike Nichols. \nStarring:  Elizabeth Taylor\, Richard Burton\, George Segal\, Sandy Dennis and others.  The film will be showed with support of Georgian Public Broadcasting. \nVenue: Chavchavadze Ave. 32\, Hall A 101. \n\n[wpai_display_imported_files_here]
URL:https://events.iliauni.edu.ge/event/unikino-presents-whos-afraid-of-virginia-woolf/
CATEGORIES:Unikino Shows
ATTACH;FMTTYPE=image/png:https://events.iliauni.edu.ge/wp-content/uploads/2025/09/cover_default.png
END:VEVENT
BEGIN:VEVENT
DTSTART;TZID=Asia/Dubai:20110517T000000
DTEND;TZID=Asia/Dubai:20110517T000000
DTSTAMP:20260422T051304
CREATED:20110516T200000Z
LAST-MODIFIED:20240202T100556Z
UID:10005342-1305590400-1305590400@events.iliauni.edu.ge
SUMMARY:May 20 Unikino Presents: “My Left Foot”
DESCRIPTION:On May 20\, Friday\, at 6p.m.\, Unikino presents “My Left Foot” directed by Jim Sheridan at ISU Hall A 101. \nStarring: Daniel Day-Lewis\, Brenda Fricker\, Alison Whelan\, Kirsten Sheridan and others. \nThe film is translated by Anna Koriphadze. \nAttendance is free. \n  \n\n[wpai_display_imported_files_here]
URL:https://events.iliauni.edu.ge/event/may-20-unikino-presents-my-left-foot/
CATEGORIES:Unikino Shows
ATTACH;FMTTYPE=image/png:https://events.iliauni.edu.ge/wp-content/uploads/2025/09/cover_default.png
END:VEVENT
BEGIN:VEVENT
DTSTART;TZID=Asia/Dubai:20110510T000000
DTEND;TZID=Asia/Dubai:20110510T000000
DTSTAMP:20260422T051304
CREATED:20110509T200000Z
LAST-MODIFIED:20240202T100520Z
UID:10005298-1304985600-1304985600@events.iliauni.edu.ge
SUMMARY:May 13 Unikino Presents: “The Departed”
DESCRIPTION:On May 13\, Friday\, at 6 p.m\, Unikino presents “The Departed” directed by Martin Scorsese. \nStarring: Leonardo DiCaprio\, Matt Damon\, Jack Nicholson\, Martin Sheen\, Alec Baldwin and others. \nVenue: Chavchavadze Ave. 32\, ISU Hall A 101 \nAttendance is free. \n  \n\n[wpai_display_imported_files_here]
URL:https://events.iliauni.edu.ge/event/may-13-unikino-presents-the-departed/
CATEGORIES:Unikino Shows
ATTACH;FMTTYPE=image/png:https://events.iliauni.edu.ge/wp-content/uploads/2025/09/cover_default.png
END:VEVENT
BEGIN:VEVENT
DTSTART;TZID=Asia/Dubai:20110426T000000
DTEND;TZID=Asia/Dubai:20110426T000000
DTSTAMP:20260422T051304
CREATED:20110425T200000Z
LAST-MODIFIED:20240202T100433Z
UID:10005308-1303776000-1303776000@events.iliauni.edu.ge
SUMMARY:April 29 Unikino Presents: “Thomas Crown Affair”
DESCRIPTION:On April 29\, Friday\, at 6.00 p.m.\, Unikino presents “Thomas Crown Affair” directed by John McTiernan at ISU Hall A 101. \nStarring: Pierce Brosnan\, Rene Russo\, Denis Leary\, Ben Gazzara and others. \nThe film is translated by Mariam Labauri. \nAttendance is free. \n  \n\n[wpai_display_imported_files_here]
URL:https://events.iliauni.edu.ge/event/april-29-unikino-presents-thomas-crown-affair/
CATEGORIES:Unikino Shows
ATTACH;FMTTYPE=image/png:https://events.iliauni.edu.ge/wp-content/uploads/2025/09/cover_default.png
END:VEVENT
BEGIN:VEVENT
DTSTART;TZID=Asia/Dubai:20110411T000000
DTEND;TZID=Asia/Dubai:20110411T000000
DTSTAMP:20260422T051304
CREATED:20110410T200000Z
LAST-MODIFIED:20240202T095730Z
UID:10005168-1302480000-1302480000@events.iliauni.edu.ge
SUMMARY:April 15 Unikino Presents: “Rashomon”
DESCRIPTION:On April 15\, Friday\, at 6:00 p.m.\, Unikino presents “Rashomon” (1950) directed by Akira Kurosawa. \nStarring: Toshirō Mifune\, Machiko Kyō\, Masayuki Mori\, Takashi Shimura and others. \nThe film screening is supported by Georgian Public Broadcasting. \nVenue: Chavchavadze Ave. 32 Hall A 101 \nAttendance is free. \n  \n\n[wpai_display_imported_files_here]
URL:https://events.iliauni.edu.ge/event/april-15-unikino-presents-rashomon/
CATEGORIES:Unikino Shows
ATTACH;FMTTYPE=image/png:https://events.iliauni.edu.ge/wp-content/uploads/2025/09/cover_default.png
END:VEVENT
BEGIN:VEVENT
DTSTART;TZID=Asia/Dubai:20110401T000000
DTEND;TZID=Asia/Dubai:20110401T000000
DTSTAMP:20260422T051304
CREATED:20110331T200000Z
LAST-MODIFIED:20240202T095520Z
UID:10005130-1301616000-1301616000@events.iliauni.edu.ge
SUMMARY:April 8 Unikino Presents: “Run\, Lola\, Run”
DESCRIPTION:On April 8\, Friday\, 18:00\, Unikino presents Tom Tykwer’s film “Run\, Lola\, Run” (1998). \nStarring:  Franka Potente\, Moritz Bleibtreu\, Herbert Knaup\, Nina Petri and etc. \nVenue: ISU Hall 101\, Chavchavdze Ave.  32. \n  \n\n[wpai_display_imported_files_here]
URL:https://events.iliauni.edu.ge/event/april-8-unikino-presents-run-lola-run/
CATEGORIES:Unikino Shows
ATTACH;FMTTYPE=image/png:https://events.iliauni.edu.ge/wp-content/uploads/2025/09/cover_default.png
END:VEVENT
BEGIN:VEVENT
DTSTART;TZID=Asia/Dubai:20101109T000000
DTEND;TZID=Asia/Dubai:20101109T000000
DTSTAMP:20260422T051304
CREATED:20101108T200000Z
LAST-MODIFIED:20240202T094721Z
UID:10004993-1289260800-1289260800@events.iliauni.edu.ge
SUMMARY:November 12 UniKino presents: “Diary for My Children”
DESCRIPTION:On Friday\, November 12\, 6pm UniKino presents Márta Mészáros’s “Diary for My Children” (1984) \nStarring: Zsuzsa Czinkóczi\, Teri Földi\, Anna Polony\, Ian Nowicki and others. \nAddress: 32 Ilia Chavchavadze Avenue\, building “A”\, room #101. \nAttendance is free of change. \n\n[wpai_display_imported_files_here]
URL:https://events.iliauni.edu.ge/event/november-12-unikino-presents-diary-for-my-children/
CATEGORIES:Unikino Shows
ATTACH;FMTTYPE=image/png:https://events.iliauni.edu.ge/wp-content/uploads/2025/09/cover_default.png
END:VEVENT
BEGIN:VEVENT
DTSTART;TZID=Asia/Dubai:20101102T000000
DTEND;TZID=Asia/Dubai:20101102T000000
DTSTAMP:20260422T051304
CREATED:20101101T200000Z
LAST-MODIFIED:20240202T094502Z
UID:10004947-1288656000-1288656000@events.iliauni.edu.ge
SUMMARY:November 5 UniKino presents: “Mystery Train”
DESCRIPTION:On Friday\, November 5\, 6pm UniKino presents Jim Jarmusch’s “Mystery Train” (1989) \nStarring: Masatoshi Nagase\, Youki Kudoh\, Scrimin’ Jay Hawkins\, Nicoletta Braschi and others. \nAddress: 32 Ilia Chavchavadze Avenue\, building “A”\, room #101. \nAttendance is free of change. \n\n[wpai_display_imported_files_here]
URL:https://events.iliauni.edu.ge/event/november-5-unikino-presents-mystery-train/
CATEGORIES:Unikino Shows
ATTACH;FMTTYPE=image/png:https://events.iliauni.edu.ge/wp-content/uploads/2025/09/cover_default.png
END:VEVENT
BEGIN:VEVENT
DTSTART;TZID=Asia/Dubai:20101025T000000
DTEND;TZID=Asia/Dubai:20101025T000000
DTSTAMP:20260422T051304
CREATED:20101024T200000Z
LAST-MODIFIED:20240202T094508Z
UID:10004951-1287964800-1287964800@events.iliauni.edu.ge
SUMMARY:October 29 UniKino presents: “Eyes Wide Shut”
DESCRIPTION:On Friday\, October 29\, 2010\, 6pm UniKino presents Stanley Kubrick’s “Eyes Wide Shut” (1999) \nStarring: Nicole Kidman\, Tom Cruise\, Sidney Pollack\, Peter Benson and others. \nAddress: 32 Ilia Chavchavadze Avenue\, building “A”\, room #101. \nAttendance is free of change. \n\n[wpai_display_imported_files_here]
URL:https://events.iliauni.edu.ge/event/october-29-unikino-presents-eyes-wide-shut/
CATEGORIES:Unikino Shows
ATTACH;FMTTYPE=image/png:https://events.iliauni.edu.ge/wp-content/uploads/2025/09/cover_default.png
END:VEVENT
BEGIN:VEVENT
DTSTART;TZID=Asia/Dubai:20101018T000000
DTEND;TZID=Asia/Dubai:20101018T000000
DTSTAMP:20260422T051304
CREATED:20101017T200000Z
LAST-MODIFIED:20240202T093820Z
UID:10004907-1287360000-1287360000@events.iliauni.edu.ge
SUMMARY:October 22\, 2010\, 6pm UniKino presents: “Ragtime”
DESCRIPTION:On Friday\, October 22\, 2010\, 6pm UniKino presents Milos Forman’ “Ragtime” (1981) \nStarring: James Cagney\, Elizabeth McGovern\, Mary Steenburgen\, Brad Dourif and others. \nAddress: 32 Ilia Chavchavadze Avenue\, building “A”\, room #101. \nAttendance is free of change. \n\n[wpai_display_imported_files_here]
URL:https://events.iliauni.edu.ge/event/october-22-2010-6pm-unikino-presents-ragtime/
CATEGORIES:Unikino Shows
ATTACH;FMTTYPE=image/png:https://events.iliauni.edu.ge/wp-content/uploads/2025/09/cover_default.png
END:VEVENT
BEGIN:VEVENT
DTSTART;TZID=Asia/Dubai:20101004T000000
DTEND;TZID=Asia/Dubai:20101004T000000
DTSTAMP:20260422T051304
CREATED:20101003T200000Z
LAST-MODIFIED:20240202T093441Z
UID:10004892-1286150400-1286150400@events.iliauni.edu.ge
SUMMARY:October 8\, UniKino presents Pedro Amodóvar’s “Broken Embraces”
DESCRIPTION:On Friday\, October 8\, 2010\, 6pm UniKino presents Pedro Amodóvar’s “Broken Embraces” (2009) \nStarring: Penólopa Cruz\, Lluís Homar\, Blanca Portillo\, José Luis Gomez etc. \nAddress: 32 Ilia Chavchavadze Avenue\, building “A”\, room #101. \nAttendance is free of change. \n\n[wpai_display_imported_files_here]
URL:https://events.iliauni.edu.ge/event/october-8-unikino-presents-pedro-amodovar-s-broken-embraces/
CATEGORIES:Unikino Shows
ATTACH;FMTTYPE=image/png:https://events.iliauni.edu.ge/wp-content/uploads/2025/09/cover_default.png
END:VEVENT
BEGIN:VEVENT
DTSTART;TZID=Asia/Dubai:20100929T000000
DTEND;TZID=Asia/Dubai:20100929T000000
DTSTAMP:20260422T051304
CREATED:20100928T200000Z
LAST-MODIFIED:20240202T093202Z
UID:10004886-1285718400-1285718400@events.iliauni.edu.ge
SUMMARY:Unikino screening “Waltz With Bashir” on October 1st\, 2010
DESCRIPTION:On Friday\, October 1\, 2010 6pm Unikino resumes its screenings with a documenary animation film “Waltz With Bashir” (2008). \nDirector: Ari Folman. Voices by: Ron Ben-Yishai\, Ronny Dyag\, Ari Folman\, Shmuel Frenkel etc. \nAttendance is free of charge. Address: 32 Ilia Chavchavadze Avenue\, Building “A”\, room #101. \n\n[wpai_display_imported_files_here]
URL:https://events.iliauni.edu.ge/event/unikino-screening-waltz-with-bashir-on-october-1st-2010/
CATEGORIES:Unikino Shows
ATTACH;FMTTYPE=image/png:https://events.iliauni.edu.ge/wp-content/uploads/2025/09/cover_default.png
END:VEVENT
BEGIN:VEVENT
DTSTART;TZID=Asia/Dubai:20100722T142900
DTEND;TZID=Asia/Dubai:20100722T142900
DTSTAMP:20260422T051305
CREATED:20100722T102919Z
LAST-MODIFIED:20240202T092811Z
UID:10004870-1279808940-1279808940@events.iliauni.edu.ge
SUMMARY:Unikino Says Goodbye Until October the 1st
DESCRIPTION:Unikino will resume its functioning on October the 1st. Please contact us and participate in translating of the  films. You can reach us at: unikino@iliauni.edu.ge \n\n[wpai_display_imported_files_here]
URL:https://events.iliauni.edu.ge/event/unikino-says-goodbye-until-october-the-1st/
CATEGORIES:Unikino Shows
ATTACH;FMTTYPE=image/png:https://events.iliauni.edu.ge/wp-content/uploads/2025/09/cover_default.png
END:VEVENT
END:VCALENDAR