BEGIN:VCALENDAR
VERSION:2.0
PRODID:-//უნივერსიტეტის ღონისძიებების პორტალი - ECPv6.2.8.2//NONSGML v1.0//EN
CALSCALE:GREGORIAN
METHOD:PUBLISH
X-ORIGINAL-URL:https://events.iliauni.edu.ge/en/
X-WR-CALDESC:Events for უნივერსიტეტის ღონისძიებების პორტალი
REFRESH-INTERVAL;VALUE=DURATION:PT1H
X-Robots-Tag:noindex
X-PUBLISHED-TTL:PT1H
BEGIN:VTIMEZONE
TZID:Asia/Dubai
BEGIN:STANDARD
TZOFFSETFROM:+0400
TZOFFSETTO:+0400
TZNAME:+04
DTSTART:20240101T000000
END:STANDARD
END:VTIMEZONE
BEGIN:VEVENT
DTSTART;TZID=Asia/Dubai:20240928T100000
DTEND;TZID=Asia/Dubai:20240928T160000
DTSTAMP:20260423T075055
CREATED:20240927T102828Z
LAST-MODIFIED:20240927T102925Z
UID:10005541-1727517600-1727539200@events.iliauni.edu.ge
SUMMARY:International Conference „Medicine and Innovation“
DESCRIPTION:In the framework of the project “InTech4MED – Innovation and Technology in Medicine” on September 28\, 2024\, the scientific conference “Medicine and Innovation” will be held. \nDate and timing: September 28th\, 10:00 – 16:00 \nVenue: Conference room G106\, Ilia State University (Giorgi Tsereteli str.\, #1)* \nTo attend event online\, please join zoom meeting: \n\nhttps://iliauni-edu-ge.zoom.us/j/85308294798?pwd=LSgWqG9BEmV5BgzM1JJv9IXsIoinwA.1\n\nMeeting ID: 853 0829 4798 \nPasscode: 847179 \nAim: Presentation of research projects and their results by young researchers and students in the fields of medicine\, biomedicine\, public health\, and related scientific directions. Promoting the development of research skills of young scientists and students through the implementation of interactive educational and practical activities \nTarget group: Young researchers\, doctoral and master’s students. \nWorking language: English
URL:https://events.iliauni.edu.ge/event/international-conference-medicine-and-innovation/
CATEGORIES:School of natural sciences and medicine
ATTACH;FMTTYPE=image/png:https://events.iliauni.edu.ge/wp-content/uploads/2024/09/web-eng-1.png
END:VEVENT
END:VCALENDAR