BEGIN:VCALENDAR
VERSION:2.0
PRODID:-//უნივერსიტეტის ღონისძიებების პორტალი - ECPv6.2.8.2//NONSGML v1.0//EN
CALSCALE:GREGORIAN
METHOD:PUBLISH
X-WR-CALNAME:უნივერსიტეტის ღონისძიებების პორტალი
X-ORIGINAL-URL:https://events.iliauni.edu.ge/en/
X-WR-CALDESC:Events for უნივერსიტეტის ღონისძიებების პორტალი
REFRESH-INTERVAL;VALUE=DURATION:PT1H
X-Robots-Tag:noindex
X-PUBLISHED-TTL:PT1H
BEGIN:VTIMEZONE
TZID:Asia/Dubai
BEGIN:STANDARD
TZOFFSETFROM:+0400
TZOFFSETTO:+0400
TZNAME:+04
DTSTART:20240101T000000
END:STANDARD
END:VTIMEZONE
BEGIN:VEVENT
DTSTART;TZID=Asia/Dubai:20240729T160000
DTEND;TZID=Asia/Dubai:20240729T180000
DTSTAMP:20260423T030635
CREATED:20240712T113206Z
LAST-MODIFIED:20240712T113518Z
UID:10005509-1722268800-1722276000@events.iliauni.edu.ge
SUMMARY:Course for Young Researchers „Medical Data Analysis“
DESCRIPTION:In the framework of the project “InTech4MED – Innovation and Technology in Medicine” on July 29 – August 2\, 2024\, the course “Medical Data Analysis” will be held. \nAim: Promoting the development of research skills of young scientists and students \nTarget group: Young researchers\, doctoral and master’s students. \nThose who wish to participate in the training must register in advance. \nTo register\, follow the link https://shorturl.at/tlY2H \nWorking language: English \nDate and timing: July 29 – August 2\, 16:00 \nVenue: Conference room G106\, Ilia State University (Giorgi Tsereteli str.\, #1) \n 
URL:https://events.iliauni.edu.ge/event/course-for-young-researchers-medical-data-analysis/
CATEGORIES:Events,School of natural sciences and medicine
ATTACH;FMTTYPE=image/png:https://events.iliauni.edu.ge/wp-content/uploads/2024/07/WEB-ENG.png
END:VEVENT
END:VCALENDAR