BEGIN:VCALENDAR
VERSION:2.0
PRODID:-//უნივერსიტეტის ღონისძიებების პორტალი - ECPv6.2.8.2//NONSGML v1.0//EN
CALSCALE:GREGORIAN
METHOD:PUBLISH
X-ORIGINAL-URL:https://events.iliauni.edu.ge/en/
X-WR-CALDESC:Events for უნივერსიტეტის ღონისძიებების პორტალი
REFRESH-INTERVAL;VALUE=DURATION:PT1H
X-Robots-Tag:noindex
X-PUBLISHED-TTL:PT1H
BEGIN:VTIMEZONE
TZID:Asia/Dubai
BEGIN:STANDARD
TZOFFSETFROM:+0400
TZOFFSETTO:+0400
TZNAME:+04
DTSTART:20240101T000000
END:STANDARD
END:VTIMEZONE
BEGIN:VEVENT
DTSTART;TZID=Asia/Dubai:20240628T160000
DTEND;TZID=Asia/Dubai:20240628T180000
DTSTAMP:20260423T055011
CREATED:20240626T072113Z
LAST-MODIFIED:20240626T133736Z
UID:10005483-1719590400-1719597600@events.iliauni.edu.ge
SUMMARY:PUBLIC LECTURES BY PROFESSOR MIHAIL “MISHA” ZILBERMINT
DESCRIPTION:On June 28\, at 16:00\, in the G106 auditorium of Ilia State University\, in collaboration with the Georgian Association of Endocrinology and Metabolism\, Professor Mihail “Misha” Zilbermint from Johns Hopkins University\, a distinguished figure in the field of endocrinology\, will deliver the following two public lectures: \n\nEndocrine Hospitalist: Improving the Quality of Diabetes Care\nInpatient Diabetes Management (Surprisingly Simple)\n\nWorking Language: English \nDate and Time: June 28\, 16:00 -18:00 \nLocation: Ilia State University\, Auditorium G106\,  N1 G. Tsereteli Street \nEveryone interested is welcome.
URL:https://events.iliauni.edu.ge/event/public-lectures-by-professor-mihail-misha-zilbermint/
CATEGORIES:School of natural sciences and medicine
ATTACH;FMTTYPE=image/png:https://events.iliauni.edu.ge/wp-content/uploads/2024/06/2727f3444be16cd4bc9c8b68a629c6bb_83907.png
END:VEVENT
END:VCALENDAR