BEGIN:VCALENDAR
VERSION:2.0
PRODID:-//უნივერსიტეტის ღონისძიებების პორტალი - ECPv6.2.8.2//NONSGML v1.0//EN
CALSCALE:GREGORIAN
METHOD:PUBLISH
X-WR-CALNAME:უნივერსიტეტის ღონისძიებების პორტალი
X-ORIGINAL-URL:https://events.iliauni.edu.ge/en/
X-WR-CALDESC:Events for უნივერსიტეტის ღონისძიებების პორტალი
REFRESH-INTERVAL;VALUE=DURATION:PT1H
X-Robots-Tag:noindex
X-PUBLISHED-TTL:PT1H
BEGIN:VTIMEZONE
TZID:Asia/Dubai
BEGIN:STANDARD
TZOFFSETFROM:+0400
TZOFFSETTO:+0400
TZNAME:+04
DTSTART:20240101T000000
END:STANDARD
END:VTIMEZONE
BEGIN:VEVENT
DTSTART;TZID=Asia/Dubai:20241119T180000
DTEND;TZID=Asia/Dubai:20241119T190000
DTSTAMP:20260422T062800
CREATED:20241118T080300Z
LAST-MODIFIED:20241121T100654Z
UID:10005603-1732039200-1732042800@events.iliauni.edu.ge
SUMMARY:Immersive Technologies for the Future of Film: XR and AI
DESCRIPTION:On November 19th at 18:00 Technological Entrepreneurship and Innovation Development  Center of  Ilia State University together with Film XR invites you to an event – “Immersive Technologies for the Future of Film: XR and AI” \nThe event will cover the impact of XR and AI technologies on the modern film and cultural industries: \n\nLatest trends in the XR industry and an overview of the market\nOpportunities for using AI technologies in film and video production\n\nAfter the presentations\, there will be a showcase of VR projects/films\, featuring 10 well-known animation projects created with virtual reality and immersive tools. \nAttendees will be able to use VR headsets to experience some of the world renowned XR works created in France\, including projects that have won Emmy and Venice Film Festival Award. \nregistration link for the event: https://forms.gle/WwgwUSs51dAe9zY37 \nDate: November 19th \nTime: 18:00 \nLocation: Auditorium G106\, Ilia State University\, 1 Giorgi Tsereteli Street\, Building G \nLanguage: English \nFor more information\, please contact: fablab@iliauni.edu.ge
URL:https://events.iliauni.edu.ge/event/immersive-technologies-for-the-future-of-film-xr-and-ai/
CATEGORIES:Events,School of business, technology and education
ATTACH;FMTTYPE=image/jpeg:https://events.iliauni.edu.ge/wp-content/uploads/2024/11/FABLAB.jpg
END:VEVENT
BEGIN:VEVENT
DTSTART;TZID=Asia/Dubai:20241129T160000
DTEND;TZID=Asia/Dubai:20241129T170000
DTSTAMP:20260422T062800
CREATED:20241120T090503Z
LAST-MODIFIED:20241127T102732Z
UID:10005613-1732896000-1732899600@events.iliauni.edu.ge
SUMMARY:Transparent Conductive Oxide Thin Film and Its Applications in Lasers – Public Lecture by Yuanan Zhao
DESCRIPTION:On November 29\, at 16:00\, in Auditorium T102 at Ilia State University (ISU)\, Yuanan Zhao\, a professor at Shanghai Institute of Optics and Fine Mechanics\, will deliver a seminar titled “Transparent Conductive Oxide Thin Film and Its Applications in Lasers.” \nOrganized by Avtandil Tavkhelidze\, a professor of the School of Technology\, the visit of a group of Chinese scientists to ISU at the end of November aims to foster closer ties with Iliauni’s research staff\, explore the university’s laboratories\, and deepen cooperation between the institutions. \nWorking Language: English \nDate/Time: November 29\, 16:00 \nLocation: Ilia State University\, Auditorium T102\, 3/5 K. Cholokashvili Ave. \nEveryone is welcome to attend. \n  \n 
URL:https://events.iliauni.edu.ge/event/transparent-conductive-oxide-thin-film-and-its-applications-in-lasers-public-lecture-by-yuanan-zhao/
CATEGORIES:School of business, technology and education
ATTACH;FMTTYPE=image/png:https://events.iliauni.edu.ge/wp-content/uploads/2024/11/tech-1.png
END:VEVENT
END:VCALENDAR