BEGIN:VCALENDAR
VERSION:2.0
PRODID:-//უნივერსიტეტის ღონისძიებების პორტალი - ECPv6.2.8.2//NONSGML v1.0//EN
CALSCALE:GREGORIAN
METHOD:PUBLISH
X-ORIGINAL-URL:https://events.iliauni.edu.ge/en/
X-WR-CALDESC:Events for უნივერსიტეტის ღონისძიებების პორტალი
REFRESH-INTERVAL;VALUE=DURATION:PT1H
X-Robots-Tag:noindex
X-PUBLISHED-TTL:PT1H
BEGIN:VTIMEZONE
TZID:Asia/Dubai
BEGIN:STANDARD
TZOFFSETFROM:+0400
TZOFFSETTO:+0400
TZNAME:+04
DTSTART:20240101T000000
END:STANDARD
END:VTIMEZONE
BEGIN:VEVENT
DTSTART;TZID=Asia/Dubai:20241016T180000
DTEND;TZID=Asia/Dubai:20241016T190000
DTSTAMP:20260422T014339
CREATED:20240912T095628Z
LAST-MODIFIED:20240912T095753Z
UID:10005520-1729101600-1729105200@events.iliauni.edu.ge
SUMMARY:Presentation of the book "Parakletike"
DESCRIPTION:On October 16\, at 18:00\, a presentation of the prepared book ‘Parakletike’ will be held by Prof. Irina Lobzhanidze in the G 106 Auditorium of Ilia State University (see http://manuscript.iliauni.edu.ge/). \nIrina Lobzhanidze will present to the academic community the results of a joint research program between the University of Oxford and the Shota Rustaveli National Science Foundation of Georgia\, focused on Georgian studies. Specifically\, she will introduce the Wardrop Collection Online (WCO)\, which includes a 12th-century Georgian manuscript\, the Parakletike\, preserved in the Bodleian Library. Additionally\, she will present the published text of the manuscript MS. Wardr. d. 1 \, a result of the Shota Rustaveli National Science Foundation of Georgia’s Publishing State Scientific Grants competition (SP-23-685). \nThe editors of the book\, Nino Doborjginidze and Tamaz Kochlamazashvili\, will talk about the necessity of using modern technologies in documenting and researching the manuscript heritage preserved in Georgia\, on the educational and research programs introduced in this direction\, as well as on the textual issues of the Parakletike. \nJoin Zoom Meeting ID 824 3872 2663 \n\nhttps://iliauni-edu-ge.zoom.us/j/82438722663?pwd=aRHIMmsVQNbjAmDMV0Qmbaa6uhOSNb.1\n\nPasscode: 209768 \nTime: October 16\, 18:00 p.m. \nVenue: G 106 Auditorium\, Ilia State University (G. Tsereteli St. #1) \nWorking language: Georgian \nAttendance is free.
URL:https://events.iliauni.edu.ge/event/presentation-of-the-book-parakletike/
CATEGORIES:School of arts and sciences
ATTACH;FMTTYPE=image/png:https://events.iliauni.edu.ge/wp-content/uploads/2024/09/web-metsn-khel-tsignis-prezentatsia-eng-1.png
END:VEVENT
END:VCALENDAR