BEGIN:VCALENDAR
VERSION:2.0
PRODID:-//უნივერსიტეტის ღონისძიებების პორტალი - ECPv6.2.8.2//NONSGML v1.0//EN
CALSCALE:GREGORIAN
METHOD:PUBLISH
X-ORIGINAL-URL:https://events.iliauni.edu.ge/en/
X-WR-CALDESC:Events for უნივერსიტეტის ღონისძიებების პორტალი
REFRESH-INTERVAL;VALUE=DURATION:PT1H
X-Robots-Tag:noindex
X-PUBLISHED-TTL:PT1H
BEGIN:VTIMEZONE
TZID:Asia/Dubai
BEGIN:STANDARD
TZOFFSETFROM:+0400
TZOFFSETTO:+0400
TZNAME:+04
DTSTART:20240101T000000
END:STANDARD
END:VTIMEZONE
BEGIN:VEVENT
DTSTART;TZID=Asia/Dubai:20241120T080000
DTEND;TZID=Asia/Dubai:20241120T170000
DTSTAMP:20260421T203457
CREATED:20241107T091505Z
LAST-MODIFIED:20241111T121355Z
UID:10005581-1732089600-1732122000@events.iliauni.edu.ge
SUMMARY:PR Days 2024
DESCRIPTION:On November 15 at 20:00\, the annual international forum on strategic communications\, “Tbilisi PR Days 2024\,” will be held via Zoom. \nThe forum aims to share international experiences\, develop strategic communications in Georgia\, and connect interested individuals with leading experts from relevant sectors. \nAt the forum\, the top global specialists in strategic communications will discuss this year’s key topic\, “PR and Gen Z.” \nInvited Speakers: \n\nBrian Smith – Department Chair and Professor University of Mississippi. Theme: “Strategic Communications Across Generations” (USA)\nNate Bernolet – Chief Executive Officer Theme: “The Power of Gen Z: How Values and Digital Engagement Influence Buyer Decision-Making” (UK)\nAnsgar Zerfass – Chair of Strategic Communication at the Institute of Communication and Media Studies at Leipzig University. Theme: “Strategiccommunication: What research tells us and what practitioners should keep in mind” (GERMANY)\nAdam Stezewski – Head of Social Media Management at MADIVO E-Commerce. Theme: “Social Media Management Across Generations” (POLAND)\n\nIlia State University is the main partner of the event. \nWorking Language: English \nFor registration: https://shorturl.at/T0D6b
URL:https://events.iliauni.edu.ge/event/pr-days-2024/
CATEGORIES:Events
ATTACH;FMTTYPE=image/jpeg:https://events.iliauni.edu.ge/wp-content/uploads/2024/11/web-pr-days-2024-eng.jpg
END:VEVENT
BEGIN:VEVENT
DTSTART;TZID=Asia/Dubai:20241120T110000
DTEND;TZID=Asia/Dubai:20241120T120000
DTSTAMP:20260421T203457
CREATED:20241118T095656Z
LAST-MODIFIED:20241121T101646Z
UID:10005605-1732100400-1732104000@events.iliauni.edu.ge
SUMMARY:Horizon Europe - Funding Opportunities for Doctorate Students\, Postdocs and Young Researchers!
DESCRIPTION:On November 20 at 11:00\, the National Office of “Horizon Europe” will host an online informational session on the diverse funding schemes available through the “Horizon Europe” programme. Learn about opportunities with Marie Skłodowska-Curie Actions (MSCA)\, the European Research Council (ERC)\, COST\, and more. \nWorking language: Georgian \nJoin us online via Zoom \nPlease see the Agenda  https://shorturl.at/MYu0V
URL:https://events.iliauni.edu.ge/event/horizon-europe-funding-opportunities-for-doctorate-students-postdocs-and-young-researchers/
CATEGORIES:Events
ATTACH;FMTTYPE=image/jpeg:https://events.iliauni.edu.ge/wp-content/uploads/2024/11/horizonti-1.jpg
END:VEVENT
END:VCALENDAR