BEGIN:VCALENDAR
VERSION:2.0
PRODID:-//უნივერსიტეტის ღონისძიებების პორტალი - ECPv6.2.8.2//NONSGML v1.0//EN
CALSCALE:GREGORIAN
METHOD:PUBLISH
X-ORIGINAL-URL:https://events.iliauni.edu.ge/en/
X-WR-CALDESC:Events for უნივერსიტეტის ღონისძიებების პორტალი
REFRESH-INTERVAL;VALUE=DURATION:PT1H
X-Robots-Tag:noindex
X-PUBLISHED-TTL:PT1H
BEGIN:VTIMEZONE
TZID:Asia/Dubai
BEGIN:STANDARD
TZOFFSETFROM:+0400
TZOFFSETTO:+0400
TZNAME:+04
DTSTART:20240101T000000
END:STANDARD
END:VTIMEZONE
BEGIN:VEVENT
DTSTART;TZID=Asia/Dubai:20241118T120000
DTEND;TZID=Asia/Dubai:20241118T170000
DTSTAMP:20260421T203457
CREATED:20241111T092824Z
LAST-MODIFIED:20241121T100352Z
UID:10005592-1731931200-1731949200@events.iliauni.edu.ge
SUMMARY:International Students Day!
DESCRIPTION:International Students’ Day is commemorated globally by universities as a tribute to Czech patriotic students on November 17th. \nIlia State University\, with the participation of both local and international students\, will host an exciting event featuring a variety of engaging activities on November 18th\, including: \n\nPhoto competition\nBoard games\nCultural and sports activities\nFilm screening\n\nDon’t miss the chance to participate and enjoy the festivities! \nDate: November 18 \nTime: 12 pm – 5 pm \nLocation: G building \n2024
URL:https://events.iliauni.edu.ge/event/international-students-day/
CATEGORIES:Events
ATTACH;FMTTYPE=image/jpeg:https://events.iliauni.edu.ge/wp-content/uploads/2024/11/studenttha-saerthashoriso.jpg
END:VEVENT
END:VCALENDAR