BEGIN:VCALENDAR
VERSION:2.0
PRODID:-//უნივერსიტეტის ღონისძიებების პორტალი - ECPv6.2.8.2//NONSGML v1.0//EN
CALSCALE:GREGORIAN
METHOD:PUBLISH
X-ORIGINAL-URL:https://events.iliauni.edu.ge/en/
X-WR-CALDESC:Events for უნივერსიტეტის ღონისძიებების პორტალი
REFRESH-INTERVAL;VALUE=DURATION:PT1H
X-Robots-Tag:noindex
X-PUBLISHED-TTL:PT1H
BEGIN:VTIMEZONE
TZID:Asia/Dubai
BEGIN:STANDARD
TZOFFSETFROM:+0400
TZOFFSETTO:+0400
TZNAME:+04
DTSTART:20240101T000000
END:STANDARD
END:VTIMEZONE
BEGIN:VEVENT
DTSTART;TZID=Asia/Dubai:20240928T100000
DTEND;TZID=Asia/Dubai:20240928T160000
DTSTAMP:20260422T075731
CREATED:20240927T102828Z
LAST-MODIFIED:20240927T102925Z
UID:10005541-1727517600-1727539200@events.iliauni.edu.ge
SUMMARY:International Conference „Medicine and Innovation“
DESCRIPTION:In the framework of the project “InTech4MED – Innovation and Technology in Medicine” on September 28\, 2024\, the scientific conference “Medicine and Innovation” will be held. \nDate and timing: September 28th\, 10:00 – 16:00 \nVenue: Conference room G106\, Ilia State University (Giorgi Tsereteli str.\, #1)* \nTo attend event online\, please join zoom meeting: \n\nhttps://iliauni-edu-ge.zoom.us/j/85308294798?pwd=LSgWqG9BEmV5BgzM1JJv9IXsIoinwA.1\n\nMeeting ID: 853 0829 4798 \nPasscode: 847179 \nAim: Presentation of research projects and their results by young researchers and students in the fields of medicine\, biomedicine\, public health\, and related scientific directions. Promoting the development of research skills of young scientists and students through the implementation of interactive educational and practical activities \nTarget group: Young researchers\, doctoral and master’s students. \nWorking language: English
URL:https://events.iliauni.edu.ge/event/international-conference-medicine-and-innovation/
CATEGORIES:School of natural sciences and medicine
ATTACH;FMTTYPE=image/png:https://events.iliauni.edu.ge/wp-content/uploads/2024/09/web-eng-1.png
END:VEVENT
BEGIN:VEVENT
DTSTART;TZID=Asia/Dubai:20240928T120000
DTEND;TZID=Asia/Dubai:20240928T170000
DTSTAMP:20260422T075731
CREATED:20240913T084019Z
LAST-MODIFIED:20240913T142819Z
UID:10005525-1727524800-1727542800@events.iliauni.edu.ge
SUMMARY:Iliauni Science Picnic 2024
DESCRIPTION:On September 28\, from 12:00 to 17:00\, Ilia State University will host the Science Picnic 2024 in the university yard. \nThe Science Picnic aims to popularize science and showcase modern scientific achievements in an engaging way for guests of all ages. \nIliauni scientists and science promotion groups will offer intriguing experiments\, interactive exhibitions\, and educational entertainment programs in the Iliauni yard. \nAt the picnic\, guests will experience captivating activities demonstrating the fascinating principles of physics\, chemistry\, biology\, and other sciences. \nIn addition to experiments and demonstrations\, Tbilisi Zoo\, international educational organizations\, public and private schools\, and private organizations will showcase various technological innovations and introduce you to their research and achievements. \nOur Science Picnic is more than just fun and games – it’s an opportunity to contribute to UN Sustainable Development Goal 4: Quality Education – “Ensure inclusive\, equitable\, quality education\, and promote lifelong learning opportunities for all.” \n Why Our Science Picnic Matters for SDG 4: \n\nHands-On Learning: Interactive science experiments and demonstrations promote critical thinking\, curiosity\, and problem-solving skills;\nInclusive education: The Ilauni Science Picnic is for all\, providing access to high-quality educational opportunities regardless of age or experience.\nEncouraging Lifelong Learning: Picnic helps both children and adults explore the wonders of science. Its goal is to spark a lifelong passion for learning.\n\nAfter the conclusion of the Science picnic\,  the welcome party and concert for the first-year students will take place on the event’s main stage. \nDate/Time: September 28\, 12:00 -17:00 \nLocation: Ilia State University yard\, K. Cholokashvili Ave 3/5 \nEveryone interested is welcome. \n2024
URL:https://events.iliauni.edu.ge/event/iliauni-science-picnic-2024/
CATEGORIES:Events
ATTACH;FMTTYPE=image/png:https://events.iliauni.edu.ge/wp-content/uploads/2024/09/pharda-picnic-2024-eng.png
END:VEVENT
BEGIN:VEVENT
DTSTART;TZID=Asia/Dubai:20240928T190000
DTEND;TZID=Asia/Dubai:20240928T220000
DTSTAMP:20260422T075731
CREATED:20240916T115404Z
LAST-MODIFIED:20240916T115521Z
UID:10005528-1727550000-1727560800@events.iliauni.edu.ge
SUMMARY:WELCOME PARTY 2024 for Iliauni First-Year Students
DESCRIPTION:Join us for a special Welcome Party for the first-year students on September 28 at 19:00 in the Iliauni Courtyard of Building E. \nProfessor Nino Doborjginidze\, Rector of Ilia State University\, and Ketevan Darakhvelidze\, Head of Administration\, will begin the evening with heartfelt congratulations on the start of their academic journey. \nWe will traditionally reward those first-year students who have successfully passed the Unified National Examinations and those who have distinguished themselves through Iliauni’s scholarship programs. \nFollowing the awards\, enjoy a live concert featuring Tape Visitors and MORB. \nWe congratulate you on starting the academic year and looking forward to seeing you! \nDate and Time: September 28\, 19:00 \nLocation: Building E Courtyard\, Ilia State University (3/5 K. Cholokashvili Avenue) \nEveryone interested is welcome. \n 
URL:https://events.iliauni.edu.ge/event/welcome-party-2024-for-iliauni-first-year-students/
CATEGORIES:Events
ATTACH;FMTTYPE=image/png:https://events.iliauni.edu.ge/wp-content/uploads/2024/09/pharda.png
END:VEVENT
END:VCALENDAR