BEGIN:VCALENDAR
VERSION:2.0
PRODID:-//უნივერსიტეტის ღონისძიებების პორტალი - ECPv6.2.8.2//NONSGML v1.0//EN
CALSCALE:GREGORIAN
METHOD:PUBLISH
X-WR-CALNAME:უნივერსიტეტის ღონისძიებების პორტალი
X-ORIGINAL-URL:https://events.iliauni.edu.ge/en/
X-WR-CALDESC:Events for უნივერსიტეტის ღონისძიებების პორტალი
REFRESH-INTERVAL;VALUE=DURATION:PT1H
X-Robots-Tag:noindex
X-PUBLISHED-TTL:PT1H
BEGIN:VTIMEZONE
TZID:Asia/Dubai
BEGIN:STANDARD
TZOFFSETFROM:+0400
TZOFFSETTO:+0400
TZNAME:+04
DTSTART:20230101T000000
END:STANDARD
END:VTIMEZONE
BEGIN:VEVENT
DTSTART;TZID=Asia/Dubai:20230708T100000
DTEND;TZID=Asia/Dubai:20230708T100000
DTSTAMP:20260424T193539
CREATED:20230627T080037Z
LAST-MODIFIED:20240202T090553Z
UID:10000029-1688810400-1688810400@events.iliauni.edu.ge
SUMMARY:AWS Game Day Georgia
DESCRIPTION:Unicorn Rentals\, are you ready for the journey to AWS microservices? AWS User Group Tbilisi invites all to participate in AWS Game Day in Georgia. \nWhat is AWS Game Day? \nGameDay is a collaborative learning exercise that tests skills in implementing AWS solutions to solve real-world problems in a gamified\, risk-free environment. This is a completely hands-on opportunity for technical professionals to explore AWS services\, architecture patterns\, best practices\, and group cooperation. \nDuring the event\, AWS will provide all of the infrastructure and technology that you need in order to work through the different scenarios. Each team will be provided with login credentials at the event that will provide access to an AWS account. The game will kick off after a brief intro presentation delivered by the Unicorn.Rentals staff members. Every team (up to 4 people) gets the dashboard with the tasks\, that have to be solved in different flavors. There is no one right answer; teams have their own path based on the resources we provide them with in live AWS accounts. \nParticipants should be prepared to work extensively in the AWS Management Console and use live AWS services to apply their technical knowledge to the challenges. The events cover a wide variety of cloud domains\, so as long as you have some experience working on AWS\, there will be loads of work for you to do! \nHow can I Participate? \nTo participate\, you need to register by the link (below). We will add you to a team of new colleagues at the event. If you want to participate in a team of friends\, let the staff members know. \nIMPORTANT: If you participate with a team\, each member should register individually \nIMPORTANT: Organizers can change the composition of a team to balance the experience level of participants \nWhat are the participation requirements? \n\nFundamentals of AWS and Microservices\nFluent English for communication during the event\nLaptop and adapter for hands-on participation\nFirefox or Chrome browser\n\nAgenda: \n\n10:00 – 10:30 – Registration\n10:30 – 10:45 – Welcome notes\n11:00 – 17:00 – AWS Game Day competition\n17::00 – 18:00 – TCP Networking with community\n\nRegistration Form: https://bit.ly/43qH3eo \nWorking Language: English \nTime: 8 th of July\, 10:00 (UTC+4) \nLocation: Ilia State University\, T404-406 (UniLab) Auditorium\, Building T. 3/5 Cholokashvili Ave. \nAttendance is free of charge. \n2023 \n  \n\n			\n				\n			\n			\n				\n			\n		\n\n[wpai_display_imported_files_here]
URL:https://events.iliauni.edu.ge/event/aws-game-day-georgia/
CATEGORIES:Events
ATTACH;FMTTYPE=image/png:https://events.iliauni.edu.ge/wp-content/uploads/2023/06/78285.png
END:VEVENT
END:VCALENDAR