BEGIN:VCALENDAR
VERSION:2.0
PRODID:-//უნივერსიტეტის ღონისძიებების პორტალი - ECPv6.2.8.2//NONSGML v1.0//EN
CALSCALE:GREGORIAN
METHOD:PUBLISH
X-WR-CALNAME:უნივერსიტეტის ღონისძიებების პორტალი
X-ORIGINAL-URL:https://events.iliauni.edu.ge/en/
X-WR-CALDESC:Events for უნივერსიტეტის ღონისძიებების პორტალი
REFRESH-INTERVAL;VALUE=DURATION:PT1H
X-Robots-Tag:noindex
X-PUBLISHED-TTL:PT1H
BEGIN:VTIMEZONE
TZID:Asia/Dubai
BEGIN:STANDARD
TZOFFSETFROM:+0400
TZOFFSETTO:+0400
TZNAME:+04
DTSTART:20230101T000000
END:STANDARD
END:VTIMEZONE
BEGIN:VEVENT
DTSTART;TZID=Asia/Dubai:20230618T120000
DTEND;TZID=Asia/Dubai:20230618T120000
DTSTAMP:20260424T224048
CREATED:20230615T082043Z
LAST-MODIFIED:20240202T090613Z
UID:10000018-1687089600-1687089600@events.iliauni.edu.ge
SUMMARY:BOOK FRIENDS AND IDEATORS CLUBS OVERVIEW EVENT
DESCRIPTION:On June 18\, at 12:00 pm\, the School of Education at Ilia State University will host a special event. An overview of the activities carried out by two clubs\, Book Friends and Ideators\, will be presented. \nAt the event\, schoolchildren will showcase books and their interactive versions created under the guidance of both students and teachers \nAs part of the USAID Basic Education Program\, the Iliauni School of Education implements the projects “Book Friends Club” and “Ideators Club” in 10 public schools in Kvemo Kartli\, with the support of Cyber Laboratory UniLab. Elementary students\, mentored by trainee teachers and school teachers\, create handmade books and their interactive versions. \nThe project has brought together 120 schoolchildren\, 21 teachers\, and 10 student mentors.  In total\, 72 digital and handmade projects have been prepared. \nOn June 18\, the participants of the project will visit the university. They will showcase their handmade books and\, with the help of student mentors\, deliver brief presentations to introduce digital books. The schools will be awarded different sets of children’s books. \nCooperation between schoolchildren\, students\, and teachers is an important process. The project helps teachers introduce innovative teaching methods\, and share their experiences with students\, and it lets the schoolchildren develop their creative skills and provides them with exciting and unforgettable experiences. \nSpecifically for this project\, the Iliauni Cyber Lab has developed a website https://ibook.iliauni.edu.ge/The interactive versions of the books created by the participants have been uploaded to the website and are now accessible to everyone. \nDate and Time: June 18\, 12:00 \nLocation: Auditorium T102\, Technology Building (3/5 K. Cholokashvili St.\, opposite Vake Park) \nWorking language: Georgian \nAttendance is free. \n2023 \n\n			\n				\n			\n			\n				\n			\n		\n\n[wpai_display_imported_files_here]
URL:https://events.iliauni.edu.ge/event/book-friends-and-ideators-clubs-overview-event/
CATEGORIES:Events
ATTACH;FMTTYPE=image/png:https://events.iliauni.edu.ge/wp-content/uploads/2023/06/77390.png
END:VEVENT
END:VCALENDAR